{"text_format":"1","workbook":"xlsx","n_sheets":12,"sheets":["Cover Sheet","Version Notes","STU Treatment Values","IC Treatment Values","Non-Discharge Areas","Worksheet A-Scoping","LID & STUs","Worksheet B-30%","Worksheet B-90%","Worksheet C-As Built","STU Tiers","Domains"],"not_rendered":{"charts":0,"images":3,"macros":1,"external_links":0,"defined_names":10,"comments":0,"pivot_tables":0},"unopened":[],"bounds":{"document_bytes":16777216,"sheet_cells":100000,"rows_first":2000,"rows_last":500,"rows_between":2000,"halvings":0,"cell_chars":16384,"cell_head_chars":4096},"cells_cut":0,"cells_raw":0,"read":"whole","date_system":"1900"}

{"sheet":"Cover Sheet","index":0,"n_rows":14,"n_cols":7,"rows_kept":14,"cut":false,"hidden":false,"merged":[[10,1,13,2],[8,1,9,2],[1,1,1,4],[3,1,5,4],[7,1,7,2]]}
[]
[null,"Stormwater Design Worksheets\nThis series of worksheets has been developed to determine RIDOT project stormwater treatment goals and STU water quality treatement credit to support compliance with RIDOT's Consent Decree and Linear Manual.\n\nFor more information and guidance, refer to the RIDOT Stormwater Worksheets Help Document."]
[null,null,null,null,null,"Project ID:"]
[null,"User Notes\n•   White cells with blue text designate an input is required.\n•   Grey cells contain formulas and should not be altered. \n•   Cells denoted with * indicate input must be one of a controlled list (see pull down).",null,null,null,"Location:"]
[null,null,null,null,null,"Municipality:"]
[null,null,null,null,null,"Worksheet Version Date: ","2022-08-02"]
[]
[null,"Sheet Summary",null,"Sheet","Description"]
[null,"Calculation Tabs",null,"Non-Discharge Areas","Documents non-discharge areas (RIDOT areas where runoff does not reach the impaired water body) within project limits.  Non-discharge areas do not require additional evaluation for stormwater and are subtracted from the post-construction impervious surface requiring treatment. \n\nNon-discharge areas entered on this tab are summarized by WBID in Rows G & J of Worksheet A-Scoping. "]
[null,null,null,"LID & STUs","Documents existing and proposed controls for stormwater treatment and calculates water quality treatment credit (in units of Effective Acres of Impervious Cover).  Stormwater controls include existing STUs, existing IC Disconnection, pavement removal, redirecting drainage to a non-discharge or IC Disconnection area, upgrades to existing STUs, and new structural STUs.  \n\nTreatment from STUs entered on this tab is auto populated by WBID in Rows C - E of Worksheets B-30%, B-90%, & C-As Built, and Rows F - K of Worksheets B-90% & C-As Built. "]
[null,"Stormwater Design Worksheets",null,"Worksheet A-Scoping","Calculates project stormwater treatment goal, accounting for non-discharge areas. This worksheet should be completed during scoping."]
[null,null,null,"Worksheet B-30%","Summarizes stormwater treatment provided by existing STUs, existing IC Disconnection areas and proposed pavement removal. This worksheet should be completed during the 30% design submission."]
[null,null,null,"Worksheet B-90%","Summarizes stormwater treatment identified during 30% design as well as additional proposed STUs (redirecting drainage to a non-discharge or IC Disconnection area, Tier 1-3 structural STUs). This worksheet should be completed during the 90% design submission."]
[null,null,null,"Worksheet C-As Built","Documents as-built stormwater treatment provided by STUs.  This worksheets should be completed after construction."]

{"sheet":"Version Notes","index":1,"n_rows":4,"n_cols":3,"rows_kept":4,"cut":false,"hidden":true,"merged":[]}
["Version Notes - RIDOT USE ONLY"]
["Date","Updated By","Update"]
["2019-07-22","VHB ","-added tab for the OSM review checklist (Review Checklist).  Adjusted formatting (i.e., merged cells) on other tabs to allow this tab to auto-populate upfront project information.  \n-added tab for RIDOT STU History (pulls information from the Tables tab in the format matching the STU GIS layer so that the data can be easily loaded from this spreadsheet into GIS).\n-updated pick list for BMP Type to match the STU GIS layer domain. \n-added WBID to Table 5-2 (Tables tab)."]
["6/23/2022 (working)","VHB ","-standardized units to all be in acres, and treatment to be in acres Effective IC\n-separated Worksheet B in B-1 (scoping), B-2 (design), and C (as-builts/documentation)\n-created STU tab based on SCP Calculator to calculate and account for treatment received from all STUs. Based on Tables tab in original Worksheet A & B\n-added non-discharging area to worksheet A\n-added existing and proposed IC disconnect, proposed non-discharge, proposed pavement removal, existing STUs to Worksheet B-1, B-2, and C"]

{"sheet":"STU Treatment Values","index":2,"n_rows":289,"n_cols":47,"rows_kept":289,"cut":false,"hidden":true,"merged":[[254,1,254,10],[3,1,3,10],[3,13,3,22],[3,25,3,34],[3,37,3,46],[38,1,38,10],[38,13,38,22],[38,25,38,34],[38,37,38,46],[74,1,74,10],[110,1,110,10],[146,1,146,10],[182,1,182,10],[218,1,218,10]]}
[]
["This reference tab includes STU pollutant treatment values used in water quality calculations to calculate treatment credit.  These values should not be altered."]
[]
["Total Phosphorus","Depth of Runoff Treated from Impervious Area (inches) (>50% IC)",null,null,null,null,null,null,null,null,null,null,"Total Suspended Solids","Depth of Runoff Treated from Impervious Area (inches) (>50% IC)",null,null,null,null,null,null,null,null,null,null,"Total Nitrogen","Depth of Runoff Treated from Impervious Area (inches) (>50% IC)",null,null,null,null,null,null,null,null,null,null,"Total Zinc","Depth of Runoff Treated from Impervious Area (inches) (>50% IC)"]
["Treatment Category:",0,0.1,0.2,0.4,0.6,0.8,1,1.5,2,20,null,"Treatment Category:",0,0.1,0.2,0.4,0.6,0.8,1,1.5,2,20,null,"Treatment Category:",0,0.1,0.2,0.4,0.6,0.8,1,1.5,2,20,null,"Treatment Category:",0,0.1,0.2,0.4,0.6,0.8,1,1.5,2,20]
["Shallow Infiltration (sandy clay)",0,0.251,0.38150000000000001,0.56510000000000005,0.68840000000000001,0.7732,0.83350000000000002,0.92420000000000002,0.96619999999999995,{"$f":"J6","v":0.96619999999999995},null,"Shallow Infiltration (sandy clay)",0,0.62960000000000005,0.79559999999999997,0.90720000000000001,0.94299999999999995,0.96079999999999999,0.97250000000000003,0.98819999999999997,0.99490000000000001,{"$f":"V6","v":0.99490000000000001},null,"Shallow Infiltration (sandy clay)",0,0.49690000000000001,0.63859999999999995,0.7823,0.85870000000000002,0.90459999999999996,0.93420000000000003,0.97330000000000005,0.98899999999999999,{"$f":"AH6","v":0.98899999999999999},null,"Shallow Infiltration (sandy clay)",0,0.61180000000000001,0.77639999999999998,0.89119999999999999,0.93089999999999995,0.95179999999999998,0.96599999999999997,0.98529999999999995,0.99360000000000004,{"$f":"AT6","v":0.99360000000000004}]
["Shallow Infiltration (silty clay loam)",0,0.251,0.38150000000000001,0.56510000000000005,0.68840000000000001,0.7732,0.83350000000000002,0.92420000000000002,0.96619999999999995,0.96619999999999995,null,"Shallow Infiltration (silty clay loam)",0,0.62960000000000005,0.79559999999999997,0.90720000000000001,0.94299999999999995,0.96079999999999999,0.97250000000000003,0.98819999999999997,0.99490000000000001,0.99490000000000001,null,"Shallow Infiltration (silty clay loam)",0,0.49690000000000001,0.63859999999999995,0.7823,0.85870000000000002,0.90459999999999996,0.93420000000000003,0.97330000000000005,0.98899999999999999,0.98899999999999999,null,"Shallow Infiltration (silty clay loam)",0,0.61180000000000001,0.77639999999999998,0.89119999999999999,0.93089999999999995,0.95179999999999998,0.96599999999999997,0.98529999999999995,0.99360000000000004,0.99360000000000004]
["Shallow Infiltration (clay loam)",0,0.2792,0.43080000000000002,0.64229999999999998,0.7732,0.85550000000000004,0.90869999999999995,0.97160000000000002,0.98950000000000005,0.98950000000000005,null,"Shallow Infiltration (clay loam)",0,0.63070000000000004,0.79990000000000006,0.91769999999999996,0.95389999999999997,0.97099999999999997,0.98229999999999995,0.99470000000000003,0.99809999999999999,0.99809999999999999,null,"Shallow Infiltration (clay loam)",0,0.51839999999999997,0.67379999999999995,0.82909999999999995,0.90380000000000005,0.94369999999999998,0.9667,0.99050000000000005,0.99660000000000004,0.99660000000000004,null,"Shallow Infiltration (clay loam)",0,0.61339999999999995,0.78190000000000004,0.90400000000000003,0.94440000000000002,0.9647,0.97819999999999996,0.99329999999999996,0.99760000000000004,0.99760000000000004]
["Shallow Infiltration (sandy clay loam)",0,0.35,0.52,0.72,0.82,0.88,0.92,0.97,0.99,0.99,null,"Shallow Infiltration (sandy clay loam)",0,0.64,0.8,0.93,0.98,0.99,1,1,1,1,null,"Shallow Infiltration (sandy clay loam)",0,0.52,0.69,0.85,0.92,0.96,0.98,0.99,1,1,null,"Shallow Infiltration (sandy clay loam)",0,0.71,0.86,0.96,0.98,0.99,1,1,1,1]
["Shallow Infiltration (silt loam)",0,0.37,0.54,0.74,0.85,0.9,0.93,0.98,0.99,0.99,null,"Shallow Infiltration (silt loam)",0,0.65,0.81,0.94,0.98,0.99,1,1,1,1,null,"Shallow Infiltration (silt loam)",0,0.54,0.71,0.87,0.93,0.97,0.98,0.99,1,1,null,"Shallow Infiltration (silt loam)",0,0.73,0.88,0.97,0.99,1,1,1,1,1]
["Shallow Infiltration (loam)",0,0.38,0.56000000000000005,0.77,0.87,0.92,0.95,0.98,0.99,0.99,null,"Shallow Infiltration (loam)",0,0.65,0.83,0.95,0.99,0.99,1,1,1,1,null,"Shallow Infiltration (loam)",0,0.56000000000000005,0.74,0.89,0.94,0.98,0.99,1,1,1,null,"Shallow Infiltration (loam)",0,0.75,0.9,0.98,0.99,1,1,1,1,1]
["Shallow Infiltration (sandy loam)",0,0.41,0.6,0.81,0.9,0.94,0.97,0.99,1,1,null,"Shallow Infiltration (sandy loam)",0,0.67,0.94,0.96,0.99,1,1,1,1,1,null,"Shallow Infiltration (sandy loam)",0,0.59,0.77,0.92,0.96,0.98,1,1,1,1,null,"Shallow Infiltration (sandy loam)",0,0.78,0.92,0.99,1,1,1,1,1,1]
["Shallow Infiltration (loamy sand)",0,0.46,0.67,0.87,0.94,0.97,0.98,1,1,1,null,"Shallow Infiltration (loamy sand)",0,0.7,0.88,0.98,1,1,1,1,1,1,null,"Shallow Infiltration (loamy sand)",0,0.64,0.82,0.95,0.98,0.99,1,1,1,1,null,"Shallow Infiltration (loamy sand)",0,0.82,0.95,1,1,1,1,1,1,1]
["Shallow Infiltration (sand)",0,0.59,0.81,0.96,0.99,1,1,1,1,1,null,"Shallow Infiltration (sand)",0,0.79,0.95,1,1,1,1,1,1,1,null,"Shallow Infiltration (sand)",0,0.75,0.92,0.99,1,1,1,1,1,1,null,"Shallow Infiltration (sand)",0,0.91,0.99,1,1,1,1,1,1,1]
["Deep Infiltration (sandy clay)",0,0.21210000000000001,0.33329999999999999,0.51049999999999995,0.62639999999999996,0.70840000000000003,0.76959999999999995,0.8649,0.91949999999999998,0.91949999999999998,null,"Deep Infiltration (sandy clay)",0,0.47739999999999999,0.62480000000000002,0.75480000000000003,0.81910000000000005,0.86250000000000004,0.89370000000000005,0.93910000000000005,0.96419999999999995,0.96419999999999995,null,"Deep Infiltration (sandy clay)",0,0.52359999999999995,0.65990000000000004,0.7923,0.85819999999999996,0.89829999999999999,0.92510000000000003,0.96140000000000003,0.97929999999999995,0.97929999999999995,null,"Deep Infiltration (sandy clay)",0,0.374,0.51070000000000004,0.65680000000000005,0.74,0.79920000000000002,0.8427,0.90769999999999995,0.94450000000000001,0.94450000000000001]
["Deep Infiltration (silty clay loam)",0,0.21210000000000001,0.33329999999999999,0.51049999999999995,0.62639999999999996,0.70840000000000003,0.76959999999999995,0.8649,0.91949999999999998,0.91949999999999998,null,"Deep Infiltration (silty clay loam)",0,0.47739999999999999,0.62480000000000002,0.75480000000000003,0.81910000000000005,0.86250000000000004,0.89370000000000005,0.93910000000000005,0.96419999999999995,0.96419999999999995,null,"Deep Infiltration (silty clay loam)",0,0.52359999999999995,0.65990000000000004,0.7923,0.85819999999999996,0.89829999999999999,0.92510000000000003,0.96140000000000003,0.97929999999999995,0.97929999999999995,null,"Deep Infiltration (silty clay loam)",0,0.374,0.51070000000000004,0.65680000000000005,0.74,0.79920000000000002,0.8427,0.90769999999999995,0.94450000000000001,0.94450000000000001]
["Deep Infiltration (clay loam)",0,0.24360000000000001,0.3785,0.5675,0.69159999999999999,0.77749999999999997,0.83879999999999999,0.92779999999999996,0.96819999999999995,0.96819999999999995,null,"Deep Infiltration (clay loam)",0,0.48499999999999999,0.63929999999999998,0.77429999999999999,0.84240000000000004,0.88629999999999998,0.91700000000000004,0.96140000000000003,0.98260000000000003,0.98260000000000003,null,"Deep Infiltration (clay loam)",0,0.54059999999999997,0.68440000000000001,0.82089999999999996,0.88819999999999999,0.92710000000000004,0.95140000000000002,0.98140000000000005,0.99270000000000003,0.99270000000000003,null,"Deep Infiltration (clay loam)",0,0.3861,0.53210000000000002,0.68469999999999998,0.77300000000000002,0.83320000000000005,0.87660000000000005,0.94099999999999995,0.97260000000000002,0.97260000000000002]
["Deep Infiltration (sandy clay loam)",0,0.18,0.33,0.56999999999999995,0.73,0.83,0.9,0.97,0.99,0.99,null,"Deep Infiltration (sandy clay loam)",0,0.32,0.56000000000000005,0.84,0.95,0.98,0.99,1,1,1,null,"Deep Infiltration (sandy clay loam)",0,0.56000000000000005,0.72,0.87,0.93,0.96,0.98,0.99,1,1,null,"Deep Infiltration (sandy clay loam)",0,0.51,0.77,0.94,0.98,0.99,0.99,1,1,1]
["Deep Infiltration (silt loam)",0,0.2,0.37,0.63,0.78,0.86,0.92,0.97,0.99,0.99,null,"Deep Infiltration (silt loam)",0,0.36,0.51,0.88,0.97,0.99,1,1,1,1,null,"Deep Infiltration (silt loam)",0,0.56999999999999995,0.74,0.88,0.94,0.97,0.98,0.99,1,1,null,"Deep Infiltration (silt loam)",0,0.56999999999999995,0.84,0.97,0.99,0.99,1,1,1,1]
["Deep Infiltration (loam)",0,0.23,0.42,0.68,0.82,0.89,0.94,0.98,0.99,0.99,null,"Deep Infiltration (loam)",0,0.4,0.66,0.91,0.98,0.99,1,1,1,1,null,"Deep Infiltration (loam)",0,0.59,0.76,0.9,0.95,0.98,0.99,1,1,1,null,"Deep Infiltration (loam)",0,0.65,0.9,0.98,0.99,1,1,1,1,1]
["Deep Infiltration (sandy loam)",0,0.27,0.47,0.73,0.86,0.92,0.96,0.99,1,1,null,"Deep Infiltration (sandy loam)",0,0.44,0.7,0.93,0.99,1,1,1,1,1,null,"Deep Infiltration (sandy loam)",0,0.61,0.78,0.92,0.97,0.98,0.99,1,1,1,null,"Deep Infiltration (sandy loam)",0,0.72,0.94,0.99,1,1,1,1,1,1]
["Deep Infiltration (loamy sand)",0,0.33,0.55000000000000004,0.81,0.91,0.96,0.98,1,1,1,null,"Deep Infiltration (loamy sand)",0,0.5,0.77,0.97,1,1,1,1,1,1,null,"Deep Infiltration (loamy sand)",0,0.65,0.83,0.95,0.98,0.99,1,1,1,1,null,"Deep Infiltration (loamy sand)",0,0.81,0.98,1,1,1,1,1,1,1]
["Deep Infiltration (sand)",0,0.5,0.75,0.94,0.98,0.99,1,1,1,1,null,"Deep Infiltration (sand)",0,0.92,0.98,1,1,1,1,1,1,1,null,"Deep Infiltration (sand)",0,0.76,0.92,0.98,1,1,1,1,1,1,null,"Deep Infiltration (sand)",0,0.93,1,1,1,1,1,1,1,1]
["Extended Dry Detention ",0,0.02,0.05,0.09,0.13,0.17,0.21,0.28999999999999998,0.36,0.36,null,"Extended Dry Detention ",0,0.18,0.31,0.38,0.4,0.44,0.46,0.47,0.49,0.49,null,"Extended Dry Detention ",0,1.4014285714285712E-2,2.9098666666666672E-2,5.6940540540540541E-2,8.5569696969696962E-2,0.11261180555555556,0.1276377358490566,0.18738160919540231,0.23130158730158731,0.23130158730158731,null,"Extended Dry Detention ",0,0.53,0.67,0.68,0.69,0.72,0.73,0.74,0.76,0.76]
["Bioretention",0,0.14000000000000001,0.25,0.37,0.44,0.48,0.53,0.57999999999999996,0.63,0.63,null,"Bioretention",0,0.44,0.69,0.91,0.97,0.98,0.99,1,1,1,null,"Bioretention",0,0.09,0.16,0.23,0.28000000000000003,0.31,0.32,0.37,0.4,0.4,null,"Bioretention",0,0.68,0.88,0.95,0.96,0.96,0.97,0.98,0.99,0.99]
["Sand Filter",0,0.14000000000000001,0.25,0.37,0.44,0.48,0.53,0.57999999999999996,0.63,0.63,null,"Sand Filter",0,0.44,0.69,0.91,0.97,0.98,0.99,1,1,1,null,"Sand Filter",0,0.09,0.16,0.23,0.28000000000000003,0.31,0.32,0.37,0.4,0.4,null,"Sand Filter",0,0.68,0.88,0.95,0.96,0.96,0.97,0.98,0.99,0.99]
["Oil/Grit Separator",0,0,0,0,0,0,0,0,0,0,null,"Oil/Grit Separator",0,0,0,0,0,0,0,0,0,0,null,"Oil/Grit Separator",0,0,0,0,0,0,0,0,0,0,null,"Oil/Grit Separator",0,0,0,0,0,0,0,0,0,0]
["Gravel Wetland",0,0.19,0.26,0.41,0.51,0.56999999999999995,0.61,0.65,0.66,0.66,null,"Gravel Wetland",0,0.48,0.61,0.82,0.91,0.95,0.97,0.99,0.99,0.99,null,"Gravel Wetland",0,0.22,0.33,0.48,0.56999999999999995,0.64,0.68,0.74,0.79,0.79,null,"Gravel Wetland",0,0.56999999999999995,0.68,0.83,0.88,0.9,0.9,0.91,0.92,0.92]
["Wet Pond",0,0.14000000000000001,0.25,0.37,0.44,0.48,0.53,0.57999999999999996,0.63,0.63,null,"Wet Pond",0,0.3,0.44,0.6,0.68,0.74,0.77,0.83,0.86,0.86,null,"Wet Pond",0,0.09,0.16,0.23,0.28000000000000003,0.31,0.32,0.37,0.4,0.4,null,"Wet Pond",0,0.59,0.71,0.8,0.85,0.87,0.89,0.92,0.93,0.93]
["Pavement Removal",1,1,1,1,1,1,1,1,1,1,null,"Pavement Removal",1,1,1,1,1,1,1,1,1,1,null,"Pavement Removal",1,1,1,1,1,1,1,1,1,1,null,"Pavement Removal",1,1,1,1,1,1,1,1,1,1]
["Silty Clay or Clay Soil (infiltrating STUs only)",0,0,0,0,0,0,0,0,0,0,null,"Silty Clay or Clay Soil (infiltrating STUs only)",0,0,0,0,0,0,0,0,0,0,null,"Silty Clay or Clay Soil (infiltrating STUs only)",0,0,0,0,0,0,0,0,0,0,null,"Silty Clay or Clay Soil (infiltrating STUs only)",0,0,0,0,0,0,0,0,0,0]
["TIP",0.45,0.45,0.45,0.45,0.45,0.45,0.45,0.45,0.45,0.45,null,"TIP",0.45,0.45,0.45,0.45,0.45,0.45,0.45,0.45,0.45,0.45,null,"TIP",0.45,0.45,0.45,0.45,0.45,0.45,0.45,0.45,0.45,0.45,null,"TIP",0.45,0.45,0.45,0.45,0.45,0.45,0.45,0.45,0.45,0.45]
["Water Quality Grass Swale w/ Detention",0,0.02,0.05,0.09,0.13,0.17,0.21,0.28999999999999998,0.36,0.36,null,"Water Quality Grass Swale w/ Detention",0,0.28999999999999998,0.44,0.61,0.7,0.76,0.8,0.87,0.9,0.9,null,"Water Quality Grass Swale w/ Detention",0,0.01,0.03,0.06,0.09,0.11,0.13,0.19,0.23,0.23,null,"Water Quality Grass Swale w/ Detention",0,0.62,0.75,0.86,0.91,0.94,0.95,0.97,0.99,0.99]
["Hydrodynamic Separator",0.1,0.1,0.1,0.1,0.1,0.1,0.1,0.1,0.1,0.1,null,"Hydrodynamic Separator",0.25,0.25,0.25,0.25,0.25,0.25,0.25,0.25,0.25,0.25,null,"Hydrodynamic Separator",0,0,0,0,0,0,0,0,0,0,null,"Hydrodynamic Separator",0,0,0,0,0,0,0,0,0,0]
["Jellyfish Filter",0.5,0.5,0.5,0.5,0.5,0.5,0.5,0.5,0.5,0.5,null,"Jellyfish Filter",0.85,0.85,0.85,0.85,0.85,0.85,0.85,0.85,0.85,0.85,null,"Jellyfish Filter",0.3,0.3,0.3,0.3,0.3,0.3,0.3,0.3,0.3,0.3,null,"Jellyfish Filter",0,0,0,0,0,0,0,0,0,0]
["MWS-Linear",0.64,0.64,0.64,0.64,0.64,0.64,0.64,0.64,0.64,0.64,null,"MWS-Linear",0.85,0.85,0.85,0.85,0.85,0.85,0.85,0.85,0.85,0.85,null,"MWS-Linear",0.45,0.45,0.45,0.45,0.45,0.45,0.45,0.45,0.45,0.45,null,"MWS-Linear",0,0,0,0,0,0,0,0,0,0]
["Stormceptor",0,0,0,0,0,0,0,0,0,0,null,"Stormceptor",0.75,0.75,0.75,0.75,0.75,0.75,0.75,0.75,0.75,0.75,null,"Stormceptor",0,0,0,0,0,0,0,0,0,0,null,"Stormceptor",0,0,0,0,0,0,0,0,0,0]
["Porous Pavement With Underdrain",0.62,0.62,0.62,0.62,0.62,0.62,0.62,0.62,0.62,0.62,null,"Porous Pavement With Underdrain",0.92,0.92,0.92,0.92,0.92,0.92,0.92,0.92,0.92,0.92,null,"Porous Pavement With Underdrain",0.76,0.76,0.76,0.76,0.76,0.76,0.76,0.76,0.76,0.76,null,"Porous Pavement With Underdrain",0.85,0.85,0.85,0.85,0.85,0.85,0.85,0.85,0.85,0.85]
["Total Phosphorus","Depth of Runoff Treated from Impervious Area (inches) (<50% IC)",null,null,null,null,null,null,null,null,null,null,"Total Suspended Solids","Depth of Runoff Treated from Impervious Area (inches) (<50% IC)",null,null,null,null,null,null,null,null,null,null,"Total Nitrogen","Depth of Runoff Treated from Impervious Area (inches) (<50% IC)",null,null,null,null,null,null,null,null,null,null,"Total Zinc","Depth of Runoff Treated from Impervious Area (inches) (<50% IC)"]
["Treatment Category:",0,0.1,0.2,0.4,0.6,0.8,1,1.5,2,20,null,"Treatment Category:",0,0.1,0.2,0.4,0.6,0.8,1,1.5,2,20,null,"Treatment Category:",0,0.1,0.2,0.4,0.6,0.8,1,1.5,2,20,null,"Treatment Category:",0,0.1,0.2,0.4,0.6,0.8,1,1.5,2,20]
["Shallow Infiltration (sandy clay)",0,0.251,0.38150000000000001,0.56510000000000005,0.66975402040816323,0.75177069387755102,0.81318259183673469,0.89579434658892132,0.94017311281632654,{"$f":"J41","v":0.94017311281632654},null,"Shallow Infiltration (sandy clay)",0,0.62960000000000005,0.79559999999999997,0.90720000000000001,0.93758616326530608,0.95630186734693878,0.9685578163265306,0.98328303463556854,0.99074809180641399,{"$f":"V41","v":0.99074809180641399},null,"Shallow Infiltration (sandy clay)",0,0.49690000000000001,0.63859999999999995,0.7823,0.84714644897959179,0.89300088265306121,0.92422661224489799,0.96105456396501465,0.97927090169562681,{"$f":"AH41","v":0.97927090169562681},null,"Shallow Infiltration (sandy clay)",0,0.61180000000000001,0.77639999999999998,0.89119999999999999,0.92489638775510197,0.94651848469387756,0.96121546938775504,0.97925557760932935,0.98845659134227404,{"$f":"AT41","v":0.98845659134227404}]
["Shallow Infiltration (silty clay loam)",0,0.251,0.38150000000000001,0.56510000000000005,0.66975402040816323,0.75177069387755102,0.81318259183673469,0.89579434658892132,0.94017311281632654,0.94017311281632654,null,"Shallow Infiltration (silty clay loam)",0,0.62960000000000005,0.79559999999999997,0.90720000000000001,0.93758616326530608,0.95630186734693878,0.9685578163265306,0.98328303463556854,0.99074809180641399,0.99074809180641399,null,"Shallow Infiltration (silty clay loam)",0,0.49690000000000001,0.63859999999999995,0.7823,0.84714644897959179,0.89300088265306121,0.92422661224489799,0.96105456396501465,0.97927090169562681,0.97927090169562681,null,"Shallow Infiltration (silty clay loam)",0,0.61180000000000001,0.77639999999999998,0.89119999999999999,0.92489638775510197,0.94651848469387756,0.96121546938775504,0.97925557760932935,0.98845659134227404,0.98845659134227404]
["Shallow Infiltration (clay loam)",0,0.2792,0.43080000000000002,0.64229999999999998,0.75340471428571421,0.83470245408163268,0.89077485714285709,0.95190082029154521,0.97840758855743448,0.97840758855743448,null,"Shallow Infiltration (clay loam)",0,0.63070000000000004,0.79990000000000006,0.91769999999999996,0.94842567346938766,0.96667876020408161,0.97849259183673465,0.99081653690962102,0.99599306151370259,0.99599306151370259,null,"Shallow Infiltration (clay loam)",0,0.51839999999999997,0.67379999999999995,0.82909999999999995,0.89250353061224486,0.93361710714285717,0.95895040816326527,0.98304625632653064,0.99281990448046653,0.99281990448046653,null,"Shallow Infiltration (clay loam)",0,0.61339999999999995,0.78190000000000004,0.90400000000000003,0.93829053061224488,0.95957010714285718,0.97365132653061226,0.98857094413994162,0.99493534250262394,0.99493534250262394]
["Shallow Infiltration (sandy clay loam)",0,0.35,0.52,0.72,0.80487755102040803,0.86483775510204086,0.90652244897959189,0.95434087463556849,0.97760624419825071,0.97760624419825071,null,"Shallow Infiltration (sandy clay loam)",0,0.64,0.8,0.93,0.97243877551020408,0.9874729591836735,0.99663061224489791,1,1,1,null,"Shallow Infiltration (sandy clay loam)",0,0.52,0.69,0.85,0.90941428571428573,0.94989183673469391,0.97326122448979591,0.98686817492711365,0.99380312209912536,0.99380312209912536,null,"Shallow Infiltration (sandy clay loam)",0,0.71,0.86,0.96,0.97697551020408158,0.9874729591836735,0.99663061224489791,1,1,1]
["Shallow Infiltration (silt loam)",0,0.37,0.54,0.74,0.83336530612244897,0.88736479591836737,0.91989183673469388,0.9643408746355685,0.98380312209912535,0.98380312209912535,null,"Shallow Infiltration (silt loam)",0,0.65,0.81,0.94,0.97395102040816328,0.9874729591836735,0.99663061224489791,1,1,1,null,"Shallow Infiltration (silt loam)",0,0.54,0.71,0.87,0.92092653061224494,0.95989183673469392,0.97663061224489789,0.98686817492711365,0.99380312209912536,0.99380312209912536,null,"Shallow Infiltration (silt loam)",0,0.73,0.88,0.97,0.98697551020408159,0.99747295918367351,1,1,1,1]
["Shallow Infiltration (loam)",0,0.38,0.56000000000000005,0.77,0.85487755102040808,0.90736479591836738,0.9398918367346939,0.97060452478134107,0.98380312209912535,0.98380312209912535,null,"Shallow Infiltration (loam)",0,0.65,0.83,0.95,0.98395102040816329,0.99,0.99663061224489791,1,1,1,null,"Shallow Infiltration (loam)",0,0.56000000000000005,0.74,0.89,0.93243877551020404,0.96989183673469381,0.9866306122448979,0.99686817492711366,1,1,null,"Shallow Infiltration (loam)",0,0.75,0.9,0.98,0.98848775510204079,0.99747295918367351,1,1,1,1]
["Shallow Infiltration (sandy loam)",0,0.41,0.6,0.81,0.88638979591836731,0.92989183673469389,0.9598918367346938,0.98373634985422742,0.99380312209912536,0.99380312209912536,null,"Shallow Infiltration (sandy loam)",0,0.67,0.94,0.96,0.98546326530612238,0.99747295918367351,1,1,1,1,null,"Shallow Infiltration (sandy loam)",0,0.59,0.77,0.92,0.95395102040816326,0.9749459183673469,0.99326122448979592,1,1,1,null,"Shallow Infiltration (sandy loam)",0,0.78,0.92,0.99,0.9984877551020408,1,1,1,1,1]
["Shallow Infiltration (loamy sand)",0,0.46,0.67,0.87,0.92941428571428564,0.9624188775510204,0.97663061224489789,0.99373634985422743,1,1,null,"Shallow Infiltration (loamy sand)",0,0.7,0.88,0.98,0.99697551020408159,1,1,1,1,1,null,"Shallow Infiltration (loamy sand)",0,0.64,0.82,0.95,0.97546326530612237,0.9874729591836735,0.99663061224489791,1,1,1,null,"Shallow Infiltration (loamy sand)",0,0.82,0.95,1,1,1,1,1,1,1]
["Shallow Infiltration (sand)",0,0.59,0.81,0.96,0.98546326530612238,0.99747295918367351,1,1,1,1,null,"Shallow Infiltration (sand)",0,0.79,0.95,1,1,1,1,1,1,1,null,"Shallow Infiltration (sand)",0,0.75,0.92,0.99,0.9984877551020408,1,1,1,1,1,null,"Shallow Infiltration (sand)",0,0.91,0.99,1,1,1,1,1,1,1]
["Deep Infiltration (sandy clay)",0,0.21210000000000001,0.33329999999999999,0.51049999999999995,0.60887308163265297,0.68767826530612242,0.74897934693877555,0.89992675685131185,0.94316461328046641,0.94316461328046641,null,"Deep Infiltration (sandy clay)",0,0.47739999999999999,0.62480000000000002,0.75480000000000003,0.8093762653061225,0.85153264285714292,0.8831875102040817,0.94749469667638486,0.96946261885014584,0.96946261885014584,null,"Deep Infiltration (sandy clay)",0,0.52359999999999995,0.65990000000000004,0.7923,0.84823430612244888,0.88816656632653057,0.91607004081632659,0.97200452478134114,0.98569752797201171,0.98569752797201171,null,"Deep Infiltration (sandy clay)",0,0.374,0.51070000000000004,0.65680000000000005,0.72741812244897952,0.78423991836734697,0.82804316326530614,0.92083104653061221,0.95301786583323611,0.95301786583323611]
["Deep Infiltration (silty clay loam)",0,0.21210000000000001,0.33329999999999999,0.51049999999999995,0.60887308163265297,0.68767826530612242,0.74897934693877555,0.89992675685131185,0.94316461328046641,0.94316461328046641,null,"Deep Infiltration (silty clay loam)",0,0.47739999999999999,0.62480000000000002,0.75480000000000003,0.8093762653061225,0.85153264285714292,0.8831875102040817,0.94749469667638486,0.96946261885014584,0.96946261885014584,null,"Deep Infiltration (silty clay loam)",0,0.52359999999999995,0.65990000000000004,0.7923,0.84823430612244888,0.88816656632653057,0.91607004081632659,0.97200452478134114,0.98569752797201171,0.98569752797201171,null,"Deep Infiltration (silty clay loam)",0,0.374,0.51070000000000004,0.65680000000000005,0.72741812244897952,0.78423991836734697,0.82804316326530614,0.92083104653061221,0.95301786583323611,0.95301786583323611]
["Deep Infiltration (clay loam)",0,0.24360000000000001,0.3785,0.5675,0.67283304081632656,0.75579271938775505,0.81814565306122444,0.89992675685131185,0.94316461328046641,0.94316461328046641,null,"Deep Infiltration (clay loam)",0,0.48499999999999999,0.63929999999999998,0.77429999999999999,0.83210161224489798,0.8752062908163265,0.90665597959183675,0.94749469667638486,0.96946261885014584,0.96946261885014584,null,"Deep Infiltration (clay loam)",0,0.54059999999999997,0.68440000000000001,0.82089999999999996,0.8780225918367347,0.91726981122448981,0.94321238775510208,0.97200452478134114,0.98569752797201171,0.98569752797201171,null,"Deep Infiltration (clay loam)",0,0.3861,0.53210000000000002,0.68469999999999998,0.75964687755102034,0.8179872142857143,0.86197685714285721,0.92083104653061221,0.95301786583323611,0.95301786583323611]
["Deep Infiltration (sandy clay loam)",0,0.18,0.33,0.56999999999999995,0.70580408163265296,0.80472959183673465,0.8764142857142857,0.94807722448979592,0.97760624419825071,0.97760624419825071,null,"Deep Infiltration (sandy clay loam)",0,0.32,0.56000000000000005,0.84,0.93336530612244895,0.97241887755102041,0.9866306122448979,0.99686817492711366,1,1,null,"Deep Infiltration (sandy clay loam)",0,0.56000000000000005,0.72,0.87,0.92092653061224494,0.95241887755102039,0.97326122448979591,0.98686817492711365,0.99380312209912536,0.99380312209912536,null,"Deep Infiltration (sandy clay loam)",0,0.51,0.77,0.94,0.97395102040816328,0.9874729591836735,0.99,0.99686817492711366,1,1]
["Deep Infiltration (silt loam)",0,0.2,0.37,0.63,0.7573163265306122,0.83978367346938776,0.89978367346938781,0.95434087463556849,0.97760624419825071,0.97760624419825071,null,"Deep Infiltration (silt loam)",0,0.36,0.51,0.88,0.95638979591836726,0.98494591836734691,0.99663061224489791,1,1,1,null,"Deep Infiltration (silt loam)",0,0.56999999999999995,0.74,0.88,0.93092653061224484,0.9624188775510204,0.97663061224489789,0.98686817492711365,0.99380312209912536,0.99380312209912536,null,"Deep Infiltration (silt loam)",0,0.56999999999999995,0.84,0.97,0.98697551020408159,0.99,0.99663061224489791,1,1,1]
["Deep Infiltration (loam)",0,0.23,0.42,0.68,0.79882857142857133,0.87231071428571427,0.92315306122448981,0.96747269970845473,0.98380312209912535,0.98380312209912535,null,"Deep Infiltration (loam)",0,0.4,0.66,0.91,0.96941428571428567,0.9874729591836735,0.99663061224489791,1,1,1,null,"Deep Infiltration (loam)",0,0.59,0.76,0.9,0.94243877551020405,0.97241887755102041,0.9866306122448979,0.99686817492711366,1,1,null,"Deep Infiltration (loam)",0,0.65,0.9,0.98,0.98848775510204079,0.99747295918367351,1,1,1,1]
["Deep Infiltration (sandy loam)",0,0.27,0.47,0.73,0.84034081632653057,0.9048377551020409,0.94652244897959181,1,1,1,null,"Deep Infiltration (sandy loam)",0,0.44,0.7,0.93,0.98092653061224488,0.99747295918367351,1,1,1,1,null,"Deep Infiltration (sandy loam)",0,0.61,0.78,0.92,0.96243877551020407,0.9774729591836735,0.9866306122448979,0.99686817492711366,1,1,null,"Deep Infiltration (sandy loam)",0,0.72,0.94,0.99,0.9984877551020408,1,1,1,1,1]
["Deep Infiltration (loamy sand)",0,0.33,0.55000000000000004,0.81,0.89487755102040811,0.94736479591836731,0.97326122448979591,0.99373634985422743,1,1,null,"Deep Infiltration (loamy sand)",0,0.5,0.77,0.97,0.99546326530612239,1,1,1,1,1,null,"Deep Infiltration (loamy sand)",0,0.65,0.83,0.95,0.97546326530612237,0.9874729591836735,0.99663061224489791,1,1,1,null,"Deep Infiltration (loamy sand)",0,0.81,0.98,1,1,1,1,1,1,1]
["Deep Infiltration (sand)",0,0.5,0.75,0.94,0.97395102040816328,0.9874729591836735,0.99663061224489791,1,1,1,null,"Deep Infiltration (sand)",0,0.92,0.98,1,1,1,1,1,1,1,null,"Deep Infiltration (sand)",0,0.76,0.92,0.98,0.99697551020408159,1,1,1,1,1,null,"Deep Infiltration (sand)",0,0.93,1,1,1,1,1,1,1,1]
["Extended Dry Detention ",0,0.02,0.05,0.09,0.12395102040816325,0.1598918367346939,0.19652244897959184,0.26494539941690959,0.31662185469387749,0.31662185469387749,null,"Extended Dry Detention ",0,0.18,0.31,0.38,0.39697551020408167,0.42989183673469389,0.45326122448979594,0.46686817492711369,0.47760624419825071,0.47760624419825071,null,"Extended Dry Detention ",0,1.4014285714285712E-2,2.9098666666666672E-2,5.6940540540540541E-2,8.1240267395410237E-2,0.10577815433995567,0.12257491729506269,0.1686708731456594,0.20408491312827573,0.20408491312827573,null,"Extended Dry Detention ",0,0.53,0.67,0.68,0.68848775510204074,0.7124188775510204,0.72663061224489789,0.73686817492711365,0.74760624419825072,0.74760624419825072]
["Bioretention",0,0.14000000000000001,0.25,0.37,0.42941428571428569,0.46989183673469387,0.51315306122448978,0.56434087463556848,0.59901561049562679,0.59901561049562679,null,"Bioretention",0,0.44,0.69,0.91,0.96092653061224487,0.9774729591836735,0.9866306122448979,0.99686817492711366,1,1,null,"Bioretention",0,0.09,0.16,0.23,0.27243877551020412,0.30241887755102043,0.31663061224489797,0.35434087463556851,0.3814093662973761,0.3814093662973761,null,"Bioretention",0,0.68,0.88,0.95,0.95848775510204076,0.96,0.96663061224489788,0.97686817492711364,0.98380312209912535,0.98380312209912535]
["Sand Filter",0,0.14000000000000001,0.25,0.37,0.42941428571428569,0.46989183673469387,0.51315306122448978,0.56434087463556848,0.59901561049562679,0.59901561049562679,null,"Sand Filter",0,0.44,0.69,0.91,0.96092653061224487,0.9774729591836735,0.9866306122448979,0.99686817492711366,1,1,null,"Sand Filter",0,0.09,0.16,0.23,0.27243877551020412,0.30241887755102043,0.31663061224489797,0.35434087463556851,0.3814093662973761,0.3814093662973761,null,"Sand Filter",0,0.68,0.88,0.95,0.95848775510204076,0.96,0.96663061224489788,0.97686817492711364,0.98380312209912535,0.98380312209912535]
["Oil/Grit Separator",0,0,0,0,0,0,0,0,0,0,null,"Oil/Grit Separator",0,0,0,0,0,0,0,0,0,0,null,"Oil/Grit Separator",0,0,0,0,0,0,0,0,0,0,null,"Oil/Grit Separator",0,0,0,0,0,0,0,0,0,0]
["Gravel Wetland",0,0.19,0.26,0.41,0.49487755102040815,0.55483775510204081,0.59652244897959184,0.63747269970845477,0.65380312209912539,0.65380312209912539,null,"Gravel Wetland",0,0.48,0.61,0.82,0.89638979591836732,0.9398918367346939,0.9632612244897959,0.98373634985422742,0.99,0.99,null,"Gravel Wetland",0,0.22,0.33,0.48,0.55638979591836724,0.62231071428571427,0.6665224489795919,0.72120904956268217,0.75901561049562682,0.75901561049562682,null,"Gravel Wetland",0,0.56999999999999995,0.68,0.83,0.8724387755102041,0.89494591836734694,0.9,0.90686817492711369,0.9138031220991254,0.9138031220991254]
["Wet Pond",0,0.14000000000000001,0.25,0.37,0.42941428571428569,0.46989183673469387,0.51315306122448978,0.56434087463556848,0.59901561049562679,0.59901561049562679,null,"Wet Pond",0,0.3,0.44,0.6,0.66790204081632654,0.72483775510204085,0.75989183673469385,0.81120904956268214,0.84140936629737606,0.84140936629737606,null,"Wet Pond",0,0.09,0.16,0.23,0.27243877551020412,0.30241887755102043,0.31663061224489797,0.35434087463556851,0.3814093662973761,0.3814093662973761,null,"Wet Pond",0,0.59,0.71,0.8,0.84243877551020407,0.86494591836734691,0.88326122448979594,0.91060452478134113,0.92380312209912541,0.92380312209912541]
["Pavement Removal",1,1,1,1,1,1,1,1,1,1,null,"Pavement Removal",1,1,1,1,1,1,1,1,1,1,null,"Pavement Removal",1,1,1,1,1,1,1,1,1,1,null,"Pavement Removal",1,1,1,1,1,1,1,1,1,1]
["Silty Clay or Clay Soil (infiltrating STUs only)",0,0,0,0,0,0,0,0,0,0,null,"Silty Clay or Clay Soil (infiltrating STUs only)",0,0,0,0,0,0,0,0,0,0,null,"Silty Clay or Clay Soil (infiltrating STUs only)",0,0,0,0,0,0,0,0,0,0,null,"Silty Clay or Clay Soil (infiltrating STUs only)",0,0,0,0,0,0,0,0,0,0]
["TIP",0.45,0.45,0.45,0.45,0.45,0.45,0.45,0.45,0.45,0.45,null,"TIP",0.45,0.45,0.45,0.45,0.45,0.45,0.45,0.45,0.45,0.45,null,"TIP",0.45,0.45,0.45,0.45,0.45,0.45,0.45,0.45,0.45,0.45,null,"TIP",0.45,0.45,0.45,0.45,0.45,0.45,0.45,0.45,0.45,0.45]
["Water Quality Grass Swale w/ Detention",0,0.02,0.05,0.09,0.12395102040816325,0.1598918367346939,0.19652244897959184,0.26494539941690959,0.31662185469387749,0.31662185469387749,null,"Water Quality Grass Swale w/ Detention",0,0.28999999999999998,0.44,0.61,0.68638979591836724,0.74483775510204087,0.78652244897959189,0.84807722448979594,0.8814093662973761,0.8814093662973761,null,"Water Quality Grass Swale w/ Detention",0,0.01,0.03,0.06,8.5463265306122443E-2,0.10494591836734694,0.12326122448979593,0.17120904956268221,0.20521248839650144,0.20521248839650144,null,"Water Quality Grass Swale w/ Detention",0,0.62,0.75,0.86,0.90243877551020413,0.93241887755102038,0.94663061224489786,0.9637363498542274,0.97760624419825071,0.97760624419825071]
["Hydrodynamic Separator",0.1,0.1,0.1,0.1,0.1,0.1,0.1,0.1,0.1,0.1,null,"Hydrodynamic Separator",0.25,0.25,0.25,0.25,0.25,0.25,0.25,0.25,0.25,0.25,null,"Hydrodynamic Separator",0,0,0,0,0,0,0,0,0,0,null,"Hydrodynamic Separator"]
["Jellyfish Filter",0.5,0.5,0.5,0.5,0.5,0.5,0.5,0.5,0.5,0.5,null,"Jellyfish Filter",0.85,0.85,0.85,0.85,0.85,0.85,0.85,0.85,0.85,0.85,null,"Jellyfish Filter",0.3,0.3,0.3,0.3,0.3,0.3,0.3,0.3,0.3,0.3,null,"Jellyfish Filter"]
["MWS-Linear",0.64,0.64,0.64,0.64,0.64,0.64,0.64,0.64,0.64,0.64,null,"MWS-Linear",0.85,0.85,0.85,0.85,0.85,0.85,0.85,0.85,0.85,0.85,null,"MWS-Linear",0.45,0.45,0.45,0.45,0.45,0.45,0.45,0.45,0.45,0.45,null,"MWS-Linear"]
["Stormceptor",0,0,0,0,0,0,0,0,0,0,null,"Stormceptor",0.75,0.75,0.75,0.75,0.75,0.75,0.75,0.75,0.75,0.75,null,"Stormceptor",0,0,0,0,0,0,0,0,0,0,null,"Stormceptor"]
["Porous Pavement With Underdrain",0.62,0.62,0.62,0.62,0.62,0.62,0.62,0.62,0.62,0.62,null,"Porous Pavement With Underdrain",0.92,0.92,0.92,0.92,0.92,0.92,0.92,0.92,0.92,0.92,null,"Porous Pavement With Underdrain",0.76,0.76,0.76,0.76,0.76,0.76,0.76,0.76,0.76,0.76,null,"Porous Pavement With Underdrain",0.85,0.85,0.85,0.85,0.85,0.85,0.85,0.85,0.85,0.85]
[]
["Flow Factor","Depth of Runoff Treated from Impervious Area (inches)"]
["Treatment Category:",0,0.1,0.2,0.4,0.6,0.8,1,1.5,2,20]
["Shallow Infiltration (sandy clay)",0,1.8981900196200052E-2,4.9666786866685353E-2,8.9154139493110129E-2,0.15151107207208336,0.2299065499120132,0.3191560677292421,0.49870662450340075,0.66420301878716537,0.66420301878716537]
["Shallow Infiltration (silty clay loam)",0,1.8981900196200052E-2,4.9666786866685353E-2,8.9154139493110129E-2,0.15151107207208336,0.2299065499120132,0.3191560677292421,0.49870662450340075,0.66420301878716537,0.66420301878716537]
["Shallow Infiltration (clay loam)",0,1.8981900196200052E-2,6.5009230201927837E-2,0.19338728690643958,0.28670582351644269,0.42973945416037507,0.55417921694037009,0.78661290281253859,1,1]
["Shallow Infiltration (sandy clay loam)",0,7.5854307508627317E-2,0.15400138723950074,0.30783915478506063,0.45709774349751042,0.62045207803625102,0.78831439564968375,1,1,1]
["Shallow Infiltration (silt loam)",0,9.2129934394753588E-2,0.18665697163833939,0.36107559350040996,0.53963766948008074,0.65571806676221533,0.78807885169524183,0.97156459789815885,1,1]
["Shallow Infiltration (loam)",0,0.1165771399207256,0.23964518612674712,0.43990911957910395,0.60824238465334046,0.75761178001243046,0.87756048926230601,1,1,1]
["Shallow Infiltration (sandy loam)",0,0.14905244353059832,0.29522505189909298,0.5296246571495502,0.71161672447190538,0.89372775020674267,0.97934952103259898,1,1,1]
["Shallow Infiltration (loamy sand)",0,0.23853079346801631,0.40734580725108205,0.70821872833242305,0.91820150915168897,1,1,1,1,1]
["Shallow Infiltration (sand)",0,0.4179998001624744,0.6797121644129851,0.99817765007930082,1,1,1,1,1,1]
["Deep Infiltration (sandy clay)",0,1.6857187096360304E-2,1.8981900196200052E-2,7.268045186954919E-2,0.13518146949883802,0.15442089182142094,0.2360249834681758,0.42022225020536241,0.59466341949117285,0.59466341949117285]
["Deep Infiltration (silty clay loam)",0,1.6857187096360304E-2,1.8981900196200052E-2,7.268045186954919E-2,0.13518146949883802,0.15442089182142094,0.2360249834681758,0.42022225020536241,0.59466341949117285,0.59466341949117285]
["Deep Infiltration (clay loam)",0,1.6857187096360304E-2,6.5009230201927837E-2,0.13270046164960847,0.23018627627639754,0.3470045641089502,0.44164663421612749,0.65413311349732184,0.83459637056922265,0.83459637056922265]
["Deep Infiltration (sandy clay loam)",0,5.799902632355125E-2,0.11498584410975698,0.242152318010731,0.39952208056611571,0.5050495943239981,0.61754310142260627,0.83552261563068742,0.97898950079637936,0.97898950079637936]
["Deep Infiltration (silt loam)",0,7.2812914357841541E-2,0.15002221882185707,0.30857414258776183,0.48069505633128751,0.56987325137663847,0.70195652300070055,0.90370518421678392,1,1]
["Deep Infiltration (loam)",0,9.6513466727369601E-2,0.19923115881851472,0.36635379303741333,0.55035805325567222,0.6537598264376564,0.80407135150381714,0.97353988571744499,1,1]
["Deep Infiltration (sandy loam)",0,0.12115493565958291,0.24999386873445684,0.43768049262333097,0.62539055012224098,0.77527008424774879,0.90741928764904145,1,1,1]
["Deep Infiltration (loamy sand)",0,0.1840087755668024,0.33328347912446332,0.57361927529516088,0.77698501911947582,0.96179696550314819,1,1,1,1]
["Deep Infiltration (sand)",0,0.33077303776451472,0.53047271371016902,0.91870010299099092,1,1,1,1,1,1]
["Extended Dry Detention ",0,8.4842603781980053E-2,0.16771832756942118,0.30767356842038462,0.45823027642121661,0.52211169138429292,0.63670770859410619,0.79189852204190425,0.8378815154242697,0.8378815154242697]
["Bioretention",0,9.2831673795845449E-2,0.15271788778602502,0.24325158335530406,0.3401493056088648,0.38997387766311764,0.46053941432847578,0.72604340064444162,0.73242925980378248,0.73242925980378248]
["Sand Filter",0,9.2831673795845449E-2,0.15271788778602502,0.24325158335530406,0.3401493056088648,0.38997387766311764,0.46053941432847578,0.72604340064444162,0.73242925980378248,0.73242925980378248]
["Oil/Grit Separator",0,0,0,0,0,0,0,0,0,0]
["Gravel Wetland",0,5.8717374206034068E-2,0.1317099007216902,0.18497437536774497,0.2101717652087679,0.22977896745607085,0.25879133415586153,0.31561084342482848,0.36444105220260503,0.36444105220260503]
["Wet Pond",0,3.6560694419384254E-2,6.2227913535718327E-2,0.1246109923229729,0.20295524967695266,0.30138354886643304,0.40293061642370764,0.60677553760488501,0.77747940979301189,0.77747940979301189]
["Pavement Removal",1,1,1,1,1,1,1,1,1,1]
["Silty Clay or Clay Soil (infiltrating STUs only)",0,0,0,0,0,0,0,0,0,0]
["TIP",0.5,0.5,0.5,0.5,0.5,0.5,0.5,0.5,0.5,0.5]
["Water Quality Grass Swale w/ Detention",0,8.4842603781980053E-2,0.16771832756942118,0.30767356842038462,0.45823027642121661,0.52211169138429292,0.63670770859410619,0.79189852204190425,0.8378815154242697,0.8378815154242697]
["Hydrodynamic Separator",0,0,0,0,0,0,0,0,0,0]
["Jellyfish Filter",0,0,0,0,0,0,0,0,0,0]
["MWS-Linear",0,0,0,0,0,0,0,0,0,0]
["Stormceptor",0,0,0,0,0,0,0,0,0,0]
["Porous Pavement With Underdrain",1,1,1,1,1,1,1,1,1,1]
[]
["Runoff Factor","Depth of Runoff Treated from Impervious Area (inches)"]
["Treatment Category:",0,0.1,0.2,0.4,0.6,0.8,1,1.5,2,20]
["Shallow Infiltration (sandy clay)",0,2.8129205986136663E-2,6.6945341405333439E-2,0.15975225853752856,0.24789185787613546,0.34069877500838275,0.43116030631458102,0.62382202498591499,0.79097767280023168,0.79097767280023168]
["Shallow Infiltration (silty clay loam)",0,2.8129205986136663E-2,6.6945341405333439E-2,0.15975225853752856,0.24789185787613546,0.34069877500838275,0.43116030631458102,0.62382202498591499,0.79097767280023168,0.79097767280023168]
["Shallow Infiltration (clay loam)",0,5.4033992433566318E-2,0.13980475208795065,0.31118209438895655,0.47399877842523375,0.61877944546014463,0.75131719848367706,0.9385376220388687,1,1]
["Shallow Infiltration (sandy clay loam)",0,0.14000000000000001,0.28000000000000003,0.5,0.68,0.83,0.95,1,1,1]
["Shallow Infiltration (silt loam)",0,0.17,0.34,0.57999999999999996,0.76,0.87,0.94,1,1,1]
["Shallow Infiltration (loam)",0,0.22,0.41,0.67,0.84,0.94,1,1,1,1]
["Shallow Infiltration (sandy loam)",0,0.28000000000000003,0.5,0.78,0.92,1,1,1,1,1]
["Shallow Infiltration (loamy sand)",0,0.4,0.66,0.92,1,1,1,1,1,1]
["Shallow Infiltration (sand)",0,0.68,0.93,1,1,1,1,1,1,1]
["Deep Infiltration (sandy clay)",0,2.6276351183649366E-2,5.7927332904616866E-2,0.1406139101979042,0.21921951615407681,0.29743813344899961,0.37966736050625199,0.56966706626509567,0.73530994022168372,0.73530994022168372]
["Deep Infiltration (silty clay loam)",0,2.6276351183649366E-2,5.7927332904616866E-2,0.1406139101979042,0.21921951615407681,0.29743813344899961,0.37966736050625199,0.56966706626509567,0.73530994022168372,0.73530994022168372]
["Deep Infiltration (clay loam)",0,5.2251499205856894E-2,0.11923571839451808,0.25537363866084839,0.38522592491371077,0.50514550219364929,0.61975278057791605,0.82790577262955023,0.95969300218879705,0.95969300218879716]
["Deep Infiltration (sandy clay loam)",0,0.1,0.21,0.41,0.57999999999999996,0.71,0.82,0.97,1,1]
["Deep Infiltration (silt loam)",0,0.14000000000000001,0.28000000000000003,0.51,0.68,0.8,0.89,1,1,1]
["Deep Infiltration (loam)",0,0.18,0.35,0.6,0.78,0.88,0.96,1,1,1]
["Deep Infiltration (sandy loam)",0,0.23,0.43,0.69,0.86,0.95,1,1,1,1]
["Deep Infiltration (loamy sand)",0,0.32,0.55000000000000004,0.84,0.96,1,1,1,1,1]
["Deep Infiltration (sand)",0,0.54,0.82,1,1,1,1,1,1,1]
["Extended Dry Detention ",0,0.12,0.21,0.34,0.41,0.43,0.44,0.41,0.39,0.39]
["Bioretention",0,0,0.03,0.06,0.09,0.11,0.14000000000000001,0.24,0.31,0.31]
["Sand Filter",0,0,0.03,0.06,0.09,0.11,0.14000000000000001,0.24,0.31,0.31]
["Oil/Grit Separator",0,0,0,0,0,0,0,0,0,0]
["Gravel Wetland",0,0,0,0,0.01,0.02,0.03,0.04,0.06,0.06]
["Wet Pond",0,0.04,0.1,0.21,0.32,0.43,0.53,0.75,0.9,0.9]
["Pavement Removal",1,1,1,1,1,1,1,1,1,1]
["Silty Clay or Clay Soil (infiltrating STUs only)",0,0,0,0,0,0,0,0,0,0]
["TIP",0.5,0.5,0.5,0.5,0.5,0.5,0.5,0.5,0.5,0.5]
["Water Quality Grass Swale w/ Detention",0,0.12,0.21,0.34,0.41,0.43,0.44,0.41,0.39,0.39]
["Hydrodynamic Separator",0,0,0,0,0,0,0,0,0,0]
["Jellyfish Filter",0,0,0,0,0,0,0,0,0,0]
["MWS-Linear",0,0,0,0,0,0,0,0,0,0]
["Stormceptor",0,0,0,0,0,0,0,0,0,0]
["Porous Pavement With Underdrain",1,1,1,1,1,1,1,1,1,1]
[]
["Runoff Reduction Percent Reductions","Depth of Runoff Treated from Impervious Area (inches)"]
["Treatment Category:",0,0.1,0.2,0.4,0.6,0.8,1,1.5,2,20]
["Shallow Infiltration (sandy clay)",0,2.5316285387522997E-2,6.0250807264800095E-2,0.1437770326837757,0.22310267208852191,0.30662889750754446,0.38804427568312294,0.56143982248732349,0.71187990552020852,{"$f":"J149","v":0.71187990552020852}]
["Shallow Infiltration (silty clay loam)",0,2.5316285387522997E-2,6.0250807264800095E-2,0.1437770326837757,0.22310267208852191,0.30662889750754446,0.38804427568312294,0.56143982248732349,0.71187990552020852,0.71187990552020852]
["Shallow Infiltration (clay loam)",0,4.8630593190209688E-2,0.12582427687915559,0.2800638849500609,0.42659890058271038,0.55690150091413015,0.67618547863530942,0.84468385983498184,0.9372128487468272,0.9372128487468272]
["Shallow Infiltration (sandy clay loam)",0,0.12769199673690462,0.24966933110669592,0.45096843147656068,0.60972832393096565,0.74575783225559422,0.8523658978703812,0.96035519637884792,0.99284428061625574,{"$f":"J152","v":0.99284428061625574}]
["Shallow Infiltration (silt loam)",0,0.15611499814638755,0.30259546948636085,0.52542075785061171,0.68159696272492809,0.77981827339788923,0.84898953437924007,0.93265966680905132,0.9650294776229742,{"$f":"J153","v":0.9650294776229742}]
["Shallow Infiltration (loam)",0,0.19555519734425147,0.36631289222813918,0.60170015971884039,0.75382676748222532,0.84198324187185247,0.89743368969863635,0.95820349368711211,0.98021383615947399,0.98021383615947399]
["Shallow Infiltration (sandy loam)",0,0.24997691321275703,0.44641203049674322,0.69934105072530084,0.83021650333586428,0.90464389004973134,0.94170653645504954,0.98084568661905935,0.99361203797560371,0.99361203797560371]
["Shallow Infiltration (loamy sand)",0,0.35620569124063128,0.59093283347292092,0.83177925853823531,0.92265665724147328,0.96603267888384436,0.98399456410278552,0.99670534740564876,0.99972323626368942,0.99972323626368942]
["Shallow Infiltration (sand)",0,0.60841830046904011,0.83949424689910301,0.96789803459278467,0.99320634368966976,0.99737070756522228,0.99926287103415301,1,1,1]
["Deep Infiltration (sandy clay)",0,2.3648716065284431E-2,5.2134599614155182E-2,0.12655251917811378,0.19729756453866915,0.26769432010409966,0.34170062445562682,0.51270035963858607,0.66177894619951538,0.66177894619951538]
["Deep Infiltration (silty clay loam)",0,2.3648716065284431E-2,5.2134599614155182E-2,0.12655251917811378,0.19729756453866915,0.26769432010409966,0.34170062445562682,0.51270035963858607,0.66177894619951538,0.66177894619951538]
["Deep Infiltration (clay loam)",0,4.7026349285271205E-2,0.10731214655506627,0.22983627479476357,0.34670333242233969,0.45463095197428433,0.55777750252012448,0.74511519536659521,0.86372370196991743,0.86372370196991743]
["Deep Infiltration (sandy clay loam)",0,9.0254484969617771E-2,0.19058588298092846,0.36958840999224585,0.52252592083262384,0.63997371475377574,0.73790779188809752,0.87106526034496445,0.93057259825990668,0.93057259825990668]
["Deep Infiltration (silt loam)",0,0.12346804364368261,0.24755484265187389,0.45584011915489986,0.61237795437893427,0.72005449920559061,0.80208548487129394,0.90492956156140913,0.94941342971673892,0.94941342971673892]
["Deep Infiltration (loam)",0,0.16461078890258582,0.31602926018699523,0.54104786659640114,0.69759986560545051,0.7915259082110645,0.86019142074714627,0.93753462630060214,0.96821648756215128,0.96821648756215128]
["Deep Infiltration (sandy loam)",0,0.20694849534020568,0.38375117123413133,0.62206609941745916,0.77185559822148886,0.85678522043022054,0.90938191888060671,0.96310458546753541,0.98384106329124987,0.98384106329124987]
["Deep Infiltration (loamy sand)",0,0.28723434860171726,0.49785576307434032,0.7516011640285003,0.86790382332014071,0.93146466341341494,0.9597519373451735,0.99057490874493992,0.99848111875758172,0.99848111875758172]
["Deep Infiltration (sand)",0,0.48781928602371644,0.73356161018524058,0.92622341915396356,0.97769690412345922,0.99202342489450146,0.99634466693717916,0.99989932314072882,1,1]
["Extended Dry Detention ",0,0.10412772240425994,0.19323956625542199,0.30957891207237792,0.36718330008891503,0.38508011844155443,0.39153012882067628,0.36608439301407075,0.35343851826393041,0.35343851826393041]
["Bioretention",0,0,2.8807130678759639E-2,5.4126511169435385E-2,8.0277998197668635E-2,0.10335367471950385,0.12643916668102742,0.21545524139357089,0.28295922857128364,0.28295922857128364]
["Sand Filter",0,0,2.8807130678759639E-2,5.4126511169435385E-2,8.0277998197668635E-2,0.10335367471950385,0.12643916668102742,0.21545524139357089,0.28295922857128364,0.28295922857128364]
["Oil/Grit Separator",0,0,0,0,0,0,0,0,0,0]
["Gravel Wetland",0,-3.7877597766750679E-3,-7.1299413963156477E-4,3.0502243258700816E-3,1.0584049221984438E-2,1.8027635398412171E-2,2.3936635629110269E-2,3.8861064436051682E-2,5.4629409970894285E-2,{"$f":"J171","v":5.4629409970894285E-2}]
["Wet Pond",0,3.5739543532670844E-2,8.6036072850433382E-2,0.18901649971825657,0.28850284114412605,0.38727413306633768,0.47827824592958579,0.67146003045399683,0.8075391753515514,{"$f":"J172","v":0.8075391753515514}]
["Pavement Removal",1,1,1,1,1,1,1,1,1,1]
["Silty Clay or Clay Soil (infiltrating STUs only)",0,0,0,0,0,0,0,0,0,0]
["TIP",0.5,0.5,0.5,0.5,0.5,0.5,0.5,0.5,0.5,0.5]
["Water Quality Grass Swale w/ Detention",0,0.10412772240425994,0.19323956625542199,0.30957891207237792,0.36718330008891503,0.38508011844155443,0.39153012882067628,0.36608439301407075,0.35343851826393041,{"$f":"J176","v":0.35343851826393041}]
["Hydrodynamic Separator",0,0,0,0,0,0,0,0,0,0]
["Jellyfish Filter",0,0,0,0,0,0,0,0,0,0]
["MWS-Linear",0,0,0,0,0,0,0,0,0,0]
["Stormceptor",0,0,0,0,0,0,0,0,0,0]
["Porous Pavement With Underdrain"]
[]
["Phosphorus Factor","Depth of Runoff Treated from Impervious Area (inches) (>50% IC)"]
["Treatment Category:",0,0.1,0.2,0.4,0.6,0.8,1,1.5,2,">2.00"]
["Shallow Infiltration (sandy clay)",0,{"$f":"IF(C6/0.9>1, 1,C6/0.9)","v":0.27888888888888891},0.42388888888888887,0.62788888888888894,0.76488888888888884,0.85911111111111105,0.92611111111111111,1,1,{"$f":"J185","v":1}]
["Shallow Infiltration (silty clay loam)",0,0.27888888888888891,0.42388888888888887,0.62788888888888894,0.76488888888888884,0.85911111111111105,0.92611111111111111,1,1,1]
["Shallow Infiltration (clay loam)",0,0.31022222222222223,0.47866666666666668,0.71366666666666667,0.85911111111111105,0.9505555555555556,1,1,1,1]
["Shallow Infiltration (sandy clay loam)",{"$f":"IF(B9/0.9>1, 1,B9/0.9)","v":0},0.38888888888888884,0.57777777777777783,0.79999999999999993,0.91111111111111098,0.97777777777777775,1,1,1,{"$f":"IF(K9/0.9>1, 1,K9/0.9)","v":1}]
["Shallow Infiltration (silt loam)",0,0.41111111111111109,0.6,0.82222222222222219,0.94444444444444442,1,1,1,1,1]
["Shallow Infiltration (loam)",0,0.42222222222222222,0.62222222222222223,0.85555555555555551,0.96666666666666667,1,1,1,1,1]
["Shallow Infiltration (sandy loam)",0,0.45555555555555549,0.66666666666666663,0.9,1,1,1,1,1,1]
["Shallow Infiltration (loamy sand)",0,0.51111111111111107,0.74444444444444446,0.96666666666666667,1,1,1,1,1,1]
["Shallow Infiltration (sand)",0,0.65555555555555556,0.9,1,1,1,1,1,1,1]
["Deep Infiltration (sandy clay)",0,0.23566666666666666,0.37033333333333329,0.56722222222222218,0.69599999999999995,0.78711111111111109,0.85511111111111104,0.96099999999999997,1,{"$f":"J194","v":1}]
["Deep Infiltration (silty clay loam)",0,{"$f":"IF(C16/0.9>1, 1,C16/0.9)","v":0.23566666666666666},0.37033333333333329,0.56722222222222218,0.69599999999999995,0.78711111111111109,0.85511111111111104,0.96099999999999997,1,1]
["Deep Infiltration (clay loam)",0,0.27066666666666667,0.42055555555555557,0.63055555555555554,0.76844444444444437,0.86388888888888882,0.93199999999999994,1,1,1]
["Deep Infiltration (sandy clay loam)",{"$f":"IF(B18/0.9>1, 1,B18/0.9)","v":0},0.19999999999999998,0.3666666666666667,0.6333333333333333,0.81111111111111112,0.92222222222222217,1,1,1,{"$f":"IF(K18/0.9>1, 1,K18/0.9)","v":1}]
["Deep Infiltration (silt loam)",0,0.22222222222222224,0.41111111111111109,0.7,0.8666666666666667,0.95555555555555549,1,1,1,1]
["Deep Infiltration (loam)",0,0.25555555555555554,0.46666666666666662,0.75555555555555554,0.91111111111111098,0.98888888888888893,1,1,1,1]
["Deep Infiltration (sandy loam)",0,0.3,0.52222222222222214,0.81111111111111112,0.95555555555555549,1,1,1,1,1]
["Deep Infiltration (loamy sand)",0,0.3666666666666667,0.61111111111111116,0.9,1,1,1,1,1,1]
["Deep Infiltration (sand)",0,0.55555555555555558,0.83333333333333326,1,1,1,1,1,1,1]
["Extended Dry Detention ",0,2.2222222222222223E-2,5.5555555555555559E-2,9.9999999999999992E-2,0.14444444444444446,0.18888888888888888,0.23333333333333331,0.32222222222222219,0.39999999999999997,0.39999999999999997]
["Bioretention",0,0.15555555555555556,0.27777777777777779,0.41111111111111109,0.48888888888888887,0.53333333333333333,0.58888888888888891,0.64444444444444438,0.7,0.7]
["Sand Filter",0,{"$f":"IF(C26/0.9>1, 1,C26/0.9)","v":0.15555555555555556},0.27777777777777779,0.41111111111111109,0.48888888888888887,0.53333333333333333,0.58888888888888891,0.64444444444444438,0.7,0.7]
["Oil/Grit Separator",0,0,0,0,0,0,0,0,0,0]
["Gravel Wetland",0,0.21111111111111111,0.28888888888888892,0.45555555555555549,0.56666666666666665,0.6333333333333333,0.6777777777777777,0.72222222222222221,0.73333333333333339,0.73333333333333339]
["Wet Pond",0,0.15555555555555556,0.27777777777777779,0.41111111111111109,0.48888888888888887,0.53333333333333333,0.58888888888888891,0.64444444444444438,0.7,0.7]
["Pavement Removal",1,1,1,1,1,1,1,1,1,1]
["Silty Clay or Clay Soil (infiltrating STUs only)",0,0,0,0,0,0,0,0,0,0]
["TIP",0.5,0.5,0.5,0.5,0.5,0.5,0.5,0.5,0.5,0.5]
["Water Quality Grass Swale w/ Detention",0,2.2222222222222223E-2,5.5555555555555559E-2,9.9999999999999992E-2,0.14444444444444446,0.18888888888888888,0.23333333333333331,0.32222222222222219,0.39999999999999997,0.39999999999999997]
["Hydrodynamic Separator",{"$f":"IF(B34/0.9>1, 1,B34/0.9)","v":0.11111111111111112},0.11111111111111112,0.11111111111111112,0.11111111111111112,0.11111111111111112,0.11111111111111112,0.11111111111111112,0.11111111111111112,0.11111111111111112,0.11111111111111112]
["Jellyfish Filter",{"$f":"IF(B35/0.9>1, 1,B35/0.9)","v":0.55555555555555558},0.55555555555555558,0.55555555555555558,0.55555555555555558,0.55555555555555558,0.55555555555555558,0.55555555555555558,0.55555555555555558,0.55555555555555558,0.55555555555555558]
["MWS-Linear",{"$f":"IF(B36/0.9>1, 1,B36/0.9)","v":0.71111111111111114},0.71111111111111114,0.71111111111111114,0.71111111111111114,0.71111111111111114,0.71111111111111114,0.71111111111111114,0.71111111111111114,0.71111111111111114,0.71111111111111114]
["Stormceptor",{"$f":"IF(B37/0.9>1, 1,B37/0.9)","v":0},0,0,0,0,0,0,0,0,0]
["Porous Pavement With Underdrain",0.68888888888888888,0.68888888888888888,0.68888888888888888,0.68888888888888888,0.68888888888888888,0.68888888888888888,0.68888888888888888,0.68888888888888888,0.68888888888888888,0.68888888888888888]
[]
["TSS Factor","Depth of Runoff Treated from Impervious Area (inches) (>50% IC)"]
["Treatment Category:",0,0.1,0.2,0.4,0.6,0.8,1,1.5,2,">2.00"]
["Shallow Infiltration (sandy clay)",0,{"$f":"IF(O6/0.9>1, 1,O6/0.9)","v":0.6995555555555556},{"$f":"IF(P6/0.9>1, 1,P6/0.9)","v":0.8839999999999999},{"$f":"IF(Q6/0.9>1, 1,Q6/0.9)","v":1},{"$f":"IF(R6/0.9>1, 1,R6/0.9)","v":1},{"$f":"IF(S6/0.9>1, 1,S6/0.9)","v":1},{"$f":"IF(T6/0.9>1, 1,T6/0.9)","v":1},{"$f":"IF(U6/0.9>1, 1,U6/0.9)","v":1},{"$f":"IF(V6/0.9>1, 1,V6/0.9)","v":1},{"$f":"J221","v":1}]
["Shallow Infiltration (silty clay loam)",0,0.6995555555555556,0.8839999999999999,1,1,1,1,1,1,1]
["Shallow Infiltration (clay loam)",0,0.70077777777777783,0.88877777777777778,1,1,1,1,1,1,1]
["Shallow Infiltration (sandy clay loam)",{"$f":"IF(N9/0.9>1, 1,N9/0.9)","v":0},0.71111111111111114,0.88888888888888895,1,1,1,1,1,1,{"$f":"IF(W9/0.9>1, 1,W9/0.9)","v":1}]
["Shallow Infiltration (silt loam)",0,0.72222222222222221,0.9,1,1,1,1,1,1,1]
["Shallow Infiltration (loam)",0,0.72222222222222221,0.92222222222222217,1,1,1,1,1,1,1]
["Shallow Infiltration (sandy loam)",0,0.74444444444444446,1,1,1,1,1,1,1,1]
["Shallow Infiltration (loamy sand)",0,0.77777777777777768,0.97777777777777775,1,1,1,1,1,1,1]
["Shallow Infiltration (sand)",0,0.87777777777777777,1,1,1,1,1,1,1,1]
["Deep Infiltration (sandy clay)",0,0.53044444444444439,0.69422222222222219,0.83866666666666667,0.91011111111111109,0.95833333333333337,0.99299999999999999,1,1,{"$f":"J230","v":1}]
["Deep Infiltration (silty clay loam)",0,0.53044444444444439,0.69422222222222219,0.83866666666666667,0.91011111111111109,0.95833333333333337,0.99299999999999999,1,1,1]
["Deep Infiltration (clay loam)",0,0.53888888888888886,0.71033333333333326,0.86033333333333328,0.93600000000000005,0.98477777777777775,1,1,1,1]
["Deep Infiltration (sandy clay loam)",{"$f":"IF(N18/0.9>1, 1,N18/0.9)","v":0},0.35555555555555557,0.62222222222222223,0.93333333333333324,1,1,1,1,1,{"$f":"IF(W18/0.9>1, 1,W18/0.9)","v":1}]
["Deep Infiltration (silt loam)",0,0.39999999999999997,0.56666666666666665,0.97777777777777775,1,1,1,1,1,1]
["Deep Infiltration (loam)",0,0.44444444444444448,0.73333333333333339,1,1,1,1,1,1,1]
["Deep Infiltration (sandy loam)",0,0.48888888888888887,0.77777777777777768,1,1,1,1,1,1,1]
["Deep Infiltration (loamy sand)",0,0.55555555555555558,0.85555555555555551,1,1,1,1,1,1,1]
["Deep Infiltration (sand)",0,1,1,1,1,1,1,1,1,1]
["Extended Dry Detention ",0,0.19999999999999998,0.34444444444444444,0.42222222222222222,0.44444444444444448,0.48888888888888887,0.51111111111111107,0.52222222222222214,0.5444444444444444,0.5444444444444444]
["Bioretention",0,0.48888888888888887,0.76666666666666661,1,1,1,1,1,1,1]
["Sand Filter",0,0.48888888888888887,0.76666666666666661,1,1,1,1,1,1,1]
["Oil/Grit Separator",0,0,0,0,0,0,0,0,0,0]
["Gravel Wetland",0,0.53333333333333333,0.6777777777777777,0.91111111111111098,1,1,1,1,1,1]
["Wet Pond",0,0.33333333333333331,0.48888888888888887,0.66666666666666663,0.75555555555555554,0.82222222222222219,0.85555555555555551,0.92222222222222217,0.95555555555555549,0.95555555555555549]
["Pavement Removal",1,1,1,1,1,1,1,1,1,1]
["Silty Clay or Clay Soil (infiltrating STUs only)",0,0,0,0,0,0,0,0,0,0]
["TIP",0.5,0.5,0.5,0.5,0.5,0.5,0.5,0.5,0.5,0.5]
["Water Quality Grass Swale w/ Detention",0,0.32222222222222219,0.48888888888888887,0.6777777777777777,0.77777777777777768,0.84444444444444444,0.88888888888888895,0.96666666666666667,1,1]
["Hydrodynamic Separator",0.27777777777777779,{"$f":"IF(O34/0.9>1, 1,O34/0.9)","v":0.27777777777777779},{"$f":"IF(P34/0.9>1, 1,P34/0.9)","v":0.27777777777777779},0.27777777777777779,0.27777777777777779,0.27777777777777779,0.27777777777777779,0.27777777777777779,0.27777777777777779,0.27777777777777779]
["Jellyfish Filter",{"$f":"IF(N35/0.9>1, 1,N35/0.9)","v":0.94444444444444442},0.94444444444444442,{"$f":"IF(P35/0.9>1, 1,P35/0.9)","v":0.94444444444444442},{"$f":"IF(Q35/0.9>1, 1,Q35/0.9)","v":0.94444444444444442},{"$f":"IF(R35/0.9>1, 1,R35/0.9)","v":0.94444444444444442},{"$f":"IF(S35/0.9>1, 1,S35/0.9)","v":0.94444444444444442},{"$f":"IF(T35/0.9>1, 1,T35/0.9)","v":0.94444444444444442},{"$f":"IF(U35/0.9>1, 1,U35/0.9)","v":0.94444444444444442},{"$f":"IF(V35/0.9>1, 1,V35/0.9)","v":0.94444444444444442},{"$f":"IF(W35/0.9>1, 1,W35/0.9)","v":0.94444444444444442}]
["MWS-Linear",{"$f":"IF(N36/0.9>1, 1,N36/0.9)","v":0.94444444444444442},0.94444444444444442,0.94444444444444442,0.94444444444444442,0.94444444444444442,0.94444444444444442,0.94444444444444442,0.94444444444444442,0.94444444444444442,0.94444444444444442]
["Stormceptor",0.83,0.83,0.83,0.83,0.83,0.83,0.83,0.83,0.83,0.83]
["Porous Pavement With Underdrain",{"$f":"IF(N38/0.9>1, 1,N38/0.9)","v":1},{"$f":"IF(O38/0.9>1, 1,O38/0.9)","v":1},{"$f":"IF(P38/0.9>1, 1,P38/0.9)","v":1},{"$f":"IF(Q38/0.9>1, 1,Q38/0.9)","v":1},{"$f":"IF(R38/0.9>1, 1,R38/0.9)","v":1},{"$f":"IF(S38/0.9>1, 1,S38/0.9)","v":1},{"$f":"IF(T38/0.9>1, 1,T38/0.9)","v":1},{"$f":"IF(U38/0.9>1, 1,U38/0.9)","v":1},{"$f":"IF(V38/0.9>1, 1,V38/0.9)","v":1},{"$f":"IF(W38/0.9>1, 1,W38/0.9)","v":1}]
[]
["Pervious Cover Factor","Depth of Runoff Treated from Impervious Area (inches)"]
["Treatment Category:",0,0.1,0.2,0.4,0.6,0.8,1,1.5,2,">2.00"]
["Shallow Infiltration (sandy clay)",0,{"$f":"(C77+C113+C185+C221)/4","v":0.25638888765669532},0.3561252542902269,0.46919882172988192,0.54107295470927697,0.60742910900787672,0.66910687128873358,0.78063216237232891,0.86379517289684926,{"$f":"J257","v":0.86379517289684926}]
["Shallow Infiltration (silty clay loam)",0,0.25638888765669532,0.3561252542902269,0.46919882172988192,0.54107295470927697,0.60742910900787672,0.66910687128873358,0.78063216237232891,0.86379517289684926,0.86379517289684926]
["Shallow Infiltration (clay loam)",0,0.27100397315744162,0.39306460668358073,0.55455901199051572,0.65495392826319687,0.74976861379401882,0.82637410385601173,0.93128763121285185,1,1]
["Shallow Infiltration (sandy clay loam)",{"$f":"(B80+B116+B188+B224)/4","v":0},0.32896357687715683,0.47516701347654189,0.65195978869626514,0.76205221365215536,0.85705746395350724,0.9345785989124209,1,1,{"$f":"(K80+K116+K188+K224)/4","v":1}]
["Shallow Infiltration (silt loam)",0,0.34886581693202173,0.50666424290958478,0.69082445393065806,0.81102052848113138,0.8814295166905538,0.93201971292381047,0.99289114947453971,1,1]
["Shallow Infiltration (loam)",0,0.37025539609129254,0.54852240764279792,0.7413661687836649,0.85372726283000178,0.9244029450031076,0.96939012231557653,1,1,1]
["Shallow Infiltration (sandy loam)",0,0.40726311088264955,0.61547292964143985,0.80240616428738754,0.90790418111797633,0.97343193755168567,0.99483738025814972,1,1,1]
["Shallow Infiltration (loamy sand)",0,0.4818549205892263,0.69739200736832607,0.8987213487497725,0.97955037728792227,1,1,1,1,1]
["Shallow Infiltration (sand)",0,0.65783328337395197,0.87742804110324624,0.99954441251982518,1,1,1,1,1,1]
["Deep Infiltration (sandy clay)",0,0.20231116234778018,0.28536619716409312,0.40479581273908555,0.49012802419100648,0.54932586742871625,0.61595086377138464,0.73772232911761448,0.83249333992821417,{"$f":"J266","v":0.83249333992821417}]
["Deep Infiltration (silty clay loam)",0,{"$f":"(C87+C123+C195+C231)/4","v":0.20231116234778018},0.28536619716409312,0.40479581273908555,0.49012802419100648,0.54932586742871625,0.61595086377138464,0.73772232911761448,0.83249333992821417,0.83249333992821417]
["Deep Infiltration (clay loam)",0,0.21966606046444317,0.32878345937133369,0.46974074729983639,0.57996416140863816,0.67520418324231657,0.74834985369851093,0.87050972153171802,0.9485723431895049,0.9485723431895049]
["Deep Infiltration (sandy clay loam)",{"$f":"(B89+B125+B197+B233)/4","v":0},0.1783886454697767,0.3284686832496615,0.55470474616934939,0.69765829791930667,0.78431795413655503,0.85938577535565153,0.9513806539076719,0.99474737519909484,{"$f":"(K89+K125+K197+K233)/4","v":0.99474737519909484}]
["Deep Infiltration (silt loam)",0,0.20875878414501592,0.35194999914990871,0.62408798009138489,0.75684043074948859,0.8313572017330485,0.89798913075017517,0.97592629605419601,1,1]
["Deep Infiltration (loam)",0,0.2441283666818424,0.43730778970462869,0.68047733714824221,0.81036729109169581,0.88066217883163633,0.94101783787595428,0.99338497142936122,1,1]
["Deep Infiltration (sandy loam)",0,0.28501095613711797,0.49499846718361418,0.73469790093361054,0.86023652641944914,0.93131752106193721,0.97685482191226036,1,1,1]
["Deep Infiltration (loamy sand)",0,0.35655774944725616,0.58748753644778251,0.82840481882379025,0.93424625477986889,0.99044924137578705,1,1,1,1]
["Deep Infiltration (sand)",0,0.60658214833001756,0.79595151176087553,0.97967502574774779,1,1,1,1,1,1]
["Extended Dry Detention ",0,0.10676620650105056,0.19442958189235529,0.29247394766065171,0.36427979132752636,0.40747236729051767,0.45528803825963765,0.51158574162158721,0.54308148996717853,0.54308148996717853]
["Bioretention",0,0.18431902956007246,0.30679058305761736,0.4285906736166038,0.47975954862443843,0.50832680274911279,0.54735707580434112,0.6526219612722215,0.68560731495094562,0.68560731495094562]
["Sand Filter",0,{"$f":"(C97+C133+C205+C241)/4","v":0.18431902956007246},0.30679058305761736,0.4285906736166038,0.47975954862443843,0.50832680274911279,0.54735707580434112,0.6526219612722215,0.68560731495094562,0.68560731495094562]
["Oil/Grit Separator",0,0,0,0,0,0,0,0,0,0]
["Gravel Wetland",0,0.20079045466261963,0.27459414184708919,0.38791026050860289,0.44670960796885861,0.47077807519735104,0.49164227798340981,0.51945826641176263,0.53944359638398454,0.53944359638398454]
["Wet Pond",0,0.14136239582706828,0.23222364505059623,0.35309719252518768,0.4418499235303493,0.52173477610549712,0.59434376521703802,0.73086055106788783,0.83325874133714195,0.83325874133714195]
["Pavement Removal",1,1,1,1,1,1,1,1,1,1]
["Silty Clay or Clay Soil (infiltrating STUs only)",0,0,0,0,0,0,0,0,0,0]
["TIP",0.5,0.5,0.5,0.5,0.5,0.5,0.5,0.5,0.5,0.5]
["Water Quality Grass Swale w/ Detention",0,0.13732176205660612,0.23054069300346641,0.3563628365495406,0.44761312466085967,0.49636125617940652,0.54973248270408215,0.62269685273269826,0.65697037885606746,0.65697037885606746]
["Hydrodynamic Separator",{"$f":"(B105+B141+B213+B249)/4","v":9.7222222222222224E-2},9.7222222222222224E-2,9.7222222222222224E-2,9.7222222222222224E-2,9.7222222222222224E-2,9.7222222222222224E-2,9.7222222222222224E-2,9.7222222222222224E-2,9.7222222222222224E-2,9.7222222222222224E-2]
["Jellyfish Filter",{"$f":"(B106+B142+B214+B250)/4","v":0.375},0.375,0.375,0.375,0.375,0.375,0.375,0.375,0.375,0.375]
["MWS-Linear",{"$f":"(B107+B143+B215+B251)/4","v":0.41388888888888886},0.41388888888888886,0.41388888888888886,0.41388888888888886,0.41388888888888886,0.41388888888888886,0.41388888888888886,0.41388888888888886,0.41388888888888886,0.41388888888888886]
["Stormceptor",0.21,0.21,0.21,0.21,0.21,0.21,0.21,0.21,0.21,0.21]
["Porous Pavement With Underdrain",{"$f":"(B109+B145+B217+B253)/4","v":0.92222222222222228},0.92222222222222228,0.92222222222222228,0.92222222222222228,0.92222222222222228,0.92222222222222228,0.92222222222222228,0.92222222222222228,0.92222222222222228,0.92222222222222228]

{"sheet":"IC Treatment Values","index":3,"n_rows":6,"n_cols":13,"rows_kept":6,"cut":false,"hidden":true,"merged":[[0,0,0,12]]}
["Pervious Cover Factor"]
[null,0.125,0.16666666666666666,0.25,0.5,1,2,4,10,30,50,70,200]
["HSG A",0.5,0.57999999999999996,0.7,0.87,0.98,1,1,1,1,1,1,1]
["HSG B",0.28000000000000003,0.34,0.44,0.6,0.74,0.82,0.87,0.97,0.99,1,1,1]
["HSG C",0.18,0.22,0.28999999999999998,0.41,0.53,0.63,0.69,0.81,0.88,0.91,1,1]
["HDG D",0.11,0.14000000000000001,0.18,0.27,0.36,0.43,0.48,0.69,0.76,0.78,0.84,0.84]

{"sheet":"Non-Discharge Areas","index":4,"n_rows":46,"n_cols":38,"rows_kept":46,"cut":false,"hidden":false,"merged":[[6,0,6,14],[13,7,13,10],[13,4,14,5],[13,3,15,3],[13,6,15,6],[13,11,15,11],[13,12,15,12],[14,8,15,8],[14,10,15,10],[14,9,15,9],[11,30,12,37],[2,0,2,1],[11,0,12,14],[14,14,15,14],[14,13,15,13],[14,7,15,7],[13,37,14,37],[13,0,13,2],[13,13,13,14],[13,32,14,35],[13,30,14,30],[14,0,15,0],[14,1,15,1],[14,2,15,2],[13,31,14,31],[13,36,14,36]]}
["Non-Discharge Areas Summary"]
[]
["Date:                                                                   ",null,"Prepared By: "]
[]
["Project ID:                                                                 ",{"$f":"IFERROR(IF('Cover Sheet'!G3=0,\"\",'Cover Sheet'!G3),\"\")","v":""},"Location:",{"$f":"IFERROR(IF('Cover Sheet'!G4=0,\"\",'Cover Sheet'!G4),\"\")","v":""}]
[]
["Instructions: Use this tab to document non-discharge areas within the project limits.  Use one row for each distinct non-discharge area. Enter data in unshaded boxes. \n                    Non-discharging area summary (Column M) will appear once all required information is populated and error messages are resolved. "]
[null,"Additional rows in the table can be unhidden to document additional non-discharge areas. "]
[]
["Populate to Complete Worksheet A-Scoping"]
[]
["Table 1: Impervious Surface Contributing to a Non Discharging Area (Worksheet A-Scoping Rows G & J)",null,null,null,null,null,null,null,null,null,null,null,null,null,null,null,null,null,null,null,null,null,null,null,null,null,null,null,null,null,"Table 1-1: Existing Non-Discharge Area Calculations"]
[]
["Project Information",null,null,"Non-Discharge Area Definition*","Impervious Area",null,"Receiving Parcel Pervious Area\n(ft2)","Receiving Parcel HSG Composition (%)",null,null,null,"IC : Pervious Cover Ratio","Non-Discharging Impervious Area (acre)","Errors and Warnings",null,null,null,null,null,null,null,null,null,null,null,null,null,null,null,null,null,null,"Break Ties between HSG Percentages (Hide Columns)"]
["Non-Discharge Area ID","WBID","DP No.",null,null,null,null,"A","B","C","D",null,null,"Sum of Receiving Parcel HSG Percentages (Columns H-K) does not equal 100%.","Parcel does not qualify as non-discharge area based on the IC:Pervious Cover Ratio (Column L) and HSG Composition."]
[null,null,null,null,"Existing Impervious Surface Contributing to the Non-Discharge Area (ft2)","Net Increase in Impervious Surface Contributing to the Non-Discharge Area (ft2)",null,null,null,null,null,null,null,null,null,null,null,null,null,null,null,null,null,null,null,null,null,null,null,null,"Round Area Ratio (Hide Column)","Check HSG Percent Total (Hide Column)","A","B","C","D","Most Conservative HSG (Hide Column)","Non-Discharge Area Populated?"]
[null,null,null,null,null,null,null,null,null,null,null,{"$f":"IF(AE17=\"\",\"\",IF(AE17=\"Parcel Ineligible; Receiving Parcel Area too small\",\"Parcel Ineligible; Receiving Parcel Area too small\",IF((E17+F17)<G17,\"1:\"&ROUND((AE17),1),ROUND(1/AE17,1)&\":1\")))","v":""},{"$f":"IFERROR(IF((N17=\"\"),IF((O17=\"X\"),\"\",IF(A17=\"\",\"\",(E17+F17)/43560)),\"\"),\"\")","v":""},{"$f":"IF(AF17=\"\",\"\",IF(OR(AF17>1,AF17<1),\"X\",\"\"))","v":""},{"$f":"IF((D17=\"Definition 1\"),\"\",IFERROR(IF(AE17=\"\",\"\",IF(AND(AK17=\"A\",H17>=0.5,AE17<30),\"X\",IF(AND(AK17=\"B\",I17>=0.5,AE17<50),\"X\",IF(AND(AK17=\"C\",J17>=0.5,AE17<70),\"X\",\"\")))),\"\"))","v":""},null,null,null,null,null,null,null,null,null,null,null,null,null,null,null,{"$f":"IFERROR(IF((E17/G17)>8,\"Parcel Ineligible; Receiving Parcel Area too small\",IF((E17+F17) < G17,(G17/(E17+F17)),IF(G17 < (((G17+(E17+F17))/2) + (E17+F17)),G17/(E17+F17),\"\"))),\"\")","v":""},{"$f":"IF(AND(H17=\"\",I17=\"\",J17=\"\",K17=\"\"),\"\",SUM(H17:K17))","v":""},{"$f":"(COUNTIF(H17:$H17,H17)-1)*0.00001+H17","v":-1.0000000000000001E-5},{"$f":"(COUNTIF($H17:I17,I17)-1)*0.00001+I17","v":-1.0000000000000001E-5},{"$f":"(COUNTIF($H17:J17,J17)-1)*0.00001+J17","v":-1.0000000000000001E-5},{"$f":"(COUNTIF($H17:K17,K17)-1)*0.00001+K17","v":-1.0000000000000001E-5},{"$f":"IF(AND(H17=\"\",I17=\"\",J17=\"\",K17=\"\"),\"\",INDEX($AG$16:$AJ$16,MATCH(MAX(AG17:AJ17),AG17:AJ17,0)))","v":""},{"$f":"IF(M17<>\"\",1,0)","v":0}]
[null,null,null,null,null,null,null,null,null,null,null,{"$f":"IF(AE18=\"\",\"\",IF(AE18=\"Parcel Ineligible; Receiving Parcel Area too small\",\"Parcel Ineligible; Receiving Parcel Area too small\",IF((E18+F18)<G18,\"1:\"&ROUND((AE18),1),ROUND(1/AE18,1)&\":1\")))","v":""},{"$f":"IFERROR(IF((N18=\"\"),IF((O18=\"X\"),\"\",IF(A18=\"\",\"\",(E18+F18)/43560)),\"\"),\"\")","v":""},{"$f":"IF(AF18=\"\",\"\",IF(OR(AF18>1,AF18<1),\"X\",\"\"))","v":""},{"$f":"IF((D18=\"Definition 1\"),\"\",IFERROR(IF(AE18=\"\",\"\",IF(AND(AK18=\"A\",H18>=0.5,AE18<30),\"X\",IF(AND(AK18=\"B\",I18>=0.5,AE18<50),\"X\",IF(AND(AK18=\"C\",J18>=0.5,AE18<70),\"X\",\"\")))),\"\"))","v":""},null,null,null,null,null,null,null,null,null,null,null,null,null,null,null,{"$f":"IFERROR(IF((E18/G18)>8,\"Parcel Ineligible; Receiving Parcel Area too small\",IF((E18+F18) < G18,(G18/(E18+F18)),IF(G18 < (((G18+(E18+F18))/2) + (E18+F18)),G18/(E18+F18),\"\"))),\"\")","v":""},{"$f":"IF(AND(H18=\"\",I18=\"\",J18=\"\",K18=\"\"),\"\",SUM(H18:K18))","v":""},{"$f":"(COUNTIF(H18:$H18,H18)-1)*0.00001+H18","v":-1.0000000000000001E-5},{"$f":"(COUNTIF($H18:I18,I18)-1)*0.00001+I18","v":-1.0000000000000001E-5},{"$f":"(COUNTIF($H18:J18,J18)-1)*0.00001+J18","v":-1.0000000000000001E-5},{"$f":"(COUNTIF($H18:K18,K18)-1)*0.00001+K18","v":-1.0000000000000001E-5},{"$f":"IF(AND(H18=\"\",I18=\"\",J18=\"\",K18=\"\"),\"\",INDEX($AG$16:$AJ$16,MATCH(MAX(AG18:AJ18),AG18:AJ18,0)))","v":""},{"$f":"IF(M18<>\"\",1,0)","v":0}]
[null,null,null,null,null,null,null,null,null,null,null,"","","","",null,null,null,null,null,null,null,null,null,null,null,null,null,null,null,"","",{"$f":"(COUNTIF(H19:$H19,H19)-1)*0.00001+H19","v":-1.0000000000000001E-5},{"$f":"(COUNTIF($H19:I19,I19)-1)*0.00001+I19","v":-1.0000000000000001E-5},{"$f":"(COUNTIF($H19:J19,J19)-1)*0.00001+J19","v":-1.0000000000000001E-5},{"$f":"(COUNTIF($H19:K19,K19)-1)*0.00001+K19","v":-1.0000000000000001E-5},"",0]
[null,null,null,null,null,null,null,null,null,null,null,"","","","",null,null,null,null,null,null,null,null,null,null,null,null,null,null,null,"","",{"$f":"(COUNTIF(H20:$H20,H20)-1)*0.00001+H20","v":-1.0000000000000001E-5},{"$f":"(COUNTIF($H20:I20,I20)-1)*0.00001+I20","v":-1.0000000000000001E-5},{"$f":"(COUNTIF($H20:J20,J20)-1)*0.00001+J20","v":-1.0000000000000001E-5},{"$f":"(COUNTIF($H20:K20,K20)-1)*0.00001+K20","v":-1.0000000000000001E-5},"",0]
[null,null,null,null,null,null,null,null,null,null,null,"","","","",null,null,null,null,null,null,null,null,null,null,null,null,null,null,null,"","",{"$f":"(COUNTIF(H21:$H21,H21)-1)*0.00001+H21","v":-1.0000000000000001E-5},{"$f":"(COUNTIF($H21:I21,I21)-1)*0.00001+I21","v":-1.0000000000000001E-5},{"$f":"(COUNTIF($H21:J21,J21)-1)*0.00001+J21","v":-1.0000000000000001E-5},{"$f":"(COUNTIF($H21:K21,K21)-1)*0.00001+K21","v":-1.0000000000000001E-5},"",0]
[null,null,null,null,null,null,null,null,null,null,null,"","","","",null,null,null,null,null,null,null,null,null,null,null,null,null,null,null,"","",{"$f":"(COUNTIF(H22:$H22,H22)-1)*0.00001+H22","v":-1.0000000000000001E-5},{"$f":"(COUNTIF($H22:I22,I22)-1)*0.00001+I22","v":-1.0000000000000001E-5},{"$f":"(COUNTIF($H22:J22,J22)-1)*0.00001+J22","v":-1.0000000000000001E-5},{"$f":"(COUNTIF($H22:K22,K22)-1)*0.00001+K22","v":-1.0000000000000001E-5},"",0]
[null,null,null,null,null,null,null,null,null,null,null,"","","","",null,null,null,null,null,null,null,null,null,null,null,null,null,null,null,"","",{"$f":"(COUNTIF(H23:$H23,H23)-1)*0.00001+H23","v":-1.0000000000000001E-5},{"$f":"(COUNTIF($H23:I23,I23)-1)*0.00001+I23","v":-1.0000000000000001E-5},{"$f":"(COUNTIF($H23:J23,J23)-1)*0.00001+J23","v":-1.0000000000000001E-5},{"$f":"(COUNTIF($H23:K23,K23)-1)*0.00001+K23","v":-1.0000000000000001E-5},"",0]
[null,null,null,null,null,null,null,null,null,null,null,"","","","",null,null,null,null,null,null,null,null,null,null,null,null,null,null,null,"","",{"$f":"(COUNTIF(H24:$H24,H24)-1)*0.00001+H24","v":-1.0000000000000001E-5},{"$f":"(COUNTIF($H24:I24,I24)-1)*0.00001+I24","v":-1.0000000000000001E-5},{"$f":"(COUNTIF($H24:J24,J24)-1)*0.00001+J24","v":-1.0000000000000001E-5},{"$f":"(COUNTIF($H24:K24,K24)-1)*0.00001+K24","v":-1.0000000000000001E-5},"",0]
[null,null,null,null,null,null,null,null,null,null,null,"","","","",null,null,null,null,null,null,null,null,null,null,null,null,null,null,null,"","",{"$f":"(COUNTIF(H25:$H25,H25)-1)*0.00001+H25","v":-1.0000000000000001E-5},{"$f":"(COUNTIF($H25:I25,I25)-1)*0.00001+I25","v":-1.0000000000000001E-5},{"$f":"(COUNTIF($H25:J25,J25)-1)*0.00001+J25","v":-1.0000000000000001E-5},{"$f":"(COUNTIF($H25:K25,K25)-1)*0.00001+K25","v":-1.0000000000000001E-5},"",0]
[null,null,null,null,null,null,null,null,null,null,null,"","","","",null,null,null,null,null,null,null,null,null,null,null,null,null,null,null,"","",{"$f":"(COUNTIF(H26:$H26,H26)-1)*0.00001+H26","v":-1.0000000000000001E-5},{"$f":"(COUNTIF($H26:I26,I26)-1)*0.00001+I26","v":-1.0000000000000001E-5},{"$f":"(COUNTIF($H26:J26,J26)-1)*0.00001+J26","v":-1.0000000000000001E-5},{"$f":"(COUNTIF($H26:K26,K26)-1)*0.00001+K26","v":-1.0000000000000001E-5},"",0]
[null,null,null,null,null,null,null,null,null,null,null,"","","","",null,null,null,null,null,null,null,null,null,null,null,null,null,null,null,"","",{"$f":"(COUNTIF(H27:$H27,H27)-1)*0.00001+H27","v":-1.0000000000000001E-5},{"$f":"(COUNTIF($H27:I27,I27)-1)*0.00001+I27","v":-1.0000000000000001E-5},{"$f":"(COUNTIF($H27:J27,J27)-1)*0.00001+J27","v":-1.0000000000000001E-5},{"$f":"(COUNTIF($H27:K27,K27)-1)*0.00001+K27","v":-1.0000000000000001E-5},"",0]
[null,null,null,null,null,null,null,null,null,null,null,"","","","",null,null,null,null,null,null,null,null,null,null,null,null,null,null,null,"","",{"$f":"(COUNTIF(H28:$H28,H28)-1)*0.00001+H28","v":-1.0000000000000001E-5},{"$f":"(COUNTIF($H28:I28,I28)-1)*0.00001+I28","v":-1.0000000000000001E-5},{"$f":"(COUNTIF($H28:J28,J28)-1)*0.00001+J28","v":-1.0000000000000001E-5},{"$f":"(COUNTIF($H28:K28,K28)-1)*0.00001+K28","v":-1.0000000000000001E-5},"",0]
[null,null,null,null,null,null,null,null,null,null,null,"","","","",null,null,null,null,null,null,null,null,null,null,null,null,null,null,null,"","",{"$f":"(COUNTIF(H29:$H29,H29)-1)*0.00001+H29","v":-1.0000000000000001E-5},{"$f":"(COUNTIF($H29:I29,I29)-1)*0.00001+I29","v":-1.0000000000000001E-5},{"$f":"(COUNTIF($H29:J29,J29)-1)*0.00001+J29","v":-1.0000000000000001E-5},{"$f":"(COUNTIF($H29:K29,K29)-1)*0.00001+K29","v":-1.0000000000000001E-5},"",0]
[null,null,null,null,null,null,null,null,null,null,null,"","","","",null,null,null,null,null,null,null,null,null,null,null,null,null,null,null,"","",{"$f":"(COUNTIF(H30:$H30,H30)-1)*0.00001+H30","v":-1.0000000000000001E-5},{"$f":"(COUNTIF($H30:I30,I30)-1)*0.00001+I30","v":-1.0000000000000001E-5},{"$f":"(COUNTIF($H30:J30,J30)-1)*0.00001+J30","v":-1.0000000000000001E-5},{"$f":"(COUNTIF($H30:K30,K30)-1)*0.00001+K30","v":-1.0000000000000001E-5},"",0]
[null,null,null,null,null,null,null,null,null,null,null,"","","","",null,null,null,null,null,null,null,null,null,null,null,null,null,null,null,"","",{"$f":"(COUNTIF(H31:$H31,H31)-1)*0.00001+H31","v":-1.0000000000000001E-5},{"$f":"(COUNTIF($H31:I31,I31)-1)*0.00001+I31","v":-1.0000000000000001E-5},{"$f":"(COUNTIF($H31:J31,J31)-1)*0.00001+J31","v":-1.0000000000000001E-5},{"$f":"(COUNTIF($H31:K31,K31)-1)*0.00001+K31","v":-1.0000000000000001E-5},"",0]
[null,null,null,null,null,null,null,null,null,null,null,"","","","",null,null,null,null,null,null,null,null,null,null,null,null,null,null,null,"","",{"$f":"(COUNTIF(H32:$H32,H32)-1)*0.00001+H32","v":-1.0000000000000001E-5},{"$f":"(COUNTIF($H32:I32,I32)-1)*0.00001+I32","v":-1.0000000000000001E-5},{"$f":"(COUNTIF($H32:J32,J32)-1)*0.00001+J32","v":-1.0000000000000001E-5},{"$f":"(COUNTIF($H32:K32,K32)-1)*0.00001+K32","v":-1.0000000000000001E-5},"",0]
[null,null,null,null,null,null,null,null,null,null,null,"","","","",null,null,null,null,null,null,null,null,null,null,null,null,null,null,null,"","",{"$f":"(COUNTIF(H33:$H33,H33)-1)*0.00001+H33","v":-1.0000000000000001E-5},{"$f":"(COUNTIF($H33:I33,I33)-1)*0.00001+I33","v":-1.0000000000000001E-5},{"$f":"(COUNTIF($H33:J33,J33)-1)*0.00001+J33","v":-1.0000000000000001E-5},{"$f":"(COUNTIF($H33:K33,K33)-1)*0.00001+K33","v":-1.0000000000000001E-5},"",0]
[null,null,null,null,null,null,null,null,null,null,null,"","","","",null,null,null,null,null,null,null,null,null,null,null,null,null,null,null,"","",{"$f":"(COUNTIF(H34:$H34,H34)-1)*0.00001+H34","v":-1.0000000000000001E-5},{"$f":"(COUNTIF($H34:I34,I34)-1)*0.00001+I34","v":-1.0000000000000001E-5},{"$f":"(COUNTIF($H34:J34,J34)-1)*0.00001+J34","v":-1.0000000000000001E-5},{"$f":"(COUNTIF($H34:K34,K34)-1)*0.00001+K34","v":-1.0000000000000001E-5},"",0]
[null,null,null,null,null,null,null,null,null,null,null,"","","","",null,null,null,null,null,null,null,null,null,null,null,null,null,null,null,"","",{"$f":"(COUNTIF(H35:$H35,H35)-1)*0.00001+H35","v":-1.0000000000000001E-5},{"$f":"(COUNTIF($H35:I35,I35)-1)*0.00001+I35","v":-1.0000000000000001E-5},{"$f":"(COUNTIF($H35:J35,J35)-1)*0.00001+J35","v":-1.0000000000000001E-5},{"$f":"(COUNTIF($H35:K35,K35)-1)*0.00001+K35","v":-1.0000000000000001E-5},"",0]
[null,null,null,null,null,null,null,null,null,null,null,"","","","",null,null,null,null,null,null,null,null,null,null,null,null,null,null,null,"","",{"$f":"(COUNTIF(H36:$H36,H36)-1)*0.00001+H36","v":-1.0000000000000001E-5},{"$f":"(COUNTIF($H36:I36,I36)-1)*0.00001+I36","v":-1.0000000000000001E-5},{"$f":"(COUNTIF($H36:J36,J36)-1)*0.00001+J36","v":-1.0000000000000001E-5},{"$f":"(COUNTIF($H36:K36,K36)-1)*0.00001+K36","v":-1.0000000000000001E-5},"",0]
[null,null,null,null,null,null,null,null,null,null,null,"","","","",null,null,null,null,null,null,null,null,null,null,null,null,null,null,null,"","",{"$f":"(COUNTIF(H37:$H37,H37)-1)*0.00001+H37","v":-1.0000000000000001E-5},{"$f":"(COUNTIF($H37:I37,I37)-1)*0.00001+I37","v":-1.0000000000000001E-5},{"$f":"(COUNTIF($H37:J37,J37)-1)*0.00001+J37","v":-1.0000000000000001E-5},{"$f":"(COUNTIF($H37:K37,K37)-1)*0.00001+K37","v":-1.0000000000000001E-5},"",0]
[null,null,null,null,null,null,null,null,null,null,null,"","","","",null,null,null,null,null,null,null,null,null,null,null,null,null,null,null,"","",{"$f":"(COUNTIF(H38:$H38,H38)-1)*0.00001+H38","v":-1.0000000000000001E-5},{"$f":"(COUNTIF($H38:I38,I38)-1)*0.00001+I38","v":-1.0000000000000001E-5},{"$f":"(COUNTIF($H38:J38,J38)-1)*0.00001+J38","v":-1.0000000000000001E-5},{"$f":"(COUNTIF($H38:K38,K38)-1)*0.00001+K38","v":-1.0000000000000001E-5},"",0]
[null,null,null,null,null,null,null,null,null,null,null,"","","","",null,null,null,null,null,null,null,null,null,null,null,null,null,null,null,"","",{"$f":"(COUNTIF(H39:$H39,H39)-1)*0.00001+H39","v":-1.0000000000000001E-5},{"$f":"(COUNTIF($H39:I39,I39)-1)*0.00001+I39","v":-1.0000000000000001E-5},{"$f":"(COUNTIF($H39:J39,J39)-1)*0.00001+J39","v":-1.0000000000000001E-5},{"$f":"(COUNTIF($H39:K39,K39)-1)*0.00001+K39","v":-1.0000000000000001E-5},"",0]
[null,null,null,null,null,null,null,null,null,null,null,"","","","",null,null,null,null,null,null,null,null,null,null,null,null,null,null,null,"","",{"$f":"(COUNTIF(H40:$H40,H40)-1)*0.00001+H40","v":-1.0000000000000001E-5},{"$f":"(COUNTIF($H40:I40,I40)-1)*0.00001+I40","v":-1.0000000000000001E-5},{"$f":"(COUNTIF($H40:J40,J40)-1)*0.00001+J40","v":-1.0000000000000001E-5},{"$f":"(COUNTIF($H40:K40,K40)-1)*0.00001+K40","v":-1.0000000000000001E-5},"",0]
[null,null,null,null,null,null,null,null,null,null,null,"","","","",null,null,null,null,null,null,null,null,null,null,null,null,null,null,null,"","",{"$f":"(COUNTIF(H41:$H41,H41)-1)*0.00001+H41","v":-1.0000000000000001E-5},{"$f":"(COUNTIF($H41:I41,I41)-1)*0.00001+I41","v":-1.0000000000000001E-5},{"$f":"(COUNTIF($H41:J41,J41)-1)*0.00001+J41","v":-1.0000000000000001E-5},{"$f":"(COUNTIF($H41:K41,K41)-1)*0.00001+K41","v":-1.0000000000000001E-5},"",0]
[null,null,null,null,null,null,null,null,null,null,null,"","","","",null,null,null,null,null,null,null,null,null,null,null,null,null,null,null,"","",{"$f":"(COUNTIF(H42:$H42,H42)-1)*0.00001+H42","v":-1.0000000000000001E-5},{"$f":"(COUNTIF($H42:I42,I42)-1)*0.00001+I42","v":-1.0000000000000001E-5},{"$f":"(COUNTIF($H42:J42,J42)-1)*0.00001+J42","v":-1.0000000000000001E-5},{"$f":"(COUNTIF($H42:K42,K42)-1)*0.00001+K42","v":-1.0000000000000001E-5},"",0]
[null,null,null,null,null,null,null,null,null,null,null,"","","","",null,null,null,null,null,null,null,null,null,null,null,null,null,null,null,"","",{"$f":"(COUNTIF(H43:$H43,H43)-1)*0.00001+H43","v":-1.0000000000000001E-5},{"$f":"(COUNTIF($H43:I43,I43)-1)*0.00001+I43","v":-1.0000000000000001E-5},{"$f":"(COUNTIF($H43:J43,J43)-1)*0.00001+J43","v":-1.0000000000000001E-5},{"$f":"(COUNTIF($H43:K43,K43)-1)*0.00001+K43","v":-1.0000000000000001E-5},"",0]
[null,null,null,null,null,null,null,null,null,null,null,"","","","",null,null,null,null,null,null,null,null,null,null,null,null,null,null,null,"","",{"$f":"(COUNTIF(H44:$H44,H44)-1)*0.00001+H44","v":-1.0000000000000001E-5},{"$f":"(COUNTIF($H44:I44,I44)-1)*0.00001+I44","v":-1.0000000000000001E-5},{"$f":"(COUNTIF($H44:J44,J44)-1)*0.00001+J44","v":-1.0000000000000001E-5},{"$f":"(COUNTIF($H44:K44,K44)-1)*0.00001+K44","v":-1.0000000000000001E-5},"",0]
[null,null,null,null,null,null,null,null,null,null,null,"","","","",null,null,null,null,null,null,null,null,null,null,null,null,null,null,null,"","",{"$f":"(COUNTIF(H45:$H45,H45)-1)*0.00001+H45","v":-1.0000000000000001E-5},{"$f":"(COUNTIF($H45:I45,I45)-1)*0.00001+I45","v":-1.0000000000000001E-5},{"$f":"(COUNTIF($H45:J45,J45)-1)*0.00001+J45","v":-1.0000000000000001E-5},{"$f":"(COUNTIF($H45:K45,K45)-1)*0.00001+K45","v":-1.0000000000000001E-5},"",0]
[null,null,null,null,null,null,null,null,null,null,null,"","","","",null,null,null,null,null,null,null,null,null,null,null,null,null,null,null,"","",{"$f":"(COUNTIF(H46:$H46,H46)-1)*0.00001+H46","v":-1.0000000000000001E-5},{"$f":"(COUNTIF($H46:I46,I46)-1)*0.00001+I46","v":-1.0000000000000001E-5},{"$f":"(COUNTIF($H46:J46,J46)-1)*0.00001+J46","v":-1.0000000000000001E-5},{"$f":"(COUNTIF($H46:K46,K46)-1)*0.00001+K46","v":-1.0000000000000001E-5},{"$f":"IF(AND(H46=\"\",I46=\"\",J46=\"\",K46=\"\"),\"\",INDEX($AG$16:$AJ$16,MATCH(MAX(AG46:AJ46),AG46:AJ46,0)))","v":""},0]

{"sheet":"Worksheet A-Scoping","index":5,"n_rows":28,"n_cols":8,"rows_kept":28,"cut":false,"hidden":false,"merged":[[18,0,23,1],[17,3,17,4],[16,2,17,2],[9,0,17,1],[16,5,17,5],[26,0,26,7],[13,6,14,6],[11,7,12,7],[13,7,14,7],[8,5,8,7],[9,5,10,5],[9,6,10,6],[9,7,10,7],[11,5,12,5],[13,5,14,5],[11,6,12,6],[24,0,25,1],[8,3,8,4],[23,3,23,4],[16,6,17,6],[16,7,17,7],[2,0,2,2],[8,0,8,2],[13,2,14,2],[11,2,12,2],[9,2,10,2],[4,1,4,2],[4,6,4,7],[9,3,9,4],[10,3,10,4],[25,3,25,4],[24,3,24,4],[22,3,22,4],[21,3,21,4],[20,3,20,4],[19,3,19,4],[18,3,18,4],[16,3,16,4],[15,3,15,4],[14,3,14,4],[13,3,13,4],[12,3,12,4],[11,3,11,4]]}
["Worksheet A-Scoping"]
[]
["Date:                                                                   ",null,null,"Prepared By: "]
[]
["Project ID:                                                                 ",{"$f":"IFERROR(IF('Cover Sheet'!G3=0,\"\",'Cover Sheet'!G3),\"\")","v":""},null,"Location:",{"$f":"IFERROR(IF('Cover Sheet'!G4=0,\"\",'Cover Sheet'!G4),\"\")","v":""},"Municipality:",{"$f":"IFERROR(IF('Cover Sheet'!G5=0,\"\",'Cover Sheet'!G5),\"\")","v":""}]
[]
["Instructions: Enter data in unshaded boxes. "]
[]
[null,null,null,"Project Information",null,"Stormwater Treatment Information  "]
["Input \nreceiving waterbody information.\n",null,"A","Step 3.2(a): Enter Waterbody ID (WBID) per the"]
[null,null,null,"RIDOT Stormwater Program Web Map."]
[null,null,"B","Step 3.2(a): Enter waterbody name per the"]
[null,null,null,"RIDOT Stormwater Program Web Map."]
[null,null,"C","Step 3.2(c): Is the WBID impaired per the"]
[null,null,null,"RIDEM Environmental Resources Map"]
[null,null,"D","Step 3.2(c): Enter stormwater impairments/ pollutants of concern. Enter N/A if none."]
[null,null,"E","Step 3.2(d) Is this WBID in a watershed with Current SCP Results of \"<10% IC and no TMDL\" per the"]
[null,null,null,"RIDOT Stormwater Program Web Map."]
["Input pre- & post- construction impervious areas.\n\nEnter non-discharge areas (Rows G and J) on the Non-Discharge Areas tab.",null,"F","Total Pre-ConstructionA Impervious Area (acres) "]
[null,null,"G","Existing Impervious Area that is Non-DischargingB (acres)",null,{"$f":"SUMIFS('Non-Discharge Areas'!$E$17:$E$46,'Non-Discharge Areas'!$B$17:$B$46,'Worksheet A-Scoping'!F10,'Non-Discharge Areas'!$AL$17:$AL$46,1)/43560","v":0},{"$f":"SUMIFS('Non-Discharge Areas'!$E$17:$E$46,'Non-Discharge Areas'!$B$17:$B$46,'Worksheet A-Scoping'!G10,'Non-Discharge Areas'!$AL$17:$AL$46,1)/43560","v":0},{"$f":"SUMIFS('Non-Discharge Areas'!$E$17:$E$46,'Non-Discharge Areas'!$B$17:$B$46,'Worksheet A-Scoping'!H10,'Non-Discharge Areas'!$AL$17:$AL$46,1)/43560","v":0}]
[null,null,"H","Total DisturbedC Existing Impervious Area (acres) "]
[null,null,null,"└ Total Portion of (H) that comprises Mill & Overlay and/or Reclamation Area (acres)"]
[null,null,"I","Total Post-ConstructionA Impervious Area (acres) "]
[null,null,"J","Net Increase in Impervious Area that is Non-DischargingD (acres)",null,{"$f":"SUMIFS('Non-Discharge Areas'!$F$17:$F$46,'Non-Discharge Areas'!$B$17:$B$46,'Worksheet A-Scoping'!F10,'Non-Discharge Areas'!$AL$17:$AL$46,1)/43560","v":0},{"$f":"SUMIFS('Non-Discharge Areas'!$F$17:$F$46,'Non-Discharge Areas'!$B$17:$B$46,'Worksheet A-Scoping'!G10,'Non-Discharge Areas'!$AL$17:$AL$46,1)/43560","v":0},{"$f":"SUMIFS('Non-Discharge Areas'!$F$17:$F$46,'Non-Discharge Areas'!$B$17:$B$46,'Worksheet A-Scoping'!H10,'Non-Discharge Areas'!$AL$17:$AL$46,1)/43560","v":0}]
["Calculate treatment goal.",null,"K","Post-Construction Net Increase in Impervious Surface AreaE (acres) = (I) - (F)",null,{"$f":"IF(((F23-F19)>0),(F23-F19),0)","v":0},{"$f":"IF(((G23-G19)>0),(G23-G19),0)","v":0},0]
[null,null,"L","Post-Construction Impervious Surface Requiring TreatmentF (acres) = (H - G)*0.5 + (K - J)",null,{"$f":"IF(((F21-F20)*0.5+(F25-F24))<0,\"\",((F21-F20)*0.5+(F25-F24)))","v":0},{"$f":"IF(((G21-G20)*0.5+(G25-G24))<0,\"\",((G21-G20)*0.5+(G25-G24)))","v":0},0]
["AIndependent of project phasing.\nBExisting impervious area that is non-discharging (Row G) cannot exceed total disturbed existing impervious area (Row H). If so, review Non-Discharge Area tab.\nCIncludes all disturbed impervious area with the exception of impervious area disturbed during pavement marking, installing traffic induction loops, installing wheelchair ramps, crack sealing, bridge washing, and limited scale maintenance activities.\nDNet increase in impervious area that is non-discharging (Row J) cannot exceed post-construction net increase in impervious surface area (Row K). If so, review Non-Discharge Area tab.\nEWill appear as 0 if there is a net decrease in impervious area. Reduction in impervious cover is accounted for in Row E of Worksheet B.\nFPost-construction impervious surface requiring treatment will be positive or 0. If no value is shown, review inputs. "]
[" "]

{"sheet":"LID & STUs","index":6,"n_rows":229,"n_cols":44,"rows_kept":229,"cut":false,"hidden":false,"merged":[[83,0,84,4],[85,3,85,4],[214,13,214,14],[215,13,215,14],[216,13,216,14],[217,13,217,14],[218,13,218,14],[196,11,198,11],[196,12,198,12],[166,4,166,5],[167,4,167,5],[196,0,198,0],[196,1,198,1],[196,2,198,2],[32,12,32,13],[33,12,33,13],[34,12,34,13],[35,12,35,13],[22,12,22,13],[23,12,23,13],[24,12,24,13],[25,12,25,13],[26,12,26,13],[27,12,27,13],[225,13,225,14],[222,13,222,14],[224,13,224,14],[65,4,65,5],[66,4,66,5],[67,4,67,5],[77,4,77,5],[78,4,78,5],[36,12,36,13],[69,4,69,5],[70,4,70,5],[138,4,138,5],[142,4,142,5],[143,4,143,5],[147,4,147,5],[148,4,148,5],[170,4,170,5],[171,4,171,5],[126,4,126,5],[127,4,127,5],[128,4,128,5],[151,4,151,5],[152,4,152,5],[146,4,146,5],[54,4,54,5],[57,4,57,5],[58,4,58,5],[59,4,59,5],[60,4,60,5],[61,4,61,5],[62,4,62,5],[176,4,176,5],[177,4,177,5],[63,4,63,5],[169,4,169,5],[149,4,149,5],[150,4,150,5],[153,4,153,5],[154,4,154,5],[155,4,155,5],[156,4,156,5],[144,4,144,5],[145,4,145,5],[129,4,129,5],[130,4,130,5],[131,4,131,5],[132,4,132,5],[55,4,55,5],[220,13,220,14],[133,4,133,5],[134,4,134,5],[135,4,135,5],[136,4,136,5],[137,4,137,5],[76,4,76,5],[79,4,79,5],[72,4,72,5],[73,4,73,5],[74,4,74,5],[139,4,139,5],[140,4,140,5],[141,4,141,5],[178,4,178,5],[179,4,179,5],[180,4,180,5],[219,13,219,14],[203,13,203,14],[204,13,204,14],[205,13,205,14],[206,13,206,14],[207,13,207,14],[196,3,196,10],[223,13,223,14],[125,0,125,2],[68,4,68,5],[53,4,53,5],[80,4,80,5],[81,4,81,5],[51,4,51,5],[52,4,52,5],[64,4,64,5],[172,4,172,5],[173,4,173,5],[174,4,174,5],[175,4,175,5],[168,4,168,5],[186,4,186,5],[187,4,187,5],[188,4,188,5],[189,4,189,5],[123,0,124,16],[71,4,71,5],[125,3,125,14],[221,13,221,14],[75,4,75,5],[56,4,56,5],[50,0,50,2],[50,3,50,13],[50,14,50,15],[43,12,43,13],[44,12,44,13],[13,35,13,43],[14,0,16,0],[14,1,16,1],[14,2,16,2],[14,3,14,10],[14,11,16,11],[14,12,16,13],[14,14,16,14],[14,15,16,15],[14,16,16,16],[14,43,16,43],[15,3,15,4],[42,12,42,13],[15,5,15,6],[15,7,15,8],[15,9,15,10],[14,34,16,34],[14,35,16,35],[17,12,17,13],[14,39,16,39],[11,32,12,43],[13,21,13,28],[13,32,13,34],[11,0,12,28],[14,40,16,40],[14,41,16,41],[14,42,16,42],[48,32,49,39],[18,12,18,13],[41,12,41,13],[45,12,45,13],[46,12,46,13],[37,12,37,13],[38,12,38,13],[39,12,39,13],[40,12,40,13],[28,12,28,13],[29,12,29,13],[19,12,19,13],[20,12,20,13],[21,12,21,13],[30,12,30,13],[31,12,31,13],[123,32,124,38],[14,27,16,27],[14,28,16,28],[14,32,16,32],[14,17,16,17],[14,18,16,18],[14,19,16,19],[14,20,16,20],[14,21,15,22],[14,23,16,23],[14,26,16,26],[14,36,16,36],[14,37,16,37],[14,38,16,38],[14,24,16,24],[14,25,16,25],[14,33,16,33],[125,34,125,37],[85,0,85,2],[228,13,228,14],[196,40,198,40],[196,41,198,41],[196,42,198,42],[196,43,198,43],[197,3,197,4],[197,5,197,6],[197,7,197,8],[197,9,197,10],[196,34,198,34],[196,35,198,35],[196,36,198,36],[196,37,198,37],[196,38,198,38],[196,39,198,39],[196,27,198,27],[196,28,198,28],[196,29,198,29],[196,30,198,30],[196,24,197,25],[196,31,198,31],[227,13,227,14],[2,0,2,1],[158,0,159,15],[48,0,49,15],[199,13,199,14],[200,13,200,14],[196,22,198,22],[195,0,195,2],[195,3,195,10],[160,0,160,2],[160,3,160,13],[160,14,160,15],[161,4,161,5],[4,5,4,6],[163,4,163,5],[190,4,190,5],[191,4,191,5],[162,4,162,5],[125,15,125,16],[13,0,13,2],[13,3,13,10],[13,11,13,20],[2,2,2,3],[196,18,198,18],[196,19,198,19],[196,23,198,23],[202,13,202,14],[213,13,213,14],[201,13,201,14],[208,13,208,14],[209,13,209,14],[210,13,210,14],[211,13,211,14],[212,13,212,14],[196,32,198,32],[196,33,198,33],[196,20,198,20],[196,21,198,21],[226,13,226,14],[193,32,194,43],[195,32,195,34],[195,35,195,43],[158,32,159,39],[195,24,195,31],[195,11,195,23],[193,0,194,31],[181,4,181,5],[182,4,182,5],[183,4,183,5],[184,4,184,5],[185,4,185,5],[164,4,164,5],[165,4,165,5],[196,26,198,26],[196,13,198,14],[196,15,198,15],[196,16,198,16],[196,17,198,17]]}
["LID & STUs Summary"]
[]
["Date:                                                                   ",null,"Prepared By: "]
[]
["Project ID:                                                                 ",{"$f":"IFERROR(IF('Cover Sheet'!G3=0,\"\",'Cover Sheet'!G3),\"\")","v":""},"Location:",{"$f":"IFERROR(IF('Cover Sheet'!G4=0,\"\",'Cover Sheet'!G4),\"\")","v":""},"Municipality:",{"$f":"IFERROR(IF('Cover Sheet'!G5=0,\"\",'Cover Sheet'!G5),\"\")","v":""}]
[]
["Instructions: Enter data in unshaded boxes. Water quality treatment credit (acres of Effective Impervious Cover (IC) reduction) will appear once all required information is populated and error messages are resolved. "]
[null," Rows in each table can be unhidden for additional controls."]
[]
["Populate to Complete Worksheets B-30%, B-90%, and C-As Built"]
[]
["Table 1: Summary of Existing STUs (Row C)",null,null,null,null,null,null,null,null,null,null,null,null,null,null,null,null,null,null,null,null,null,null,null,null,null,null,null,null,null,null,null,"Table 1-1: Existing STU Calculations"]
[]
["Project Information",null,null,"Hydrologic Analysis Summary",null,null,null,null,null,null,null,"Water Quality Treatment Calculations",null,null,null,null,null,null,null,null,null,"Summary of Soils to Evaluate STUs",null,null,null,null,null,null,null,null,null,null,"Impervious  and Pervious Area (Hide Columns)",null,null,"Depth of Runoff Treated (Hide Columns)"]
["STU ID","WBID","DP No.","Runoff Method Applied for 1.2\" Water Quality Event:",null,null,null,null,null,null,null,"Applied to RIDEM Treatment Target?*","STU Type*",null,"STU Soil Type*","Total Area Directed to STU (ft2)","Impervious Area Directed to STU (ft2)","Provided Pretreat-ment Vol. \n(ft3) ","STU Storage Volume\n(ft3)","Treatment Depth (in.)","Effective IC Reduction (acres)","Test Pit ID",null,"Depth of Boring/Test Pit\n(ft.)","Top of Filter Elev. \n(ft.)","SHGT Elev. (ft.)","Separation Distance \n(ft.)","Hydrologic Soil Group A, B, C or D","Exfiltration Rate Applied\n(in./hr.)",null,null,null,"Impervious Area (acres)","Pervious Area Directed to STU\n(ft2)","Pervious Area \n(acres)"," % Impervious","Row Function","TSS Removal Credit (%)","P Removal Credit (%)","TSS Reduction Factor","Phosphorous Reduction Factor","Runoff Factor","Flow Factor","Pervious Cover Factor"]
[null,null,null,"1.2\" Peak Flow",null,"1-yr. Peak Flow",null,"10-yr. Peak Flow",null,"100-yr. Peak Flow"]
[null,null,null,"Pre (cfs)","Post (cfs)","Pre (cfs)","Post (cfs)","Pre (cfs)","Post (cfs)","Pre (cfs)","Post (cfs)",null,null,null,null,null,null,null,null,null,null,"Primary","Secondary"]
[null,null,null,null,null,null,null,null,null,null,null,null,null,null,null,null,null,null,null,{"$f":"IFERROR((S18/Q18*12),\"\")","v":""},{"$f":"IFERROR((AG18*AR18),\"\")","v":""},null,null,null,null,null,null,null,null,null,null,null,{"$f":"IF(A18=\"\",\"\",Q18/43560)","v":""},{"$f":"IF(M18=\"\",\"\",(IF((P18-Q18)<=0,0,(P18-Q18))))","v":""},{"$f":"IF(A18=\"\",\"\",AH18/43560)","v":""},{"$f":"IF(A18=\"\",\"\",(AG18/(AG18+AI18)))","v":""},{"$f":"IF(ISBLANK(M18),\"\",IF(ISBLANK(O18),\"\",RowFunc(M18,O18)))","v":""},{"$f":"IFERROR(IF($AJ18>=0.5,INTERPRNG_h($T18,'STU Treatment Values'!$N$5:$W$38,0,1,AK18),INTERPRNG_h($T18,'STU Treatment Values'!$N$40:$W$73,0,1,$AK18)),\"\")","v":""},{"$f":"IFERROR(IF($AJ18>=0.5,INTERPRNG_h($T18,'STU Treatment Values'!$B$5:$K$38,0,1,$AK18),INTERPRNG_h($T18,'STU Treatment Values'!$B$40:$K$73,0,1,$AK18)),\"\")","v":""},{"$f":"IFERROR(IF(AL18/0.9>1,1,AL18/0.9),\"\")","v":""},{"$f":"IFERROR(IF(AM18/0.9>1,1,AM18/0.9),\"\")","v":""},{"$f":"IFERROR(INTERPRNG_h($T18,'STU Treatment Values'!$B$112:$K$145,0,1,$AK18),\"\")","v":""},{"$f":"IFERROR(INTERPRNG_h($T18,'STU Treatment Values'!$B$76:$K$109,0,1,$AK18),\"\")","v":""},{"$f":"IFERROR((AN18+AO18+AP18+AQ18)/4,\"\")","v":""}]
[null,null,null,null,null,null,null,null,null,null,null,null,null,null,null,null,null,null,null,{"$f":"IFERROR((S19/Q19*12),\"\")","v":""},{"$f":"IFERROR((AG19*AR19),\"\")","v":""},null,null,null,null,null,null,null,null,null,null,null,{"$f":"IF(A19=\"\",\"\",Q19/43560)","v":""},{"$f":"IF(M19=\"\",\"\",(IF((P19-Q19)<=0,0,(P19-Q19))))","v":""},{"$f":"IF(A19=\"\",\"\",AH19/43560)","v":""},{"$f":"IF(A19=\"\",\"\",(AG19/(AG19+AI19)))","v":""},{"$f":"IF(ISBLANK(M19),\"\",IF(ISBLANK(O19),\"\",RowFunc(M19,O19)))","v":""},{"$f":"IFERROR(IF($AJ19>=0.5,INTERPRNG_h($T19,'STU Treatment Values'!$N$5:$W$38,0,1,AK19),INTERPRNG_h($T19,'STU Treatment Values'!$N$40:$W$73,0,1,$AK19)),\"\")","v":""},{"$f":"IFERROR(IF($AJ19>=0.5,INTERPRNG_h($T19,'STU Treatment Values'!$B$5:$K$38,0,1,$AK19),INTERPRNG_h($T19,'STU Treatment Values'!$B$40:$K$73,0,1,$AK19)),\"\")","v":""},{"$f":"IFERROR(IF(AL19/0.9>1,1,AL19/0.9),\"\")","v":""},{"$f":"IFERROR(IF(AM19/0.9>1,1,AM19/0.9),\"\")","v":""},{"$f":"IFERROR(INTERPRNG_h($T19,'STU Treatment Values'!$B$112:$K$145,0,1,$AK19),\"\")","v":""},{"$f":"IFERROR(INTERPRNG_h($T19,'STU Treatment Values'!$B$76:$K$109,0,1,$AK19),\"\")","v":""},{"$f":"IFERROR((AN19+AO19+AP19+AQ19)/4,\"\")","v":""}]
[null,null,null,null,null,null,null,null,null,null,null,null,null,null,null,null,null,null,null,"",{"$f":"IFERROR((AG20*AR20),\"\")","v":""},null,null,null,null,null,null,null,null,null,null,null,{"$f":"IF(A20=\"\",\"\",Q20/43560)","v":""},{"$f":"IF(M20=\"\",\"\",(IF((P20-Q20)<=0,0,(P20-Q20))))","v":""},{"$f":"IF(A20=\"\",\"\",AH20/43560)","v":""},{"$f":"IF(A20=\"\",\"\",(AG20/(AG20+AI20)))","v":""},{"$f":"IF(ISBLANK(M20),\"\",IF(ISBLANK(O20),\"\",RowFunc(M20,O20)))","v":""},{"$f":"IFERROR(IF($AJ20>=0.5,INTERPRNG_h($T20,'STU Treatment Values'!$N$5:$W$38,0,1,AK20),INTERPRNG_h($T20,'STU Treatment Values'!$N$40:$W$73,0,1,$AK20)),\"\")","v":""},{"$f":"IFERROR(IF($AJ20>=0.5,INTERPRNG_h($T20,'STU Treatment Values'!$B$5:$K$38,0,1,$AK20),INTERPRNG_h($T20,'STU Treatment Values'!$B$40:$K$73,0,1,$AK20)),\"\")","v":""},{"$f":"IFERROR(IF(AL20/0.9>1,1,AL20/0.9),\"\")","v":""},{"$f":"IFERROR(IF(AM20/0.9>1,1,AM20/0.9),\"\")","v":""},{"$f":"IFERROR(INTERPRNG_h($T20,'STU Treatment Values'!$B$112:$K$145,0,1,$AK20),\"\")","v":""},{"$f":"IFERROR(INTERPRNG_h($T20,'STU Treatment Values'!$B$76:$K$109,0,1,$AK20),\"\")","v":""},{"$f":"IFERROR((AN20+AO20+AP20+AQ20)/4,\"\")","v":""}]
[null,null,null,null,null,null,null,null,null,null,null,null,null,null,null,null,null,null,null,"","",null,null,null,null,null,null,null,null,null,null,null,"","","","",{"$f":"IF(ISBLANK(M21),\"\",IF(ISBLANK(O21),\"\",RowFunc(M21,O21)))","v":""},{"$f":"IFERROR(IF($AJ21>=0.5,INTERPRNG_h($T21,'STU Treatment Values'!$N$5:$W$38,0,1,AK21),INTERPRNG_h($T21,'STU Treatment Values'!$N$40:$W$73,0,1,$AK21)),\"\")","v":""},{"$f":"IFERROR(IF($AJ21>=0.5,INTERPRNG_h($T21,'STU Treatment Values'!$B$5:$K$38,0,1,$AK21),INTERPRNG_h($T21,'STU Treatment Values'!$B$40:$K$73,0,1,$AK21)),\"\")","v":""},"","",{"$f":"IFERROR(INTERPRNG_h($T21,'STU Treatment Values'!$B$112:$K$145,0,1,$AK21),\"\")","v":""},{"$f":"IFERROR(INTERPRNG_h($T21,'STU Treatment Values'!$B$76:$K$109,0,1,$AK21),\"\")","v":""},""]
[null,null,null,null,null,null,null,null,null,null,null,null,null,null,null,null,null,null,null,"","",null,null,null,null,null,null,null,null,null,null,null,"","","","",{"$f":"IF(ISBLANK(M22),\"\",IF(ISBLANK(O22),\"\",RowFunc(M22,O22)))","v":""},{"$f":"IFERROR(IF($AJ22>=0.5,INTERPRNG_h($T22,'STU Treatment Values'!$N$5:$W$38,0,1,AK22),INTERPRNG_h($T22,'STU Treatment Values'!$N$40:$W$73,0,1,$AK22)),\"\")","v":""},{"$f":"IFERROR(IF($AJ22>=0.5,INTERPRNG_h($T22,'STU Treatment Values'!$B$5:$K$38,0,1,$AK22),INTERPRNG_h($T22,'STU Treatment Values'!$B$40:$K$73,0,1,$AK22)),\"\")","v":""},"","",{"$f":"IFERROR(INTERPRNG_h($T22,'STU Treatment Values'!$B$112:$K$145,0,1,$AK22),\"\")","v":""},{"$f":"IFERROR(INTERPRNG_h($T22,'STU Treatment Values'!$B$76:$K$109,0,1,$AK22),\"\")","v":""},""]
[null,null,null,null,null,null,null,null,null,null,null,null,null,null,null,null,null,null,null,"","",null,null,null,null,null,null,null,null,null,null,null,"","","","",{"$f":"IF(ISBLANK(M23),\"\",IF(ISBLANK(O23),\"\",RowFunc(M23,O23)))","v":""},{"$f":"IFERROR(IF($AJ23>=0.5,INTERPRNG_h($T23,'STU Treatment Values'!$N$5:$W$38,0,1,AK23),INTERPRNG_h($T23,'STU Treatment Values'!$N$40:$W$73,0,1,$AK23)),\"\")","v":""},{"$f":"IFERROR(IF($AJ23>=0.5,INTERPRNG_h($T23,'STU Treatment Values'!$B$5:$K$38,0,1,$AK23),INTERPRNG_h($T23,'STU Treatment Values'!$B$40:$K$73,0,1,$AK23)),\"\")","v":""},"","",{"$f":"IFERROR(INTERPRNG_h($T23,'STU Treatment Values'!$B$112:$K$145,0,1,$AK23),\"\")","v":""},{"$f":"IFERROR(INTERPRNG_h($T23,'STU Treatment Values'!$B$76:$K$109,0,1,$AK23),\"\")","v":""},""]
[null,null,null,null,null,null,null,null,null,null,null,null,null,null,null,null,null,null,null,"","",null,null,null,null,null,null,null,null,null,null,null,"","","","",{"$f":"IF(ISBLANK(M24),\"\",IF(ISBLANK(O24),\"\",RowFunc(M24,O24)))","v":""},{"$f":"IFERROR(IF($AJ24>=0.5,INTERPRNG_h($T24,'STU Treatment Values'!$N$5:$W$38,0,1,AK24),INTERPRNG_h($T24,'STU Treatment Values'!$N$40:$W$73,0,1,$AK24)),\"\")","v":""},{"$f":"IFERROR(IF($AJ24>=0.5,INTERPRNG_h($T24,'STU Treatment Values'!$B$5:$K$38,0,1,$AK24),INTERPRNG_h($T24,'STU Treatment Values'!$B$40:$K$73,0,1,$AK24)),\"\")","v":""},"","",{"$f":"IFERROR(INTERPRNG_h($T24,'STU Treatment Values'!$B$112:$K$145,0,1,$AK24),\"\")","v":""},{"$f":"IFERROR(INTERPRNG_h($T24,'STU Treatment Values'!$B$76:$K$109,0,1,$AK24),\"\")","v":""},""]
[null,null,null,null,null,null,null,null,null,null,null,null,null,null,null,null,null,null,null,"",{"$f":"IFERROR((AG25*AR25),\"\")","v":""},null,null,null,null,null,null,null,null,null,null,null,"","","","",{"$f":"IF(ISBLANK(M25),\"\",IF(ISBLANK(O25),\"\",RowFunc(M25,O25)))","v":""},{"$f":"IFERROR(IF($AJ25>=0.5,INTERPRNG_h($T25,'STU Treatment Values'!$N$5:$W$38,0,1,AK25),INTERPRNG_h($T25,'STU Treatment Values'!$N$40:$W$73,0,1,$AK25)),\"\")","v":""},{"$f":"IFERROR(IF($AJ25>=0.5,INTERPRNG_h($T25,'STU Treatment Values'!$B$5:$K$38,0,1,$AK25),INTERPRNG_h($T25,'STU Treatment Values'!$B$40:$K$73,0,1,$AK25)),\"\")","v":""},"","",{"$f":"IFERROR(INTERPRNG_h($T25,'STU Treatment Values'!$B$112:$K$145,0,1,$AK25),\"\")","v":""},{"$f":"IFERROR(INTERPRNG_h($T25,'STU Treatment Values'!$B$76:$K$109,0,1,$AK25),\"\")","v":""},""]
[null,null,null,null,null,null,null,null,null,null,null,null,null,null,null,null,null,null,null,"","",null,null,null,null,null,null,null,null,null,null,null,"","","","",{"$f":"IF(ISBLANK(M26),\"\",IF(ISBLANK(O26),\"\",RowFunc(M26,O26)))","v":""},{"$f":"IFERROR(IF($AJ26>=0.5,INTERPRNG_h($T26,'STU Treatment Values'!$N$5:$W$38,0,1,AK26),INTERPRNG_h($T26,'STU Treatment Values'!$N$40:$W$73,0,1,$AK26)),\"\")","v":""},{"$f":"IFERROR(IF($AJ26>=0.5,INTERPRNG_h($T26,'STU Treatment Values'!$B$5:$K$38,0,1,$AK26),INTERPRNG_h($T26,'STU Treatment Values'!$B$40:$K$73,0,1,$AK26)),\"\")","v":""},"","",{"$f":"IFERROR(INTERPRNG_h($T26,'STU Treatment Values'!$B$112:$K$145,0,1,$AK26),\"\")","v":""},{"$f":"IFERROR(INTERPRNG_h($T26,'STU Treatment Values'!$B$76:$K$109,0,1,$AK26),\"\")","v":""},""]
[null,null,null,null,null,null,null,null,null,null,null,null,null,null,null,null,null,null,null,"","",null,null,null,null,null,null,null,null,null,null,null,"","","","",{"$f":"IF(ISBLANK(M27),\"\",IF(ISBLANK(O27),\"\",RowFunc(M27,O27)))","v":""},{"$f":"IFERROR(IF($AJ27>=0.5,INTERPRNG_h($T27,'STU Treatment Values'!$N$5:$W$38,0,1,AK27),INTERPRNG_h($T27,'STU Treatment Values'!$N$40:$W$73,0,1,$AK27)),\"\")","v":""},{"$f":"IFERROR(IF($AJ27>=0.5,INTERPRNG_h($T27,'STU Treatment Values'!$B$5:$K$38,0,1,$AK27),INTERPRNG_h($T27,'STU Treatment Values'!$B$40:$K$73,0,1,$AK27)),\"\")","v":""},"","",{"$f":"IFERROR(INTERPRNG_h($T27,'STU Treatment Values'!$B$112:$K$145,0,1,$AK27),\"\")","v":""},{"$f":"IFERROR(INTERPRNG_h($T27,'STU Treatment Values'!$B$76:$K$109,0,1,$AK27),\"\")","v":""},""]
[null,null,null,null,null,null,null,null,null,null,null,null,null,null,null,null,null,null,null,"","",null,null,null,null,null,null,null,null,null,null,null,"","","","",{"$f":"IF(ISBLANK(M28),\"\",IF(ISBLANK(O28),\"\",RowFunc(M28,O28)))","v":""},{"$f":"IFERROR(IF($AJ28>=0.5,INTERPRNG_h($T28,'STU Treatment Values'!$N$5:$W$38,0,1,AK28),INTERPRNG_h($T28,'STU Treatment Values'!$N$40:$W$73,0,1,$AK28)),\"\")","v":""},{"$f":"IFERROR(IF($AJ28>=0.5,INTERPRNG_h($T28,'STU Treatment Values'!$B$5:$K$38,0,1,$AK28),INTERPRNG_h($T28,'STU Treatment Values'!$B$40:$K$73,0,1,$AK28)),\"\")","v":""},"","",{"$f":"IFERROR(INTERPRNG_h($T28,'STU Treatment Values'!$B$112:$K$145,0,1,$AK28),\"\")","v":""},{"$f":"IFERROR(INTERPRNG_h($T28,'STU Treatment Values'!$B$76:$K$109,0,1,$AK28),\"\")","v":""},""]
[null,null,null,null,null,null,null,null,null,null,null,null,null,null,null,null,null,null,null,"","",null,null,null,null,null,null,null,null,null,null,null,"","","","",{"$f":"IF(ISBLANK(M29),\"\",IF(ISBLANK(O29),\"\",RowFunc(M29,O29)))","v":""},{"$f":"IFERROR(IF($AJ29>=0.5,INTERPRNG_h($T29,'STU Treatment Values'!$N$5:$W$38,0,1,AK29),INTERPRNG_h($T29,'STU Treatment Values'!$N$40:$W$73,0,1,$AK29)),\"\")","v":""},{"$f":"IFERROR(IF($AJ29>=0.5,INTERPRNG_h($T29,'STU Treatment Values'!$B$5:$K$38,0,1,$AK29),INTERPRNG_h($T29,'STU Treatment Values'!$B$40:$K$73,0,1,$AK29)),\"\")","v":""},"","",{"$f":"IFERROR(INTERPRNG_h($T29,'STU Treatment Values'!$B$112:$K$145,0,1,$AK29),\"\")","v":""},{"$f":"IFERROR(INTERPRNG_h($T29,'STU Treatment Values'!$B$76:$K$109,0,1,$AK29),\"\")","v":""},""]
[null,null,null,null,null,null,null,null,null,null,null,null,null,null,null,null,null,null,null,"","",null,null,null,null,null,null,null,null,null,null,null,"","","","",{"$f":"IF(ISBLANK(M30),\"\",IF(ISBLANK(O30),\"\",RowFunc(M30,O30)))","v":""},{"$f":"IFERROR(IF($AJ30>=0.5,INTERPRNG_h($T30,'STU Treatment Values'!$N$5:$W$38,0,1,AK30),INTERPRNG_h($T30,'STU Treatment Values'!$N$40:$W$73,0,1,$AK30)),\"\")","v":""},{"$f":"IFERROR(IF($AJ30>=0.5,INTERPRNG_h($T30,'STU Treatment Values'!$B$5:$K$38,0,1,$AK30),INTERPRNG_h($T30,'STU Treatment Values'!$B$40:$K$73,0,1,$AK30)),\"\")","v":""},"","",{"$f":"IFERROR(INTERPRNG_h($T30,'STU Treatment Values'!$B$112:$K$145,0,1,$AK30),\"\")","v":""},{"$f":"IFERROR(INTERPRNG_h($T30,'STU Treatment Values'!$B$76:$K$109,0,1,$AK30),\"\")","v":""},""]
[null,null,null,null,null,null,null,null,null,null,null,null,null,null,null,null,null,null,null,"","",null,null,null,null,null,null,null,null,null,null,null,"","","","",{"$f":"IF(ISBLANK(M31),\"\",IF(ISBLANK(O31),\"\",RowFunc(M31,O31)))","v":""},{"$f":"IFERROR(IF($AJ31>=0.5,INTERPRNG_h($T31,'STU Treatment Values'!$N$5:$W$38,0,1,AK31),INTERPRNG_h($T31,'STU Treatment Values'!$N$40:$W$73,0,1,$AK31)),\"\")","v":""},{"$f":"IFERROR(IF($AJ31>=0.5,INTERPRNG_h($T31,'STU Treatment Values'!$B$5:$K$38,0,1,$AK31),INTERPRNG_h($T31,'STU Treatment Values'!$B$40:$K$73,0,1,$AK31)),\"\")","v":""},"","",{"$f":"IFERROR(INTERPRNG_h($T31,'STU Treatment Values'!$B$112:$K$145,0,1,$AK31),\"\")","v":""},{"$f":"IFERROR(INTERPRNG_h($T31,'STU Treatment Values'!$B$76:$K$109,0,1,$AK31),\"\")","v":""},""]
[null,null,null,null,null,null,null,null,null,null,null,null,null,null,null,null,null,null,null,"","",null,null,null,null,null,null,null,null,null,null,null,"","","","",{"$f":"IF(ISBLANK(M32),\"\",IF(ISBLANK(O32),\"\",RowFunc(M32,O32)))","v":""},{"$f":"IFERROR(IF($AJ32>=0.5,INTERPRNG_h($T32,'STU Treatment Values'!$N$5:$W$38,0,1,AK32),INTERPRNG_h($T32,'STU Treatment Values'!$N$40:$W$73,0,1,$AK32)),\"\")","v":""},{"$f":"IFERROR(IF($AJ32>=0.5,INTERPRNG_h($T32,'STU Treatment Values'!$B$5:$K$38,0,1,$AK32),INTERPRNG_h($T32,'STU Treatment Values'!$B$40:$K$73,0,1,$AK32)),\"\")","v":""},"","",{"$f":"IFERROR(INTERPRNG_h($T32,'STU Treatment Values'!$B$112:$K$145,0,1,$AK32),\"\")","v":""},{"$f":"IFERROR(INTERPRNG_h($T32,'STU Treatment Values'!$B$76:$K$109,0,1,$AK32),\"\")","v":""},""]
[null,null,null,null,null,null,null,null,null,null,null,null,null,null,null,null,null,null,null,"","",null,null,null,null,null,null,null,null,null,null,null,"","","","",{"$f":"IF(ISBLANK(M33),\"\",IF(ISBLANK(O33),\"\",RowFunc(M33,O33)))","v":""},{"$f":"IFERROR(IF($AJ33>=0.5,INTERPRNG_h($T33,'STU Treatment Values'!$N$5:$W$38,0,1,AK33),INTERPRNG_h($T33,'STU Treatment Values'!$N$40:$W$73,0,1,$AK33)),\"\")","v":""},{"$f":"IFERROR(IF($AJ33>=0.5,INTERPRNG_h($T33,'STU Treatment Values'!$B$5:$K$38,0,1,$AK33),INTERPRNG_h($T33,'STU Treatment Values'!$B$40:$K$73,0,1,$AK33)),\"\")","v":""},"","",{"$f":"IFERROR(INTERPRNG_h($T33,'STU Treatment Values'!$B$112:$K$145,0,1,$AK33),\"\")","v":""},{"$f":"IFERROR(INTERPRNG_h($T33,'STU Treatment Values'!$B$76:$K$109,0,1,$AK33),\"\")","v":""},""]
[null,null,null,null,null,null,null,null,null,null,null,null,null,null,null,null,null,null,null,"","",null,null,null,null,null,null,null,null,null,null,null,"","","","",{"$f":"IF(ISBLANK(M34),\"\",IF(ISBLANK(O34),\"\",RowFunc(M34,O34)))","v":""},{"$f":"IFERROR(IF($AJ34>=0.5,INTERPRNG_h($T34,'STU Treatment Values'!$N$5:$W$38,0,1,AK34),INTERPRNG_h($T34,'STU Treatment Values'!$N$40:$W$73,0,1,$AK34)),\"\")","v":""},{"$f":"IFERROR(IF($AJ34>=0.5,INTERPRNG_h($T34,'STU Treatment Values'!$B$5:$K$38,0,1,$AK34),INTERPRNG_h($T34,'STU Treatment Values'!$B$40:$K$73,0,1,$AK34)),\"\")","v":""},"","",{"$f":"IFERROR(INTERPRNG_h($T34,'STU Treatment Values'!$B$112:$K$145,0,1,$AK34),\"\")","v":""},{"$f":"IFERROR(INTERPRNG_h($T34,'STU Treatment Values'!$B$76:$K$109,0,1,$AK34),\"\")","v":""},""]
[null,null,null,null,null,null,null,null,null,null,null,null,null,null,null,null,null,null,null,"","",null,null,null,null,null,null,null,null,null,null,null,"","","","",{"$f":"IF(ISBLANK(M35),\"\",IF(ISBLANK(O35),\"\",RowFunc(M35,O35)))","v":""},{"$f":"IFERROR(IF($AJ35>=0.5,INTERPRNG_h($T35,'STU Treatment Values'!$N$5:$W$38,0,1,AK35),INTERPRNG_h($T35,'STU Treatment Values'!$N$40:$W$73,0,1,$AK35)),\"\")","v":""},{"$f":"IFERROR(IF($AJ35>=0.5,INTERPRNG_h($T35,'STU Treatment Values'!$B$5:$K$38,0,1,$AK35),INTERPRNG_h($T35,'STU Treatment Values'!$B$40:$K$73,0,1,$AK35)),\"\")","v":""},"","",{"$f":"IFERROR(INTERPRNG_h($T35,'STU Treatment Values'!$B$112:$K$145,0,1,$AK35),\"\")","v":""},{"$f":"IFERROR(INTERPRNG_h($T35,'STU Treatment Values'!$B$76:$K$109,0,1,$AK35),\"\")","v":""},""]
[null,null,null,null,null,null,null,null,null,null,null,null,null,null,null,null,null,null,null,"","",null,null,null,null,null,null,null,null,null,null,null,"","","","",{"$f":"IF(ISBLANK(M36),\"\",IF(ISBLANK(O36),\"\",RowFunc(M36,O36)))","v":""},{"$f":"IFERROR(IF($AJ36>=0.5,INTERPRNG_h($T36,'STU Treatment Values'!$N$5:$W$38,0,1,AK36),INTERPRNG_h($T36,'STU Treatment Values'!$N$40:$W$73,0,1,$AK36)),\"\")","v":""},{"$f":"IFERROR(IF($AJ36>=0.5,INTERPRNG_h($T36,'STU Treatment Values'!$B$5:$K$38,0,1,$AK36),INTERPRNG_h($T36,'STU Treatment Values'!$B$40:$K$73,0,1,$AK36)),\"\")","v":""},"","",{"$f":"IFERROR(INTERPRNG_h($T36,'STU Treatment Values'!$B$112:$K$145,0,1,$AK36),\"\")","v":""},{"$f":"IFERROR(INTERPRNG_h($T36,'STU Treatment Values'!$B$76:$K$109,0,1,$AK36),\"\")","v":""},""]
[null,null,null,null,null,null,null,null,null,null,null,null,null,null,null,null,null,null,null,"","",null,null,null,null,null,null,null,null,null,null,null,"","","","",{"$f":"IF(ISBLANK(M37),\"\",IF(ISBLANK(O37),\"\",RowFunc(M37,O37)))","v":""},{"$f":"IFERROR(IF($AJ37>=0.5,INTERPRNG_h($T37,'STU Treatment Values'!$N$5:$W$38,0,1,AK37),INTERPRNG_h($T37,'STU Treatment Values'!$N$40:$W$73,0,1,$AK37)),\"\")","v":""},{"$f":"IFERROR(IF($AJ37>=0.5,INTERPRNG_h($T37,'STU Treatment Values'!$B$5:$K$38,0,1,$AK37),INTERPRNG_h($T37,'STU Treatment Values'!$B$40:$K$73,0,1,$AK37)),\"\")","v":""},"","",{"$f":"IFERROR(INTERPRNG_h($T37,'STU Treatment Values'!$B$112:$K$145,0,1,$AK37),\"\")","v":""},{"$f":"IFERROR(INTERPRNG_h($T37,'STU Treatment Values'!$B$76:$K$109,0,1,$AK37),\"\")","v":""},""]
[null,null,null,null,null,null,null,null,null,null,null,null,null,null,null,null,null,null,null,"","",null,null,null,null,null,null,null,null,null,null,null,"","","","",{"$f":"IF(ISBLANK(M38),\"\",IF(ISBLANK(O38),\"\",RowFunc(M38,O38)))","v":""},{"$f":"IFERROR(IF($AJ38>=0.5,INTERPRNG_h($T38,'STU Treatment Values'!$N$5:$W$38,0,1,AK38),INTERPRNG_h($T38,'STU Treatment Values'!$N$40:$W$73,0,1,$AK38)),\"\")","v":""},{"$f":"IFERROR(IF($AJ38>=0.5,INTERPRNG_h($T38,'STU Treatment Values'!$B$5:$K$38,0,1,$AK38),INTERPRNG_h($T38,'STU Treatment Values'!$B$40:$K$73,0,1,$AK38)),\"\")","v":""},"","",{"$f":"IFERROR(INTERPRNG_h($T38,'STU Treatment Values'!$B$112:$K$145,0,1,$AK38),\"\")","v":""},{"$f":"IFERROR(INTERPRNG_h($T38,'STU Treatment Values'!$B$76:$K$109,0,1,$AK38),\"\")","v":""},""]
[null,null,null,null,null,null,null,null,null,null,null,null,null,null,null,null,null,null,null,"","",null,null,null,null,null,null,null,null,null,null,null,"","","","",{"$f":"IF(ISBLANK(M39),\"\",IF(ISBLANK(O39),\"\",RowFunc(M39,O39)))","v":""},{"$f":"IFERROR(IF($AJ39>=0.5,INTERPRNG_h($T39,'STU Treatment Values'!$N$5:$W$38,0,1,AK39),INTERPRNG_h($T39,'STU Treatment Values'!$N$40:$W$73,0,1,$AK39)),\"\")","v":""},{"$f":"IFERROR(IF($AJ39>=0.5,INTERPRNG_h($T39,'STU Treatment Values'!$B$5:$K$38,0,1,$AK39),INTERPRNG_h($T39,'STU Treatment Values'!$B$40:$K$73,0,1,$AK39)),\"\")","v":""},"","",{"$f":"IFERROR(INTERPRNG_h($T39,'STU Treatment Values'!$B$112:$K$145,0,1,$AK39),\"\")","v":""},{"$f":"IFERROR(INTERPRNG_h($T39,'STU Treatment Values'!$B$76:$K$109,0,1,$AK39),\"\")","v":""},""]
[null,null,null,null,null,null,null,null,null,null,null,null,null,null,null,null,null,null,null,"","",null,null,null,null,null,null,null,null,null,null,null,"","","","",{"$f":"IF(ISBLANK(M40),\"\",IF(ISBLANK(O40),\"\",RowFunc(M40,O40)))","v":""},{"$f":"IFERROR(IF($AJ40>=0.5,INTERPRNG_h($T40,'STU Treatment Values'!$N$5:$W$38,0,1,AK40),INTERPRNG_h($T40,'STU Treatment Values'!$N$40:$W$73,0,1,$AK40)),\"\")","v":""},{"$f":"IFERROR(IF($AJ40>=0.5,INTERPRNG_h($T40,'STU Treatment Values'!$B$5:$K$38,0,1,$AK40),INTERPRNG_h($T40,'STU Treatment Values'!$B$40:$K$73,0,1,$AK40)),\"\")","v":""},"","",{"$f":"IFERROR(INTERPRNG_h($T40,'STU Treatment Values'!$B$112:$K$145,0,1,$AK40),\"\")","v":""},{"$f":"IFERROR(INTERPRNG_h($T40,'STU Treatment Values'!$B$76:$K$109,0,1,$AK40),\"\")","v":""},""]
[null,null,null,null,null,null,null,null,null,null,null,null,null,null,null,null,null,null,null,"","",null,null,null,null,null,null,null,null,null,null,null,"","","","",{"$f":"IF(ISBLANK(M41),\"\",IF(ISBLANK(O41),\"\",RowFunc(M41,O41)))","v":""},{"$f":"IFERROR(IF($AJ41>=0.5,INTERPRNG_h($T41,'STU Treatment Values'!$N$5:$W$38,0,1,AK41),INTERPRNG_h($T41,'STU Treatment Values'!$N$40:$W$73,0,1,$AK41)),\"\")","v":""},{"$f":"IFERROR(IF($AJ41>=0.5,INTERPRNG_h($T41,'STU Treatment Values'!$B$5:$K$38,0,1,$AK41),INTERPRNG_h($T41,'STU Treatment Values'!$B$40:$K$73,0,1,$AK41)),\"\")","v":""},"","",{"$f":"IFERROR(INTERPRNG_h($T41,'STU Treatment Values'!$B$112:$K$145,0,1,$AK41),\"\")","v":""},{"$f":"IFERROR(INTERPRNG_h($T41,'STU Treatment Values'!$B$76:$K$109,0,1,$AK41),\"\")","v":""},""]
[null,null,null,null,null,null,null,null,null,null,null,null,null,null,null,null,null,null,null,"","",null,null,null,null,null,null,null,null,null,null,null,"","","","",{"$f":"IF(ISBLANK(M42),\"\",IF(ISBLANK(O42),\"\",RowFunc(M42,O42)))","v":""},{"$f":"IFERROR(IF($AJ42>=0.5,INTERPRNG_h($T42,'STU Treatment Values'!$N$5:$W$38,0,1,AK42),INTERPRNG_h($T42,'STU Treatment Values'!$N$40:$W$73,0,1,$AK42)),\"\")","v":""},{"$f":"IFERROR(IF($AJ42>=0.5,INTERPRNG_h($T42,'STU Treatment Values'!$B$5:$K$38,0,1,$AK42),INTERPRNG_h($T42,'STU Treatment Values'!$B$40:$K$73,0,1,$AK42)),\"\")","v":""},"","",{"$f":"IFERROR(INTERPRNG_h($T42,'STU Treatment Values'!$B$112:$K$145,0,1,$AK42),\"\")","v":""},{"$f":"IFERROR(INTERPRNG_h($T42,'STU Treatment Values'!$B$76:$K$109,0,1,$AK42),\"\")","v":""},""]
[null,null,null,null,null,null,null,null,null,null,null,null,null,null,null,null,null,null,null,"","",null,null,null,null,null,null,null,null,null,null,null,"","","","",{"$f":"IF(ISBLANK(M43),\"\",IF(ISBLANK(O43),\"\",RowFunc(M43,O43)))","v":""},{"$f":"IFERROR(IF($AJ43>=0.5,INTERPRNG_h($T43,'STU Treatment Values'!$N$5:$W$38,0,1,AK43),INTERPRNG_h($T43,'STU Treatment Values'!$N$40:$W$73,0,1,$AK43)),\"\")","v":""},{"$f":"IFERROR(IF($AJ43>=0.5,INTERPRNG_h($T43,'STU Treatment Values'!$B$5:$K$38,0,1,$AK43),INTERPRNG_h($T43,'STU Treatment Values'!$B$40:$K$73,0,1,$AK43)),\"\")","v":""},"","",{"$f":"IFERROR(INTERPRNG_h($T43,'STU Treatment Values'!$B$112:$K$145,0,1,$AK43),\"\")","v":""},{"$f":"IFERROR(INTERPRNG_h($T43,'STU Treatment Values'!$B$76:$K$109,0,1,$AK43),\"\")","v":""},""]
[null,null,null,null,null,null,null,null,null,null,null,null,null,null,null,null,null,null,null,"","",null,null,null,null,null,null,null,null,null,null,null,"","","","",{"$f":"IF(ISBLANK(M44),\"\",IF(ISBLANK(O44),\"\",RowFunc(M44,O44)))","v":""},{"$f":"IFERROR(IF($AJ44>=0.5,INTERPRNG_h($T44,'STU Treatment Values'!$N$5:$W$38,0,1,AK44),INTERPRNG_h($T44,'STU Treatment Values'!$N$40:$W$73,0,1,$AK44)),\"\")","v":""},{"$f":"IFERROR(IF($AJ44>=0.5,INTERPRNG_h($T44,'STU Treatment Values'!$B$5:$K$38,0,1,$AK44),INTERPRNG_h($T44,'STU Treatment Values'!$B$40:$K$73,0,1,$AK44)),\"\")","v":""},"","",{"$f":"IFERROR(INTERPRNG_h($T44,'STU Treatment Values'!$B$112:$K$145,0,1,$AK44),\"\")","v":""},{"$f":"IFERROR(INTERPRNG_h($T44,'STU Treatment Values'!$B$76:$K$109,0,1,$AK44),\"\")","v":""},""]
[null,null,null,null,null,null,null,null,null,null,null,null,null,null,null,null,null,null,null,"","",null,null,null,null,null,null,null,null,null,null,null,"","","","",{"$f":"IF(ISBLANK(M45),\"\",IF(ISBLANK(O45),\"\",RowFunc(M45,O45)))","v":""},{"$f":"IFERROR(IF($AJ45>=0.5,INTERPRNG_h($T45,'STU Treatment Values'!$N$5:$W$38,0,1,AK45),INTERPRNG_h($T45,'STU Treatment Values'!$N$40:$W$73,0,1,$AK45)),\"\")","v":""},{"$f":"IFERROR(IF($AJ45>=0.5,INTERPRNG_h($T45,'STU Treatment Values'!$B$5:$K$38,0,1,$AK45),INTERPRNG_h($T45,'STU Treatment Values'!$B$40:$K$73,0,1,$AK45)),\"\")","v":""},"","",{"$f":"IFERROR(INTERPRNG_h($T45,'STU Treatment Values'!$B$112:$K$145,0,1,$AK45),\"\")","v":""},{"$f":"IFERROR(INTERPRNG_h($T45,'STU Treatment Values'!$B$76:$K$109,0,1,$AK45),\"\")","v":""},""]
[null,null,null,null,null,null,null,null,null,null,null,null,null,null,null,null,null,null,null,"","",null,null,null,null,null,null,null,null,null,null,null,"","","","",{"$f":"IF(ISBLANK(M46),\"\",IF(ISBLANK(O46),\"\",RowFunc(M46,O46)))","v":""},{"$f":"IFERROR(IF($AJ46>=0.5,INTERPRNG_h($T46,'STU Treatment Values'!$N$5:$W$38,0,1,AK46),INTERPRNG_h($T46,'STU Treatment Values'!$N$40:$W$73,0,1,$AK46)),\"\")","v":""},{"$f":"IFERROR(IF($AJ46>=0.5,INTERPRNG_h($T46,'STU Treatment Values'!$B$5:$K$38,0,1,$AK46),INTERPRNG_h($T46,'STU Treatment Values'!$B$40:$K$73,0,1,$AK46)),\"\")","v":""},"","",{"$f":"IFERROR(INTERPRNG_h($T46,'STU Treatment Values'!$B$112:$K$145,0,1,$AK46),\"\")","v":""},{"$f":"IFERROR(INTERPRNG_h($T46,'STU Treatment Values'!$B$76:$K$109,0,1,$AK46),\"\")","v":""},""]
[null,null,null,null,null,null,null,null,null,null,null,null,null,null,null,null,null,null,null,{"$f":"IFERROR((S47/Q47*12),\"\")","v":""},"",null,null,null,null,null,null,null,null,null,null,null,"","","","",{"$f":"IF(ISBLANK(M47),\"\",IF(ISBLANK(O47),\"\",RowFunc(M47,O47)))","v":""},{"$f":"IFERROR(IF($AJ47>=0.5,INTERPRNG_h($T47,'STU Treatment Values'!$N$5:$W$38,0,1,AK47),INTERPRNG_h($T47,'STU Treatment Values'!$N$40:$W$73,0,1,$AK47)),\"\")","v":""},{"$f":"IFERROR(IF($AJ47>=0.5,INTERPRNG_h($T47,'STU Treatment Values'!$B$5:$K$38,0,1,$AK47),INTERPRNG_h($T47,'STU Treatment Values'!$B$40:$K$73,0,1,$AK47)),\"\")","v":""},"","",{"$f":"IFERROR(INTERPRNG_h($T47,'STU Treatment Values'!$B$112:$K$145,0,1,$AK47),\"\")","v":""},{"$f":"IFERROR(INTERPRNG_h($T47,'STU Treatment Values'!$B$76:$K$109,0,1,$AK47),\"\")","v":""},""]
[]
["Table 2: Summary of Existing IC Disconnection Areas (Row D)",null,null,null,null,null,null,null,null,null,null,null,null,null,null,null,null,null,null,null,null,null,null,null,null,null,null,null,null,null,null,null,"Table 2-1: Existing IC Disconnection Calculations"]
[]
["Project Information",null,null,"Water Quality Treatment Calculations ",null,null,null,null,null,null,null,null,null,null,"Errors and Warnings",null,null,null,null,null,null,null,null,null,null,null,null,null,null,null,null,null,null,null,null,"Break Ties between HSG Percentages (Hide Columns)"]
["STU ID","WBID","DP No.","Applied to RIDEM Treatment Target?*","STU Type*",null,"IC Area (ft2)","Receiving Parcel Pervious Area (ft2)","% A Soils","% B Soils","% C Soils","% D Soils","IC : Pervious Cover Ratio","Effective IC Reduction (acre)","Parcel qualifies as non-discharge area (based on the IC:Pervious Cover Ratio and HSG Composition)","Sum of HSG Percentages does not equal 100%.",null,null,null,null,null,null,null,null,null,null,null,null,null,null,null,null,"Existing IC (acre) (Hide Column)","Round Area Ratio (Hide Column)","Check HSG Percent Total (Hide Column)","A","B","C","D","Most Conservative HSG (Hide Column)"]
[null,null,null,null,null,null,null,null,null,null,null,null,{"$f":"IF(AH53=\"\",\"\",IF(AH53=\"Parcel Ineligible; Receiving Parcel Area too small\",\"Parcel Ineligible; Receiving Parcel Area too small\",IF(G53<H53,\"1:\"&ROUND(AH53,1),ROUND(1/AH53,1)&\":1\")))","v":""},{"$f":"IFERROR(IF(AND(P53=\"\",A53<>\"\"),AG53*((I53*INTERPRNG_h(AH53,'IC Treatment Values'!$B$2:$M$3,1,1,2))+(J53*INTERPRNG_h(AH53,'IC Treatment Values'!$B$2:$M$4,1,1,3))+(K53*INTERPRNG_h(AH53,'IC Treatment Values'!$B$2:$M$5,1,1,4))+(L53*INTERPRNG_h(AH53,'IC Treatment Values'!$B$2:$M$6,1,1,5))),\"\"),\"\")","v":""},{"$f":"IFERROR(IF(AH53=\"\",\"\",IF(AND(AN53=\"A\",I53>=0.5,AH53>=30),\"X\",IF(AND(AN53=\"B\",J53>=0.5,AH53>=50),\"X\",IF(AND(AN53=\"C\",K53>=0.5,AH53>=70),\"X\",\"\")))),\"\")","v":""},{"$f":"IF(AI53=\"\",\"\",IF(OR(AI53>1,AI53<1),\"X\",\"\"))","v":""},null,null,null,null,null,null,null,null,null,null,null,null,null,null,null,null,{"$f":"IF(A53=\"\",\"\",G53/43560)","v":""},{"$f":"IFERROR(IF((G53/H53)>8,\"Parcel Ineligible; Receiving Parcel Area too small\",IF(G53 < H53,(H53/G53),IF(H53 < (((H53+G53)/2) + G53),H53/G53,\"\"))),\"\")","v":""},{"$f":"IF(AND(I53=\"\",J53=\"\",K53=\"\",L53=\"\"),\"\",SUM(I53:L53))","v":""},{"$f":"(COUNTIF(I53:$I53,I53)-1)*0.00001+I53","v":-1.0000000000000001E-5},{"$f":"(COUNTIF($I53:J53,J53)-1)*0.00001+J53","v":-1.0000000000000001E-5},{"$f":"(COUNTIF($I53:K53,K53)-1)*0.00001+K53","v":-1.0000000000000001E-5},{"$f":"(COUNTIF($I53:L53,L53)-1)*0.00001+L53","v":-1.0000000000000001E-5},{"$f":"IF(AND(I53=\"\",J53=\"\",K53=\"\",L53=\"\"),\"\",INDEX(AJ$52:AM$52,MATCH(MAX(AJ53:AM53),AJ53:AM53,0)))","v":""}]
[null,null,null,null,null,null,null,null,null,null,null,null,{"$f":"IF(AH54=\"\",\"\",IF(AH54=\"Parcel Ineligible; Receiving Parcel Area too small\",\"Parcel Ineligible; Receiving Parcel Area too small\",IF(G54<H54,\"1:\"&ROUND(AH54,1),ROUND(1/AH54,1)&\":1\")))","v":""},{"$f":"IFERROR(IF(AND(P54=\"\",A54<>\"\"),AG54*((I54*INTERPRNG_h(AH54,'IC Treatment Values'!$B$2:$M$3,1,1,2))+(J54*INTERPRNG_h(AH54,'IC Treatment Values'!$B$2:$M$4,1,1,3))+(K54*INTERPRNG_h(AH54,'IC Treatment Values'!$B$2:$M$5,1,1,4))+(L54*INTERPRNG_h(AH54,'IC Treatment Values'!$B$2:$M$6,1,1,5))),\"\"),\"\")","v":""},{"$f":"IFERROR(IF(AH54=\"\",\"\",IF(AND(AN54=\"A\",I54>=0.5,AH54>=30),\"X\",IF(AND(AN54=\"B\",J54>=0.5,AH54>=50),\"X\",IF(AND(AN54=\"C\",K54>=0.5,AH54>=70),\"X\",\"\")))),\"\")","v":""},{"$f":"IF(AI54=\"\",\"\",IF(OR(AI54>1,AI54<1),\"X\",\"\"))","v":""},null,null,null,null,null,null,null,null,null,null,null,null,null,null,null,null,{"$f":"IF(A54=\"\",\"\",G54/43560)","v":""},{"$f":"IFERROR(IF((G54/H54)>8,\"Parcel Ineligible; Receiving Parcel Area too small\",IF(G54 < H54,(H54/G54),IF(H54 < (((H54+G54)/2) + G54),H54/G54,\"\"))),\"\")","v":""},{"$f":"IF(AND(I54=\"\",J54=\"\",K54=\"\",L54=\"\"),\"\",SUM(I54:L54))","v":""},{"$f":"(COUNTIF(I54:$I54,I54)-1)*0.00001+I54","v":-1.0000000000000001E-5},{"$f":"(COUNTIF($I54:J54,J54)-1)*0.00001+J54","v":-1.0000000000000001E-5},{"$f":"(COUNTIF($I54:K54,K54)-1)*0.00001+K54","v":-1.0000000000000001E-5},{"$f":"(COUNTIF($I54:L54,L54)-1)*0.00001+L54","v":-1.0000000000000001E-5},""]
[null,null,null,null,null,null,null,null,null,null,null,null,"",{"$f":"IFERROR(IF(AND(P55=\"\",A55<>\"\"),AG55*((I55*INTERPRNG_h(AH55,'IC Treatment Values'!$B$2:$M$3,1,1,2))+(J55*INTERPRNG_h(AH55,'IC Treatment Values'!$B$2:$M$4,1,1,3))+(K55*INTERPRNG_h(AH55,'IC Treatment Values'!$B$2:$M$5,1,1,4))+(L55*INTERPRNG_h(AH55,'IC Treatment Values'!$B$2:$M$6,1,1,5))),\"\"),\"\")","v":""},{"$f":"IFERROR(IF(AH55=\"\",\"\",IF(AND(AN55=\"A\",I55>=0.5,AH55>=30),\"X\",IF(AND(AN55=\"B\",J55>=0.5,AH55>=50),\"X\",IF(AND(AN55=\"C\",K55>=0.5,AH55>=70),\"X\",\"\")))),\"\")","v":""},{"$f":"IF(AI55=\"\",\"\",IF(OR(AI55>1,AI55<1),\"X\",\"\"))","v":""},null,null,null,null,null,null,null,null,null,null,null,null,null,null,null,null,{"$f":"IF(A55=\"\",\"\",G55/43560)","v":""},{"$f":"IFERROR(IF((G55/H55)>8,\"Parcel Ineligible; Receiving Parcel Area too small\",IF(G55 < H55,(H55/G55),IF(H55 < (((H55+G55)/2) + G55),H55/G55,\"\"))),\"\")","v":""},{"$f":"IF(AND(I55=\"\",J55=\"\",K55=\"\",L55=\"\"),\"\",SUM(I55:L55))","v":""},{"$f":"(COUNTIF(I55:$I55,I55)-1)*0.00001+I55","v":-1.0000000000000001E-5},{"$f":"(COUNTIF($I55:J55,J55)-1)*0.00001+J55","v":-1.0000000000000001E-5},{"$f":"(COUNTIF($I55:K55,K55)-1)*0.00001+K55","v":-1.0000000000000001E-5},{"$f":"(COUNTIF($I55:L55,L55)-1)*0.00001+L55","v":-1.0000000000000001E-5},""]
[null,null,null,null,null,null,null,null,null,null,null,null,"",{"$f":"IFERROR(IF(AND(P56=\"\",A56<>\"\"),AG56*((I56*INTERPRNG_h(AH56,'IC Treatment Values'!$B$2:$M$3,1,1,2))+(J56*INTERPRNG_h(AH56,'IC Treatment Values'!$B$2:$M$4,1,1,3))+(K56*INTERPRNG_h(AH56,'IC Treatment Values'!$B$2:$M$5,1,1,4))+(L56*INTERPRNG_h(AH56,'IC Treatment Values'!$B$2:$M$6,1,1,5))),\"\"),\"\")","v":""},"","",null,null,null,null,null,null,null,null,null,null,null,null,null,null,null,null,"","","",{"$f":"(COUNTIF(I56:$I56,I56)-1)*0.00001+I56","v":-1.0000000000000001E-5},{"$f":"(COUNTIF($I56:J56,J56)-1)*0.00001+J56","v":-1.0000000000000001E-5},{"$f":"(COUNTIF($I56:K56,K56)-1)*0.00001+K56","v":-1.0000000000000001E-5},{"$f":"(COUNTIF($I56:L56,L56)-1)*0.00001+L56","v":-1.0000000000000001E-5},""]
[null,null,null,null,null,null,null,null,null,null,null,null,"",{"$f":"IFERROR(IF(AND(P57=\"\",A57<>\"\"),AG57*((I57*INTERPRNG_h(AH57,'IC Treatment Values'!$B$2:$M$3,1,1,2))+(J57*INTERPRNG_h(AH57,'IC Treatment Values'!$B$2:$M$4,1,1,3))+(K57*INTERPRNG_h(AH57,'IC Treatment Values'!$B$2:$M$5,1,1,4))+(L57*INTERPRNG_h(AH57,'IC Treatment Values'!$B$2:$M$6,1,1,5))),\"\"),\"\")","v":""},"","",null,null,null,null,null,null,null,null,null,null,null,null,null,null,null,null,"","","",{"$f":"(COUNTIF(I57:$I57,I57)-1)*0.00001+I57","v":-1.0000000000000001E-5},{"$f":"(COUNTIF($I57:J57,J57)-1)*0.00001+J57","v":-1.0000000000000001E-5},{"$f":"(COUNTIF($I57:K57,K57)-1)*0.00001+K57","v":-1.0000000000000001E-5},{"$f":"(COUNTIF($I57:L57,L57)-1)*0.00001+L57","v":-1.0000000000000001E-5},""]
[null,null,null,null,null,null,null,null,null,null,null,null,"",{"$f":"IFERROR(IF(AND(P58=\"\",A58<>\"\"),AG58*((I58*INTERPRNG_h(AH58,'IC Treatment Values'!$B$2:$M$3,1,1,2))+(J58*INTERPRNG_h(AH58,'IC Treatment Values'!$B$2:$M$4,1,1,3))+(K58*INTERPRNG_h(AH58,'IC Treatment Values'!$B$2:$M$5,1,1,4))+(L58*INTERPRNG_h(AH58,'IC Treatment Values'!$B$2:$M$6,1,1,5))),\"\"),\"\")","v":""},"","",null,null,null,null,null,null,null,null,null,null,null,null,null,null,null,null,"","","",{"$f":"(COUNTIF(I58:$I58,I58)-1)*0.00001+I58","v":-1.0000000000000001E-5},{"$f":"(COUNTIF($I58:J58,J58)-1)*0.00001+J58","v":-1.0000000000000001E-5},{"$f":"(COUNTIF($I58:K58,K58)-1)*0.00001+K58","v":-1.0000000000000001E-5},{"$f":"(COUNTIF($I58:L58,L58)-1)*0.00001+L58","v":-1.0000000000000001E-5},""]
[null,null,null,null,null,null,null,null,null,null,null,null,"",{"$f":"IFERROR(IF(AND(P59=\"\",A59<>\"\"),AG59*((I59*INTERPRNG_h(AH59,'IC Treatment Values'!$B$2:$M$3,1,1,2))+(J59*INTERPRNG_h(AH59,'IC Treatment Values'!$B$2:$M$4,1,1,3))+(K59*INTERPRNG_h(AH59,'IC Treatment Values'!$B$2:$M$5,1,1,4))+(L59*INTERPRNG_h(AH59,'IC Treatment Values'!$B$2:$M$6,1,1,5))),\"\"),\"\")","v":""},"","",null,null,null,null,null,null,null,null,null,null,null,null,null,null,null,null,"","","",{"$f":"(COUNTIF(I59:$I59,I59)-1)*0.00001+I59","v":-1.0000000000000001E-5},{"$f":"(COUNTIF($I59:J59,J59)-1)*0.00001+J59","v":-1.0000000000000001E-5},{"$f":"(COUNTIF($I59:K59,K59)-1)*0.00001+K59","v":-1.0000000000000001E-5},{"$f":"(COUNTIF($I59:L59,L59)-1)*0.00001+L59","v":-1.0000000000000001E-5},""]
[null,null,null,null,null,null,null,null,null,null,null,null,"",{"$f":"IFERROR(IF(AND(P60=\"\",A60<>\"\"),AG60*((I60*INTERPRNG_h(AH60,'IC Treatment Values'!$B$2:$M$3,1,1,2))+(J60*INTERPRNG_h(AH60,'IC Treatment Values'!$B$2:$M$4,1,1,3))+(K60*INTERPRNG_h(AH60,'IC Treatment Values'!$B$2:$M$5,1,1,4))+(L60*INTERPRNG_h(AH60,'IC Treatment Values'!$B$2:$M$6,1,1,5))),\"\"),\"\")","v":""},"","",null,null,null,null,null,null,null,null,null,null,null,null,null,null,null,null,"","","",{"$f":"(COUNTIF(I60:$I60,I60)-1)*0.00001+I60","v":-1.0000000000000001E-5},{"$f":"(COUNTIF($I60:J60,J60)-1)*0.00001+J60","v":-1.0000000000000001E-5},{"$f":"(COUNTIF($I60:K60,K60)-1)*0.00001+K60","v":-1.0000000000000001E-5},{"$f":"(COUNTIF($I60:L60,L60)-1)*0.00001+L60","v":-1.0000000000000001E-5},""]
[null,null,null,null,null,null,null,null,null,null,null,null,"",{"$f":"IFERROR(IF(AND(P61=\"\",A61<>\"\"),AG61*((I61*INTERPRNG_h(AH61,'IC Treatment Values'!$B$2:$M$3,1,1,2))+(J61*INTERPRNG_h(AH61,'IC Treatment Values'!$B$2:$M$4,1,1,3))+(K61*INTERPRNG_h(AH61,'IC Treatment Values'!$B$2:$M$5,1,1,4))+(L61*INTERPRNG_h(AH61,'IC Treatment Values'!$B$2:$M$6,1,1,5))),\"\"),\"\")","v":""},"","",null,null,null,null,null,null,null,null,null,null,null,null,null,null,null,null,"","","",{"$f":"(COUNTIF(I61:$I61,I61)-1)*0.00001+I61","v":-1.0000000000000001E-5},{"$f":"(COUNTIF($I61:J61,J61)-1)*0.00001+J61","v":-1.0000000000000001E-5},{"$f":"(COUNTIF($I61:K61,K61)-1)*0.00001+K61","v":-1.0000000000000001E-5},{"$f":"(COUNTIF($I61:L61,L61)-1)*0.00001+L61","v":-1.0000000000000001E-5},""]
[null,null,null,null,null,null,null,null,null,null,null,null,"",{"$f":"IFERROR(IF(AND(P62=\"\",A62<>\"\"),AG62*((I62*INTERPRNG_h(AH62,'IC Treatment Values'!$B$2:$M$3,1,1,2))+(J62*INTERPRNG_h(AH62,'IC Treatment Values'!$B$2:$M$4,1,1,3))+(K62*INTERPRNG_h(AH62,'IC Treatment Values'!$B$2:$M$5,1,1,4))+(L62*INTERPRNG_h(AH62,'IC Treatment Values'!$B$2:$M$6,1,1,5))),\"\"),\"\")","v":""},"","",null,null,null,null,null,null,null,null,null,null,null,null,null,null,null,null,"","","",{"$f":"(COUNTIF(I62:$I62,I62)-1)*0.00001+I62","v":-1.0000000000000001E-5},{"$f":"(COUNTIF($I62:J62,J62)-1)*0.00001+J62","v":-1.0000000000000001E-5},{"$f":"(COUNTIF($I62:K62,K62)-1)*0.00001+K62","v":-1.0000000000000001E-5},{"$f":"(COUNTIF($I62:L62,L62)-1)*0.00001+L62","v":-1.0000000000000001E-5},""]
[null,null,null,null,null,null,null,null,null,null,null,null,"",{"$f":"IFERROR(IF(AND(P63=\"\",A63<>\"\"),AG63*((I63*INTERPRNG_h(AH63,'IC Treatment Values'!$B$2:$M$3,1,1,2))+(J63*INTERPRNG_h(AH63,'IC Treatment Values'!$B$2:$M$4,1,1,3))+(K63*INTERPRNG_h(AH63,'IC Treatment Values'!$B$2:$M$5,1,1,4))+(L63*INTERPRNG_h(AH63,'IC Treatment Values'!$B$2:$M$6,1,1,5))),\"\"),\"\")","v":""},"","",null,null,null,null,null,null,null,null,null,null,null,null,null,null,null,null,"","","",{"$f":"(COUNTIF(I63:$I63,I63)-1)*0.00001+I63","v":-1.0000000000000001E-5},{"$f":"(COUNTIF($I63:J63,J63)-1)*0.00001+J63","v":-1.0000000000000001E-5},{"$f":"(COUNTIF($I63:K63,K63)-1)*0.00001+K63","v":-1.0000000000000001E-5},{"$f":"(COUNTIF($I63:L63,L63)-1)*0.00001+L63","v":-1.0000000000000001E-5},""]
[null,null,null,null,null,null,null,null,null,null,null,null,{"$f":"IF(AH64=\"\",\"\",IF(AH64=\"Parcel Ineligible; Receiving Parcel Area too small\",\"Parcel Ineligible; Receiving Parcel Area too small\",IF(G64<H64,\"1:\"&ROUND(AH64,1),ROUND(1/AH64,1)&\":1\")))","v":""},{"$f":"IFERROR(IF(AND(P64=\"\",A64<>\"\"),AG64*((I64*INTERPRNG_h(AH64,'IC Treatment Values'!$B$2:$M$3,1,1,2))+(J64*INTERPRNG_h(AH64,'IC Treatment Values'!$B$2:$M$4,1,1,3))+(K64*INTERPRNG_h(AH64,'IC Treatment Values'!$B$2:$M$5,1,1,4))+(L64*INTERPRNG_h(AH64,'IC Treatment Values'!$B$2:$M$6,1,1,5))),\"\"),\"\")","v":""},"","",null,null,null,null,null,null,null,null,null,null,null,null,null,null,null,null,"","","",{"$f":"(COUNTIF(I64:$I64,I64)-1)*0.00001+I64","v":-1.0000000000000001E-5},{"$f":"(COUNTIF($I64:J64,J64)-1)*0.00001+J64","v":-1.0000000000000001E-5},{"$f":"(COUNTIF($I64:K64,K64)-1)*0.00001+K64","v":-1.0000000000000001E-5},{"$f":"(COUNTIF($I64:L64,L64)-1)*0.00001+L64","v":-1.0000000000000001E-5},""]
[null,null,null,null,null,null,null,null,null,null,null,null,"",{"$f":"IFERROR(IF(AND(P65=\"\",A65<>\"\"),AG65*((I65*INTERPRNG_h(AH65,'IC Treatment Values'!$B$2:$M$3,1,1,2))+(J65*INTERPRNG_h(AH65,'IC Treatment Values'!$B$2:$M$4,1,1,3))+(K65*INTERPRNG_h(AH65,'IC Treatment Values'!$B$2:$M$5,1,1,4))+(L65*INTERPRNG_h(AH65,'IC Treatment Values'!$B$2:$M$6,1,1,5))),\"\"),\"\")","v":""},"","",null,null,null,null,null,null,null,null,null,null,null,null,null,null,null,null,"","","",{"$f":"(COUNTIF(I65:$I65,I65)-1)*0.00001+I65","v":-1.0000000000000001E-5},{"$f":"(COUNTIF($I65:J65,J65)-1)*0.00001+J65","v":-1.0000000000000001E-5},{"$f":"(COUNTIF($I65:K65,K65)-1)*0.00001+K65","v":-1.0000000000000001E-5},{"$f":"(COUNTIF($I65:L65,L65)-1)*0.00001+L65","v":-1.0000000000000001E-5},""]
[null,null,null,null,null,null,null,null,null,null,null,null,"",{"$f":"IFERROR(IF(AND(P66=\"\",A66<>\"\"),AG66*((I66*INTERPRNG_h(AH66,'IC Treatment Values'!$B$2:$M$3,1,1,2))+(J66*INTERPRNG_h(AH66,'IC Treatment Values'!$B$2:$M$4,1,1,3))+(K66*INTERPRNG_h(AH66,'IC Treatment Values'!$B$2:$M$5,1,1,4))+(L66*INTERPRNG_h(AH66,'IC Treatment Values'!$B$2:$M$6,1,1,5))),\"\"),\"\")","v":""},"","",null,null,null,null,null,null,null,null,null,null,null,null,null,null,null,null,"","","",{"$f":"(COUNTIF(I66:$I66,I66)-1)*0.00001+I66","v":-1.0000000000000001E-5},{"$f":"(COUNTIF($I66:J66,J66)-1)*0.00001+J66","v":-1.0000000000000001E-5},{"$f":"(COUNTIF($I66:K66,K66)-1)*0.00001+K66","v":-1.0000000000000001E-5},{"$f":"(COUNTIF($I66:L66,L66)-1)*0.00001+L66","v":-1.0000000000000001E-5},""]
[null,null,null,null,null,null,null,null,null,null,null,null,"",{"$f":"IFERROR(IF(AND(P67=\"\",A67<>\"\"),AG67*((I67*INTERPRNG_h(AH67,'IC Treatment Values'!$B$2:$M$3,1,1,2))+(J67*INTERPRNG_h(AH67,'IC Treatment Values'!$B$2:$M$4,1,1,3))+(K67*INTERPRNG_h(AH67,'IC Treatment Values'!$B$2:$M$5,1,1,4))+(L67*INTERPRNG_h(AH67,'IC Treatment Values'!$B$2:$M$6,1,1,5))),\"\"),\"\")","v":""},"","",null,null,null,null,null,null,null,null,null,null,null,null,null,null,null,null,"","","",{"$f":"(COUNTIF(I67:$I67,I67)-1)*0.00001+I67","v":-1.0000000000000001E-5},{"$f":"(COUNTIF($I67:J67,J67)-1)*0.00001+J67","v":-1.0000000000000001E-5},{"$f":"(COUNTIF($I67:K67,K67)-1)*0.00001+K67","v":-1.0000000000000001E-5},{"$f":"(COUNTIF($I67:L67,L67)-1)*0.00001+L67","v":-1.0000000000000001E-5},""]
[null,null,null,null,null,null,null,null,null,null,null,null,"",{"$f":"IFERROR(IF(AND(P68=\"\",A68<>\"\"),AG68*((I68*INTERPRNG_h(AH68,'IC Treatment Values'!$B$2:$M$3,1,1,2))+(J68*INTERPRNG_h(AH68,'IC Treatment Values'!$B$2:$M$4,1,1,3))+(K68*INTERPRNG_h(AH68,'IC Treatment Values'!$B$2:$M$5,1,1,4))+(L68*INTERPRNG_h(AH68,'IC Treatment Values'!$B$2:$M$6,1,1,5))),\"\"),\"\")","v":""},"","",null,null,null,null,null,null,null,null,null,null,null,null,null,null,null,null,"","","",{"$f":"(COUNTIF(I68:$I68,I68)-1)*0.00001+I68","v":-1.0000000000000001E-5},{"$f":"(COUNTIF($I68:J68,J68)-1)*0.00001+J68","v":-1.0000000000000001E-5},{"$f":"(COUNTIF($I68:K68,K68)-1)*0.00001+K68","v":-1.0000000000000001E-5},{"$f":"(COUNTIF($I68:L68,L68)-1)*0.00001+L68","v":-1.0000000000000001E-5},""]
[null,null,null,null,null,null,null,null,null,null,null,null,"",{"$f":"IFERROR(IF(AND(P69=\"\",A69<>\"\"),AG69*((I69*INTERPRNG_h(AH69,'IC Treatment Values'!$B$2:$M$3,1,1,2))+(J69*INTERPRNG_h(AH69,'IC Treatment Values'!$B$2:$M$4,1,1,3))+(K69*INTERPRNG_h(AH69,'IC Treatment Values'!$B$2:$M$5,1,1,4))+(L69*INTERPRNG_h(AH69,'IC Treatment Values'!$B$2:$M$6,1,1,5))),\"\"),\"\")","v":""},"","",null,null,null,null,null,null,null,null,null,null,null,null,null,null,null,null,"","","",{"$f":"(COUNTIF(I69:$I69,I69)-1)*0.00001+I69","v":-1.0000000000000001E-5},{"$f":"(COUNTIF($I69:J69,J69)-1)*0.00001+J69","v":-1.0000000000000001E-5},{"$f":"(COUNTIF($I69:K69,K69)-1)*0.00001+K69","v":-1.0000000000000001E-5},{"$f":"(COUNTIF($I69:L69,L69)-1)*0.00001+L69","v":-1.0000000000000001E-5},""]
[null,null,null,null,null,null,null,null,null,null,null,null,"",{"$f":"IFERROR(IF(AND(P70=\"\",A70<>\"\"),AG70*((I70*INTERPRNG_h(AH70,'IC Treatment Values'!$B$2:$M$3,1,1,2))+(J70*INTERPRNG_h(AH70,'IC Treatment Values'!$B$2:$M$4,1,1,3))+(K70*INTERPRNG_h(AH70,'IC Treatment Values'!$B$2:$M$5,1,1,4))+(L70*INTERPRNG_h(AH70,'IC Treatment Values'!$B$2:$M$6,1,1,5))),\"\"),\"\")","v":""},"","",null,null,null,null,null,null,null,null,null,null,null,null,null,null,null,null,"","","",{"$f":"(COUNTIF(I70:$I70,I70)-1)*0.00001+I70","v":-1.0000000000000001E-5},{"$f":"(COUNTIF($I70:J70,J70)-1)*0.00001+J70","v":-1.0000000000000001E-5},{"$f":"(COUNTIF($I70:K70,K70)-1)*0.00001+K70","v":-1.0000000000000001E-5},{"$f":"(COUNTIF($I70:L70,L70)-1)*0.00001+L70","v":-1.0000000000000001E-5},""]
[null,null,null,null,null,null,null,null,null,null,null,null,"",{"$f":"IFERROR(IF(AND(P71=\"\",A71<>\"\"),AG71*((I71*INTERPRNG_h(AH71,'IC Treatment Values'!$B$2:$M$3,1,1,2))+(J71*INTERPRNG_h(AH71,'IC Treatment Values'!$B$2:$M$4,1,1,3))+(K71*INTERPRNG_h(AH71,'IC Treatment Values'!$B$2:$M$5,1,1,4))+(L71*INTERPRNG_h(AH71,'IC Treatment Values'!$B$2:$M$6,1,1,5))),\"\"),\"\")","v":""},"","",null,null,null,null,null,null,null,null,null,null,null,null,null,null,null,null,"","","",{"$f":"(COUNTIF(I71:$I71,I71)-1)*0.00001+I71","v":-1.0000000000000001E-5},{"$f":"(COUNTIF($I71:J71,J71)-1)*0.00001+J71","v":-1.0000000000000001E-5},{"$f":"(COUNTIF($I71:K71,K71)-1)*0.00001+K71","v":-1.0000000000000001E-5},{"$f":"(COUNTIF($I71:L71,L71)-1)*0.00001+L71","v":-1.0000000000000001E-5},""]
[null,null,null,null,null,null,null,null,null,null,null,null,"",{"$f":"IFERROR(IF(AND(P72=\"\",A72<>\"\"),AG72*((I72*INTERPRNG_h(AH72,'IC Treatment Values'!$B$2:$M$3,1,1,2))+(J72*INTERPRNG_h(AH72,'IC Treatment Values'!$B$2:$M$4,1,1,3))+(K72*INTERPRNG_h(AH72,'IC Treatment Values'!$B$2:$M$5,1,1,4))+(L72*INTERPRNG_h(AH72,'IC Treatment Values'!$B$2:$M$6,1,1,5))),\"\"),\"\")","v":""},"","",null,null,null,null,null,null,null,null,null,null,null,null,null,null,null,null,"","","",{"$f":"(COUNTIF(I72:$I72,I72)-1)*0.00001+I72","v":-1.0000000000000001E-5},{"$f":"(COUNTIF($I72:J72,J72)-1)*0.00001+J72","v":-1.0000000000000001E-5},{"$f":"(COUNTIF($I72:K72,K72)-1)*0.00001+K72","v":-1.0000000000000001E-5},{"$f":"(COUNTIF($I72:L72,L72)-1)*0.00001+L72","v":-1.0000000000000001E-5},""]
[null,null,null,null,null,null,null,null,null,null,null,null,"",{"$f":"IFERROR(IF(AND(P73=\"\",A73<>\"\"),AG73*((I73*INTERPRNG_h(AH73,'IC Treatment Values'!$B$2:$M$3,1,1,2))+(J73*INTERPRNG_h(AH73,'IC Treatment Values'!$B$2:$M$4,1,1,3))+(K73*INTERPRNG_h(AH73,'IC Treatment Values'!$B$2:$M$5,1,1,4))+(L73*INTERPRNG_h(AH73,'IC Treatment Values'!$B$2:$M$6,1,1,5))),\"\"),\"\")","v":""},"","",null,null,null,null,null,null,null,null,null,null,null,null,null,null,null,null,"","","",{"$f":"(COUNTIF(I73:$I73,I73)-1)*0.00001+I73","v":-1.0000000000000001E-5},{"$f":"(COUNTIF($I73:J73,J73)-1)*0.00001+J73","v":-1.0000000000000001E-5},{"$f":"(COUNTIF($I73:K73,K73)-1)*0.00001+K73","v":-1.0000000000000001E-5},{"$f":"(COUNTIF($I73:L73,L73)-1)*0.00001+L73","v":-1.0000000000000001E-5},""]
[null,null,null,null,null,null,null,null,null,null,null,null,"",{"$f":"IFERROR(IF(AND(P74=\"\",A74<>\"\"),AG74*((I74*INTERPRNG_h(AH74,'IC Treatment Values'!$B$2:$M$3,1,1,2))+(J74*INTERPRNG_h(AH74,'IC Treatment Values'!$B$2:$M$4,1,1,3))+(K74*INTERPRNG_h(AH74,'IC Treatment Values'!$B$2:$M$5,1,1,4))+(L74*INTERPRNG_h(AH74,'IC Treatment Values'!$B$2:$M$6,1,1,5))),\"\"),\"\")","v":""},"","",null,null,null,null,null,null,null,null,null,null,null,null,null,null,null,null,"","","",{"$f":"(COUNTIF(I74:$I74,I74)-1)*0.00001+I74","v":-1.0000000000000001E-5},{"$f":"(COUNTIF($I74:J74,J74)-1)*0.00001+J74","v":-1.0000000000000001E-5},{"$f":"(COUNTIF($I74:K74,K74)-1)*0.00001+K74","v":-1.0000000000000001E-5},{"$f":"(COUNTIF($I74:L74,L74)-1)*0.00001+L74","v":-1.0000000000000001E-5},""]
[null,null,null,null,null,null,null,null,null,null,null,null,"",{"$f":"IFERROR(IF(AND(P75=\"\",A75<>\"\"),AG75*((I75*INTERPRNG_h(AH75,'IC Treatment Values'!$B$2:$M$3,1,1,2))+(J75*INTERPRNG_h(AH75,'IC Treatment Values'!$B$2:$M$4,1,1,3))+(K75*INTERPRNG_h(AH75,'IC Treatment Values'!$B$2:$M$5,1,1,4))+(L75*INTERPRNG_h(AH75,'IC Treatment Values'!$B$2:$M$6,1,1,5))),\"\"),\"\")","v":""},"","",null,null,null,null,null,null,null,null,null,null,null,null,null,null,null,null,"","","",{"$f":"(COUNTIF(I75:$I75,I75)-1)*0.00001+I75","v":-1.0000000000000001E-5},{"$f":"(COUNTIF($I75:J75,J75)-1)*0.00001+J75","v":-1.0000000000000001E-5},{"$f":"(COUNTIF($I75:K75,K75)-1)*0.00001+K75","v":-1.0000000000000001E-5},{"$f":"(COUNTIF($I75:L75,L75)-1)*0.00001+L75","v":-1.0000000000000001E-5},""]
[null,null,null,null,null,null,null,null,null,null,null,null,"",{"$f":"IFERROR(IF(AND(P76=\"\",A76<>\"\"),AG76*((I76*INTERPRNG_h(AH76,'IC Treatment Values'!$B$2:$M$3,1,1,2))+(J76*INTERPRNG_h(AH76,'IC Treatment Values'!$B$2:$M$4,1,1,3))+(K76*INTERPRNG_h(AH76,'IC Treatment Values'!$B$2:$M$5,1,1,4))+(L76*INTERPRNG_h(AH76,'IC Treatment Values'!$B$2:$M$6,1,1,5))),\"\"),\"\")","v":""},"","",null,null,null,null,null,null,null,null,null,null,null,null,null,null,null,null,"","","",{"$f":"(COUNTIF(I76:$I76,I76)-1)*0.00001+I76","v":-1.0000000000000001E-5},{"$f":"(COUNTIF($I76:J76,J76)-1)*0.00001+J76","v":-1.0000000000000001E-5},{"$f":"(COUNTIF($I76:K76,K76)-1)*0.00001+K76","v":-1.0000000000000001E-5},{"$f":"(COUNTIF($I76:L76,L76)-1)*0.00001+L76","v":-1.0000000000000001E-5},""]
[null,null,null,null,null,null,null,null,null,null,null,null,"",{"$f":"IFERROR(IF(AND(P77=\"\",A77<>\"\"),AG77*((I77*INTERPRNG_h(AH77,'IC Treatment Values'!$B$2:$M$3,1,1,2))+(J77*INTERPRNG_h(AH77,'IC Treatment Values'!$B$2:$M$4,1,1,3))+(K77*INTERPRNG_h(AH77,'IC Treatment Values'!$B$2:$M$5,1,1,4))+(L77*INTERPRNG_h(AH77,'IC Treatment Values'!$B$2:$M$6,1,1,5))),\"\"),\"\")","v":""},"","",null,null,null,null,null,null,null,null,null,null,null,null,null,null,null,null,"","","",{"$f":"(COUNTIF(I77:$I77,I77)-1)*0.00001+I77","v":-1.0000000000000001E-5},{"$f":"(COUNTIF($I77:J77,J77)-1)*0.00001+J77","v":-1.0000000000000001E-5},{"$f":"(COUNTIF($I77:K77,K77)-1)*0.00001+K77","v":-1.0000000000000001E-5},{"$f":"(COUNTIF($I77:L77,L77)-1)*0.00001+L77","v":-1.0000000000000001E-5},""]
[null,null,null,null,null,null,null,null,null,null,null,null,"",{"$f":"IFERROR(IF(AND(P78=\"\",A78<>\"\"),AG78*((I78*INTERPRNG_h(AH78,'IC Treatment Values'!$B$2:$M$3,1,1,2))+(J78*INTERPRNG_h(AH78,'IC Treatment Values'!$B$2:$M$4,1,1,3))+(K78*INTERPRNG_h(AH78,'IC Treatment Values'!$B$2:$M$5,1,1,4))+(L78*INTERPRNG_h(AH78,'IC Treatment Values'!$B$2:$M$6,1,1,5))),\"\"),\"\")","v":""},"","",null,null,null,null,null,null,null,null,null,null,null,null,null,null,null,null,"","","",{"$f":"(COUNTIF(I78:$I78,I78)-1)*0.00001+I78","v":-1.0000000000000001E-5},{"$f":"(COUNTIF($I78:J78,J78)-1)*0.00001+J78","v":-1.0000000000000001E-5},{"$f":"(COUNTIF($I78:K78,K78)-1)*0.00001+K78","v":-1.0000000000000001E-5},{"$f":"(COUNTIF($I78:L78,L78)-1)*0.00001+L78","v":-1.0000000000000001E-5},""]
[null,null,null,null,null,null,null,null,null,null,null,null,"",{"$f":"IFERROR(IF(AND(P79=\"\",A79<>\"\"),AG79*((I79*INTERPRNG_h(AH79,'IC Treatment Values'!$B$2:$M$3,1,1,2))+(J79*INTERPRNG_h(AH79,'IC Treatment Values'!$B$2:$M$4,1,1,3))+(K79*INTERPRNG_h(AH79,'IC Treatment Values'!$B$2:$M$5,1,1,4))+(L79*INTERPRNG_h(AH79,'IC Treatment Values'!$B$2:$M$6,1,1,5))),\"\"),\"\")","v":""},"","",null,null,null,null,null,null,null,null,null,null,null,null,null,null,null,null,"","","",{"$f":"(COUNTIF(I79:$I79,I79)-1)*0.00001+I79","v":-1.0000000000000001E-5},{"$f":"(COUNTIF($I79:J79,J79)-1)*0.00001+J79","v":-1.0000000000000001E-5},{"$f":"(COUNTIF($I79:K79,K79)-1)*0.00001+K79","v":-1.0000000000000001E-5},{"$f":"(COUNTIF($I79:L79,L79)-1)*0.00001+L79","v":-1.0000000000000001E-5},""]
[null,null,null,null,null,null,null,null,null,null,null,null,"",{"$f":"IFERROR(IF(AND(P80=\"\",A80<>\"\"),AG80*((I80*INTERPRNG_h(AH80,'IC Treatment Values'!$B$2:$M$3,1,1,2))+(J80*INTERPRNG_h(AH80,'IC Treatment Values'!$B$2:$M$4,1,1,3))+(K80*INTERPRNG_h(AH80,'IC Treatment Values'!$B$2:$M$5,1,1,4))+(L80*INTERPRNG_h(AH80,'IC Treatment Values'!$B$2:$M$6,1,1,5))),\"\"),\"\")","v":""},"","",null,null,null,null,null,null,null,null,null,null,null,null,null,null,null,null,"","","",{"$f":"(COUNTIF(I80:$I80,I80)-1)*0.00001+I80","v":-1.0000000000000001E-5},{"$f":"(COUNTIF($I80:J80,J80)-1)*0.00001+J80","v":-1.0000000000000001E-5},{"$f":"(COUNTIF($I80:K80,K80)-1)*0.00001+K80","v":-1.0000000000000001E-5},{"$f":"(COUNTIF($I80:L80,L80)-1)*0.00001+L80","v":-1.0000000000000001E-5},""]
[null,null,null,null,null,null,null,null,null,null,null,null,"",{"$f":"IFERROR(IF(AND(P81=\"\",A81<>\"\"),AG81*((I81*INTERPRNG_h(AH81,'IC Treatment Values'!$B$2:$M$3,1,1,2))+(J81*INTERPRNG_h(AH81,'IC Treatment Values'!$B$2:$M$4,1,1,3))+(K81*INTERPRNG_h(AH81,'IC Treatment Values'!$B$2:$M$5,1,1,4))+(L81*INTERPRNG_h(AH81,'IC Treatment Values'!$B$2:$M$6,1,1,5))),\"\"),\"\")","v":""},"","",null,null,null,null,null,null,null,null,null,null,null,null,null,null,null,null,"","","",{"$f":"(COUNTIF(I81:$I81,I81)-1)*0.00001+I81","v":-1.0000000000000001E-5},{"$f":"(COUNTIF($I81:J81,J81)-1)*0.00001+J81","v":-1.0000000000000001E-5},{"$f":"(COUNTIF($I81:K81,K81)-1)*0.00001+K81","v":-1.0000000000000001E-5},{"$f":"(COUNTIF($I81:L81,L81)-1)*0.00001+L81","v":-1.0000000000000001E-5},""]
[null,null,null,null,null,null,null,null,null,null,null,null,"",{"$f":"IFERROR(IF(AND(P82=\"\",A82<>\"\"),AG82*((I82*INTERPRNG_h(AH82,'IC Treatment Values'!$B$2:$M$3,1,1,2))+(J82*INTERPRNG_h(AH82,'IC Treatment Values'!$B$2:$M$4,1,1,3))+(K82*INTERPRNG_h(AH82,'IC Treatment Values'!$B$2:$M$5,1,1,4))+(L82*INTERPRNG_h(AH82,'IC Treatment Values'!$B$2:$M$6,1,1,5))),\"\"),\"\")","v":""},"","",null,null,null,null,null,null,null,null,null,null,null,null,null,null,null,null,"","","",{"$f":"(COUNTIF(I82:$I82,I82)-1)*0.00001+I82","v":-1.0000000000000001E-5},{"$f":"(COUNTIF($I82:J82,J82)-1)*0.00001+J82","v":-1.0000000000000001E-5},{"$f":"(COUNTIF($I82:K82,K82)-1)*0.00001+K82","v":-1.0000000000000001E-5},{"$f":"(COUNTIF($I82:L82,L82)-1)*0.00001+L82","v":-1.0000000000000001E-5},""]
[]
["Table 3: Summary of Pavement Removal (Row E)"]
[]
["Project Information",null,null,"Water Quality Treatment Calculations"]
["STU ID","WBID","DP No.","IC Area (ft2)","Effective IC Reduction (acre)"]
["Pre-populated from Worksheet A",{"$f":"IF(('Worksheet A-Scoping'!F10=\"\"),\"\",(IFERROR('Worksheet A-Scoping'!F10,\"\")))","v":""},null,{"$f":"IF((B88=\"\"),\"\",(IF(('Worksheet A-Scoping'!F23-'Worksheet A-Scoping'!F19)<0,('Worksheet A-Scoping'!F19-'Worksheet A-Scoping'!F23)*43560,0)))","v":""},{"$f":"IFERROR(IF((A88=\"\"),\"\",(D88/43560)),\"\")","v":""}]
["Pre-populated from Worksheet A",{"$f":"IF(('Worksheet A-Scoping'!G10=\"\"),\"\",(IFERROR('Worksheet A-Scoping'!G10,\"\")))","v":""},null,{"$f":"IF((B89=\"\"),\"\",IF(('Worksheet A-Scoping'!G23-'Worksheet A-Scoping'!G19)<0,('Worksheet A-Scoping'!G19-'Worksheet A-Scoping'!G23)*43560,0))","v":""},{"$f":"IFERROR(IF((A89=\"\"),\"\",(D89/43560)),\"\")","v":""}]
["Pre-populated from Worksheet A",{"$f":"IF(('Worksheet A-Scoping'!H10=\"\"),\"\",IFERROR('Worksheet A-Scoping'!H10,\"\"))","v":""},null,{"$f":"IF((B90=\"\"),\"\",IF(('Worksheet A-Scoping'!H23-'Worksheet A-Scoping'!H19)<0,('Worksheet A-Scoping'!H19-'Worksheet A-Scoping'!H23)*43560,0))","v":""},{"$f":"IFERROR(IF((A90=\"\"),\"\",(D90/43560)),\"\")","v":""}]
[]
[]
[]
[]
[]
[]
[]
[]
[]
[]
[]
[]
[]
[]
[]
[]
[]
[]
[]
[]
[]
[]
[]
[]
[]
[]
[]
[]
[]
[]
[]
["Populate to Complete Worksheets B-90% & C-As Built"]
[]
["Table 4: Summary of Drainage Redirected to a Non Discharge Area (Row F)",null,null,null,null,null,null,null,null,null,null,null,null,null,null,null,null,null,null,null,null,null,null,null,null,null,null,null,null,null,null,null,"Table 4-1: Proposed Non-Discharge Area Calculations"]
[]
["Project Information",null,null,"Water Quality Treatment Calculations ",null,null,null,null,null,null,null,null,null,null,null,"Errors and Warnings",null,null,null,null,null,null,null,null,null,null,null,null,null,null,null,null,null,null,"Break Ties between HSG Percentages (Hide Columns)"]
["Non-Discharge Area ID","WBID","DP No.","Applied to RIDEM Treatment Target?*","Type*",null,"Non-Discharge Area Definition*","IC Area (ft2)","Receiving Parcel Pervious Area\n(ft2)","% A Soils","% B Soils","% C Soils","% D Soils","IC : Pervious Cover Ratio","Impervious Cover Reduction (acre)","Sum of HSG Percentages does not equal 100%.","Parcel does not qualify as non-discharge area based on the IC:Pervious Cover Ratio and HSG Composition",null,null,null,null,null,null,null,null,null,null,null,null,null,null,null,"Round Area Ratio (Hide Column)","Check HSG Percent Total (Hide Column)","A","B","C","D","Most Conservative HSG (Hide Column)"]
[null,null,null,null,null,null,null,null,null,null,null,null,null,{"$f":"IF(AG128=\"\",\"\",IF(AG128=\"Parcel Ineligible; Receiving Parcel Area too small\",\"Parcel Ineligible; Receiving Parcel Area too small\",IF(H128<I128,\"1:\"&ROUND(AG128,1),ROUND(1/AG128,1)&\":1\")))","v":""},{"$f":"IF((A128=\"\"),\"\",(IF((P128=\"X\"),\"\",(IF((Q128=\"X\"),\"\",(H128/43560))))))","v":""},{"$f":"IF(AH128=\"\",\"\",IF(OR(AH128>1,AH128<1),\"X\",\"\"))","v":""},{"$f":"IF((G128=\"Definition 1\"),\"\",IFERROR(IF(AG128=\"\",\"\",IF(AND(AM128=\"A\",J128>=0.5,AG128<30),\"X\",IF(AND(AM128=\"B\",K128>=0.5,AG128<50),\"X\",IF(AND(AM128=\"C\",L128>=0.5,AG128<70),\"X\",\"\")))),\"\"))","v":""},null,null,null,null,null,null,null,null,null,null,null,null,null,null,null,{"$f":"IFERROR(IF((H128/I128)>8,\"Parcel Ineligible; Receiving Parcel Area too small\",IF(H128 < I128,(I128/H128),IF(I128 < (((I128+H128)/2) + H128),I128/H128,\"\"))),\"\")","v":""},{"$f":"IF(AND(J128=\"\",K128=\"\",L128=\"\",M128=\"\"),\"\",SUM(J128:M128))","v":""},{"$f":"(COUNTIF(J128:$J128,J128)-1)*0.00001+J128","v":-1.0000000000000001E-5},{"$f":"(COUNTIF($J128:K128,K128)-1)*0.00001+K128","v":-1.0000000000000001E-5},{"$f":"(COUNTIF($J128:L128,L128)-1)*0.00001+L128","v":-1.0000000000000001E-5},{"$f":"(COUNTIF($J128:M128,M128)-1)*0.00001+M128","v":-1.0000000000000001E-5},{"$f":"IF(AND(J128=\"\",K128=\"\",L128=\"\",M128=\"\"),\"\",INDEX(AI$127:AL$127,MATCH(MAX(AI128:AL128),AI128:AL128,0)))","v":""}]
[null,null,null,null,null,null,null,null,null,null,null,null,null,{"$f":"IF(AG129=\"\",\"\",IF(AG129=\"Parcel Ineligible; Receiving Parcel Area too small\",\"Parcel Ineligible; Receiving Parcel Area too small\",IF(H129<I129,\"1:\"&ROUND(AG129,1),ROUND(1/AG129,1)&\":1\")))","v":""},{"$f":"IF((A129=\"\"),\"\",(IF((P129=\"X\"),\"\",(IF((Q129=\"X\"),\"\",(H129/43560))))))","v":""},{"$f":"IF(AH129=\"\",\"\",IF(OR(AH129>1,AH129<1),\"X\",\"\"))","v":""},{"$f":"IF((G129=\"Definition 1\"),\"\",IFERROR(IF(AG129=\"\",\"\",IF(AND(AM129=\"A\",J129>=0.5,AG129<30),\"X\",IF(AND(AM129=\"B\",K129>=0.5,AG129<50),\"X\",IF(AND(AM129=\"C\",L129>=0.5,AG129<70),\"X\",\"\")))),\"\"))","v":""},null,null,null,null,null,null,null,null,null,null,null,null,null,null,null,{"$f":"IFERROR(IF((H129/I129)>8,\"Parcel Ineligible; Receiving Parcel Area too small\",IF(H129 < I129,(I129/H129),IF(I129 < (((I129+H129)/2) + H129),I129/H129,\"\"))),\"\")","v":""},{"$f":"IF(AND(J129=\"\",K129=\"\",L129=\"\",M129=\"\"),\"\",SUM(J129:M129))","v":""},{"$f":"(COUNTIF(J129:$J129,J129)-1)*0.00001+J129","v":-1.0000000000000001E-5},{"$f":"(COUNTIF($J129:K129,K129)-1)*0.00001+K129","v":-1.0000000000000001E-5},{"$f":"(COUNTIF($J129:L129,L129)-1)*0.00001+L129","v":-1.0000000000000001E-5},{"$f":"(COUNTIF($J129:M129,M129)-1)*0.00001+M129","v":-1.0000000000000001E-5},{"$f":"IF(AND(J129=\"\",K129=\"\",L129=\"\",M129=\"\"),\"\",INDEX(AI$127:AL$127,MATCH(MAX(AI129:AL129),AI129:AL129,0)))","v":""}]
[null,null,null,null,null,null,null,null,null,null,null,null,null,{"$f":"IF(AG130=\"\",\"\",IF(AG130=\"Parcel Ineligible; Receiving Parcel Area too small\",\"Parcel Ineligible; Receiving Parcel Area too small\",IF(H130<I130,\"1:\"&ROUND(AG130,1),ROUND(1/AG130,1)&\":1\")))","v":""},"",{"$f":"IF(AH130=\"\",\"\",IF(OR(AH130>1,AH130<1),\"X\",\"\"))","v":""},{"$f":"IF((G130=\"Definition 1\"),\"\",IFERROR(IF(AG130=\"\",\"\",IF(AND(AM130=\"A\",J130>=0.5,AG130<30),\"X\",IF(AND(AM130=\"B\",K130>=0.5,AG130<50),\"X\",IF(AND(AM130=\"C\",L130>=0.5,AG130<70),\"X\",\"\")))),\"\"))","v":""},null,null,null,null,null,null,null,null,null,null,null,null,null,null,null,{"$f":"IFERROR(IF((H130/I130)>8,\"Parcel Ineligible; Receiving Parcel Area too small\",IF(H130 < I130,(I130/H130),IF(I130 < (((I130+H130)/2) + H130),I130/H130,\"\"))),\"\")","v":""},{"$f":"IF(AND(J130=\"\",K130=\"\",L130=\"\",M130=\"\"),\"\",SUM(J130:M130))","v":""},{"$f":"(COUNTIF(J130:$J130,J130)-1)*0.00001+J130","v":-1.0000000000000001E-5},{"$f":"(COUNTIF($J130:K130,K130)-1)*0.00001+K130","v":-1.0000000000000001E-5},{"$f":"(COUNTIF($J130:L130,L130)-1)*0.00001+L130","v":-1.0000000000000001E-5},{"$f":"(COUNTIF($J130:M130,M130)-1)*0.00001+M130","v":-1.0000000000000001E-5},{"$f":"IF(AND(J130=\"\",K130=\"\",L130=\"\",M130=\"\"),\"\",INDEX(AI$127:AL$127,MATCH(MAX(AI130:AL130),AI130:AL130,0)))","v":""}]
[null,null,null,null,null,null,null,null,null,null,null,null,null,"","","","",null,null,null,null,null,null,null,null,null,null,null,null,null,null,null,"","",{"$f":"(COUNTIF(J131:$J131,J131)-1)*0.00001+J131","v":-1.0000000000000001E-5},{"$f":"(COUNTIF($J131:K131,K131)-1)*0.00001+K131","v":-1.0000000000000001E-5},{"$f":"(COUNTIF($J131:L131,L131)-1)*0.00001+L131","v":-1.0000000000000001E-5},{"$f":"(COUNTIF($J131:M131,M131)-1)*0.00001+M131","v":-1.0000000000000001E-5},""]
[null,null,null,null,null,null,null,null,null,null,null,null,null,"","","","",null,null,null,null,null,null,null,null,null,null,null,null,null,null,null,"","",{"$f":"(COUNTIF(J132:$J132,J132)-1)*0.00001+J132","v":-1.0000000000000001E-5},{"$f":"(COUNTIF($J132:K132,K132)-1)*0.00001+K132","v":-1.0000000000000001E-5},{"$f":"(COUNTIF($J132:L132,L132)-1)*0.00001+L132","v":-1.0000000000000001E-5},{"$f":"(COUNTIF($J132:M132,M132)-1)*0.00001+M132","v":-1.0000000000000001E-5},""]
[null,null,null,null,null,null,null,null,null,null,null,null,null,"","","","",null,null,null,null,null,null,null,null,null,null,null,null,null,null,null,"","",{"$f":"(COUNTIF(J133:$J133,J133)-1)*0.00001+J133","v":-1.0000000000000001E-5},{"$f":"(COUNTIF($J133:K133,K133)-1)*0.00001+K133","v":-1.0000000000000001E-5},{"$f":"(COUNTIF($J133:L133,L133)-1)*0.00001+L133","v":-1.0000000000000001E-5},{"$f":"(COUNTIF($J133:M133,M133)-1)*0.00001+M133","v":-1.0000000000000001E-5},""]
[null,null,null,null,null,null,null,null,null,null,null,null,null,"","","","",null,null,null,null,null,null,null,null,null,null,null,null,null,null,null,"","",{"$f":"(COUNTIF(J134:$J134,J134)-1)*0.00001+J134","v":-1.0000000000000001E-5},{"$f":"(COUNTIF($J134:K134,K134)-1)*0.00001+K134","v":-1.0000000000000001E-5},{"$f":"(COUNTIF($J134:L134,L134)-1)*0.00001+L134","v":-1.0000000000000001E-5},{"$f":"(COUNTIF($J134:M134,M134)-1)*0.00001+M134","v":-1.0000000000000001E-5},""]
[null,null,null,null,null,null,null,null,null,null,null,null,null,"","","","",null,null,null,null,null,null,null,null,null,null,null,null,null,null,null,"","",{"$f":"(COUNTIF(J135:$J135,J135)-1)*0.00001+J135","v":-1.0000000000000001E-5},{"$f":"(COUNTIF($J135:K135,K135)-1)*0.00001+K135","v":-1.0000000000000001E-5},{"$f":"(COUNTIF($J135:L135,L135)-1)*0.00001+L135","v":-1.0000000000000001E-5},{"$f":"(COUNTIF($J135:M135,M135)-1)*0.00001+M135","v":-1.0000000000000001E-5},""]
[null,null,null,null,null,null,null,null,null,null,null,null,null,"","","","",null,null,null,null,null,null,null,null,null,null,null,null,null,null,null,"","",{"$f":"(COUNTIF(J136:$J136,J136)-1)*0.00001+J136","v":-1.0000000000000001E-5},{"$f":"(COUNTIF($J136:K136,K136)-1)*0.00001+K136","v":-1.0000000000000001E-5},{"$f":"(COUNTIF($J136:L136,L136)-1)*0.00001+L136","v":-1.0000000000000001E-5},{"$f":"(COUNTIF($J136:M136,M136)-1)*0.00001+M136","v":-1.0000000000000001E-5},""]
[null,null,null,null,null,null,null,null,null,null,null,null,null,"","","","",null,null,null,null,null,null,null,null,null,null,null,null,null,null,null,"","",{"$f":"(COUNTIF(J137:$J137,J137)-1)*0.00001+J137","v":-1.0000000000000001E-5},{"$f":"(COUNTIF($J137:K137,K137)-1)*0.00001+K137","v":-1.0000000000000001E-5},{"$f":"(COUNTIF($J137:L137,L137)-1)*0.00001+L137","v":-1.0000000000000001E-5},{"$f":"(COUNTIF($J137:M137,M137)-1)*0.00001+M137","v":-1.0000000000000001E-5},""]
[null,null,null,null,null,null,null,null,null,null,null,null,null,"","","","",null,null,null,null,null,null,null,null,null,null,null,null,null,null,null,"","",{"$f":"(COUNTIF(J138:$J138,J138)-1)*0.00001+J138","v":-1.0000000000000001E-5},{"$f":"(COUNTIF($J138:K138,K138)-1)*0.00001+K138","v":-1.0000000000000001E-5},{"$f":"(COUNTIF($J138:L138,L138)-1)*0.00001+L138","v":-1.0000000000000001E-5},{"$f":"(COUNTIF($J138:M138,M138)-1)*0.00001+M138","v":-1.0000000000000001E-5},""]
[null,null,null,null,null,null,null,null,null,null,null,null,null,"","","","",null,null,null,null,null,null,null,null,null,null,null,null,null,null,null,"","",{"$f":"(COUNTIF(J139:$J139,J139)-1)*0.00001+J139","v":-1.0000000000000001E-5},{"$f":"(COUNTIF($J139:K139,K139)-1)*0.00001+K139","v":-1.0000000000000001E-5},{"$f":"(COUNTIF($J139:L139,L139)-1)*0.00001+L139","v":-1.0000000000000001E-5},{"$f":"(COUNTIF($J139:M139,M139)-1)*0.00001+M139","v":-1.0000000000000001E-5},""]
[null,null,null,null,null,null,null,null,null,null,null,null,null,"","","","",null,null,null,null,null,null,null,null,null,null,null,null,null,null,null,"","",{"$f":"(COUNTIF(J140:$J140,J140)-1)*0.00001+J140","v":-1.0000000000000001E-5},{"$f":"(COUNTIF($J140:K140,K140)-1)*0.00001+K140","v":-1.0000000000000001E-5},{"$f":"(COUNTIF($J140:L140,L140)-1)*0.00001+L140","v":-1.0000000000000001E-5},{"$f":"(COUNTIF($J140:M140,M140)-1)*0.00001+M140","v":-1.0000000000000001E-5},""]
[null,null,null,null,null,null,null,null,null,null,null,null,null,"","","","",null,null,null,null,null,null,null,null,null,null,null,null,null,null,null,"","",{"$f":"(COUNTIF(J141:$J141,J141)-1)*0.00001+J141","v":-1.0000000000000001E-5},{"$f":"(COUNTIF($J141:K141,K141)-1)*0.00001+K141","v":-1.0000000000000001E-5},{"$f":"(COUNTIF($J141:L141,L141)-1)*0.00001+L141","v":-1.0000000000000001E-5},{"$f":"(COUNTIF($J141:M141,M141)-1)*0.00001+M141","v":-1.0000000000000001E-5},""]
[null,null,null,null,null,null,null,null,null,null,null,null,null,"","","","",null,null,null,null,null,null,null,null,null,null,null,null,null,null,null,"","",{"$f":"(COUNTIF(J142:$J142,J142)-1)*0.00001+J142","v":-1.0000000000000001E-5},{"$f":"(COUNTIF($J142:K142,K142)-1)*0.00001+K142","v":-1.0000000000000001E-5},{"$f":"(COUNTIF($J142:L142,L142)-1)*0.00001+L142","v":-1.0000000000000001E-5},{"$f":"(COUNTIF($J142:M142,M142)-1)*0.00001+M142","v":-1.0000000000000001E-5},""]
[null,null,null,null,null,null,null,null,null,null,null,null,null,"","","","",null,null,null,null,null,null,null,null,null,null,null,null,null,null,null,"","",{"$f":"(COUNTIF(J143:$J143,J143)-1)*0.00001+J143","v":-1.0000000000000001E-5},{"$f":"(COUNTIF($J143:K143,K143)-1)*0.00001+K143","v":-1.0000000000000001E-5},{"$f":"(COUNTIF($J143:L143,L143)-1)*0.00001+L143","v":-1.0000000000000001E-5},{"$f":"(COUNTIF($J143:M143,M143)-1)*0.00001+M143","v":-1.0000000000000001E-5},""]
[null,null,null,null,null,null,null,null,null,null,null,null,null,"","","","",null,null,null,null,null,null,null,null,null,null,null,null,null,null,null,"","",{"$f":"(COUNTIF(J144:$J144,J144)-1)*0.00001+J144","v":-1.0000000000000001E-5},{"$f":"(COUNTIF($J144:K144,K144)-1)*0.00001+K144","v":-1.0000000000000001E-5},{"$f":"(COUNTIF($J144:L144,L144)-1)*0.00001+L144","v":-1.0000000000000001E-5},{"$f":"(COUNTIF($J144:M144,M144)-1)*0.00001+M144","v":-1.0000000000000001E-5},""]
[null,null,null,null,null,null,null,null,null,null,null,null,null,"","","","",null,null,null,null,null,null,null,null,null,null,null,null,null,null,null,"","",{"$f":"(COUNTIF(J145:$J145,J145)-1)*0.00001+J145","v":-1.0000000000000001E-5},{"$f":"(COUNTIF($J145:K145,K145)-1)*0.00001+K145","v":-1.0000000000000001E-5},{"$f":"(COUNTIF($J145:L145,L145)-1)*0.00001+L145","v":-1.0000000000000001E-5},{"$f":"(COUNTIF($J145:M145,M145)-1)*0.00001+M145","v":-1.0000000000000001E-5},""]
[null,null,null,null,null,null,null,null,null,null,null,null,null,"","","","",null,null,null,null,null,null,null,null,null,null,null,null,null,null,null,"","",{"$f":"(COUNTIF(J146:$J146,J146)-1)*0.00001+J146","v":-1.0000000000000001E-5},{"$f":"(COUNTIF($J146:K146,K146)-1)*0.00001+K146","v":-1.0000000000000001E-5},{"$f":"(COUNTIF($J146:L146,L146)-1)*0.00001+L146","v":-1.0000000000000001E-5},{"$f":"(COUNTIF($J146:M146,M146)-1)*0.00001+M146","v":-1.0000000000000001E-5},""]
[null,null,null,null,null,null,null,null,null,null,null,null,null,"","","","",null,null,null,null,null,null,null,null,null,null,null,null,null,null,null,"","",{"$f":"(COUNTIF(J147:$J147,J147)-1)*0.00001+J147","v":-1.0000000000000001E-5},{"$f":"(COUNTIF($J147:K147,K147)-1)*0.00001+K147","v":-1.0000000000000001E-5},{"$f":"(COUNTIF($J147:L147,L147)-1)*0.00001+L147","v":-1.0000000000000001E-5},{"$f":"(COUNTIF($J147:M147,M147)-1)*0.00001+M147","v":-1.0000000000000001E-5},""]
[null,null,null,null,null,null,null,null,null,null,null,null,null,"","","","",null,null,null,null,null,null,null,null,null,null,null,null,null,null,null,"","",{"$f":"(COUNTIF(J148:$J148,J148)-1)*0.00001+J148","v":-1.0000000000000001E-5},{"$f":"(COUNTIF($J148:K148,K148)-1)*0.00001+K148","v":-1.0000000000000001E-5},{"$f":"(COUNTIF($J148:L148,L148)-1)*0.00001+L148","v":-1.0000000000000001E-5},{"$f":"(COUNTIF($J148:M148,M148)-1)*0.00001+M148","v":-1.0000000000000001E-5},""]
[null,null,null,null,null,null,null,null,null,null,null,null,null,"","","","",null,null,null,null,null,null,null,null,null,null,null,null,null,null,null,"","",{"$f":"(COUNTIF(J149:$J149,J149)-1)*0.00001+J149","v":-1.0000000000000001E-5},{"$f":"(COUNTIF($J149:K149,K149)-1)*0.00001+K149","v":-1.0000000000000001E-5},{"$f":"(COUNTIF($J149:L149,L149)-1)*0.00001+L149","v":-1.0000000000000001E-5},{"$f":"(COUNTIF($J149:M149,M149)-1)*0.00001+M149","v":-1.0000000000000001E-5},""]
[null,null,null,null,null,null,null,null,null,null,null,null,null,"","","","",null,null,null,null,null,null,null,null,null,null,null,null,null,null,null,"","",{"$f":"(COUNTIF(J150:$J150,J150)-1)*0.00001+J150","v":-1.0000000000000001E-5},{"$f":"(COUNTIF($J150:K150,K150)-1)*0.00001+K150","v":-1.0000000000000001E-5},{"$f":"(COUNTIF($J150:L150,L150)-1)*0.00001+L150","v":-1.0000000000000001E-5},{"$f":"(COUNTIF($J150:M150,M150)-1)*0.00001+M150","v":-1.0000000000000001E-5},""]
[null,null,null,null,null,null,null,null,null,null,null,null,null,"","","","",null,null,null,null,null,null,null,null,null,null,null,null,null,null,null,"","",{"$f":"(COUNTIF(J151:$J151,J151)-1)*0.00001+J151","v":-1.0000000000000001E-5},{"$f":"(COUNTIF($J151:K151,K151)-1)*0.00001+K151","v":-1.0000000000000001E-5},{"$f":"(COUNTIF($J151:L151,L151)-1)*0.00001+L151","v":-1.0000000000000001E-5},{"$f":"(COUNTIF($J151:M151,M151)-1)*0.00001+M151","v":-1.0000000000000001E-5},""]
[null,null,null,null,null,null,null,null,null,null,null,null,null,"","","","",null,null,null,null,null,null,null,null,null,null,null,null,null,null,null,"","",{"$f":"(COUNTIF(J152:$J152,J152)-1)*0.00001+J152","v":-1.0000000000000001E-5},{"$f":"(COUNTIF($J152:K152,K152)-1)*0.00001+K152","v":-1.0000000000000001E-5},{"$f":"(COUNTIF($J152:L152,L152)-1)*0.00001+L152","v":-1.0000000000000001E-5},{"$f":"(COUNTIF($J152:M152,M152)-1)*0.00001+M152","v":-1.0000000000000001E-5},""]
[null,null,null,null,null,null,null,null,null,null,null,null,null,"","","","",null,null,null,null,null,null,null,null,null,null,null,null,null,null,null,"","",{"$f":"(COUNTIF(J153:$J153,J153)-1)*0.00001+J153","v":-1.0000000000000001E-5},{"$f":"(COUNTIF($J153:K153,K153)-1)*0.00001+K153","v":-1.0000000000000001E-5},{"$f":"(COUNTIF($J153:L153,L153)-1)*0.00001+L153","v":-1.0000000000000001E-5},{"$f":"(COUNTIF($J153:M153,M153)-1)*0.00001+M153","v":-1.0000000000000001E-5},""]
[null,null,null,null,null,null,null,null,null,null,null,null,null,"","","","",null,null,null,null,null,null,null,null,null,null,null,null,null,null,null,"","",{"$f":"(COUNTIF(J154:$J154,J154)-1)*0.00001+J154","v":-1.0000000000000001E-5},{"$f":"(COUNTIF($J154:K154,K154)-1)*0.00001+K154","v":-1.0000000000000001E-5},{"$f":"(COUNTIF($J154:L154,L154)-1)*0.00001+L154","v":-1.0000000000000001E-5},{"$f":"(COUNTIF($J154:M154,M154)-1)*0.00001+M154","v":-1.0000000000000001E-5},""]
[null,null,null,null,null,null,null,null,null,null,null,null,null,"","","","",null,null,null,null,null,null,null,null,null,null,null,null,null,null,null,"","",{"$f":"(COUNTIF(J155:$J155,J155)-1)*0.00001+J155","v":-1.0000000000000001E-5},{"$f":"(COUNTIF($J155:K155,K155)-1)*0.00001+K155","v":-1.0000000000000001E-5},{"$f":"(COUNTIF($J155:L155,L155)-1)*0.00001+L155","v":-1.0000000000000001E-5},{"$f":"(COUNTIF($J155:M155,M155)-1)*0.00001+M155","v":-1.0000000000000001E-5},""]
[null,null,null,null,null,null,null,null,null,null,null,null,null,"","","","",null,null,null,null,null,null,null,null,null,null,null,null,null,null,null,"","",{"$f":"(COUNTIF(J156:$J156,J156)-1)*0.00001+J156","v":-1.0000000000000001E-5},{"$f":"(COUNTIF($J156:K156,K156)-1)*0.00001+K156","v":-1.0000000000000001E-5},{"$f":"(COUNTIF($J156:L156,L156)-1)*0.00001+L156","v":-1.0000000000000001E-5},{"$f":"(COUNTIF($J156:M156,M156)-1)*0.00001+M156","v":-1.0000000000000001E-5},""]
[null,null,null,null,null,null,null,null,null,null,null,null,null,"",{"$f":"IF((A157=\"\"),\"\",(IF((P157=\"X\"),\"\",(IF((Q157=\"X\"),\"\",(H157/43560))))))","v":""},"","",null,null,null,null,null,null,null,null,null,null,null,null,null,null,null,"","",{"$f":"(COUNTIF(J157:$J157,J157)-1)*0.00001+J157","v":-1.0000000000000001E-5},{"$f":"(COUNTIF($J157:K157,K157)-1)*0.00001+K157","v":-1.0000000000000001E-5},{"$f":"(COUNTIF($J157:L157,L157)-1)*0.00001+L157","v":-1.0000000000000001E-5},{"$f":"(COUNTIF($J157:M157,M157)-1)*0.00001+M157","v":-1.0000000000000001E-5},""]
[]
["Table 5: Summary of Drainage Redirected to an IC Disconnection Area (Row G)",null,null,null,null,null,null,null,null,null,null,null,null,null,null,null,null,null,null,null,null,null,null,null,null,null,null,null,null,null,null,null,"Table 5-1: Proposed IC Disconnection Calculations"]
[]
["Project Information",null,null,"Water Quality Treatment Calculations ",null,null,null,null,null,null,null,null,null,null,"Errors and Warnings",null,null,null,null,null,null,null,null,null,null,null,null,null,null,null,null,null,null,null,null,"Break Ties between HSG Percentages (Hide Columns)"]
["STU ID","WBID","DP No.","Applied to RIDEM Treatment Target?*","STU Type*",null,"IC Area (ft2)","Receiving Parcel Pervious Area\n(ft2)","% A Soils","% B Soils","% C Soils","% D Soils","IC : Pervious Cover Ratio","Effective IC Reduction (acre)","Parcel qualifies as non-discharge area (based on the IC:Pervious Cover Ratio and HSG Composition)","Sum of HSG Percentages does not equal 100%.",null,null,null,null,null,null,null,null,null,null,null,null,null,null,null,null,"Existing IC (acre) (Hide Column)","Round Area Ratio (Hide Column)","Check HSG Percent Total (Hide Column)","A","B","C","D","Most Conservative HSG (Hide Column)"]
[null,null,null,null,null,null,null,null,null,null,null,null,{"$f":"IF(AH163=\"\",\"\",IF(AH163=\"Parcel Ineligible; Receiving Parcel Area too small\",\"Parcel Ineligible; Receiving Parcel Area too small\",IF(G163<H163,\"1:\"&ROUND(AH163,1),ROUND(1/AH163,1)&\":1\")))","v":""},{"$f":"IFERROR(IF(AND(P163=\"\",A163<>\"\"),AG163*((I163*INTERPRNG_h(AH163,'IC Treatment Values'!$B$2:$M$3,1,1,2))+(J163*INTERPRNG_h(AH163,'IC Treatment Values'!$B$2:$M$4,1,1,3))+(K163*INTERPRNG_h(AH163,'IC Treatment Values'!$B$2:$M$5,1,1,4))+(L163*INTERPRNG_h(AH163,'IC Treatment Values'!$B$2:$M$6,1,1,5))),\"\"),\"\")","v":""},{"$f":"IFERROR(IF(AH163=\"\",\"\",IF(AND(AN163=\"A\",I163>=0.5,AH163>=30),\"X\",IF(AND(AN163=\"B\",J163>=0.5,AH163>=50),\"X\",IF(AND(AN163=\"C\",K163>=0.5,AH163>=70),\"X\",\"\")))),\"\")","v":""},{"$f":"IF(AI163=\"\",\"\",IF(OR(AI163>1,AI163<1),\"X\",\"\"))","v":""},null,null,null,null,null,null,null,null,null,null,null,null,null,null,null,null,{"$f":"IF(A163=\"\",\"\",G163/43560)","v":""},{"$f":"IFERROR(IF((G163/H163)>8,\"Parcel Ineligible; Receiving Parcel Area too small\",IF(G163 < H163,(H163/G163),IF(H163 < (((H163+G163)/2) + G163),H163/G163,\"\"))),\"\")","v":""},{"$f":"IF(AND(I163=\"\",J163=\"\",K163=\"\",L163=\"\"),\"\",SUM(I163:L163))","v":""},{"$f":"(COUNTIF(I163:$I163,I163)-1)*0.00001+I163","v":-1.0000000000000001E-5},{"$f":"(COUNTIF($I163:J163,J163)-1)*0.00001+J163","v":-1.0000000000000001E-5},{"$f":"(COUNTIF($I163:K163,K163)-1)*0.00001+K163","v":-1.0000000000000001E-5},{"$f":"(COUNTIF($I163:L163,L163)-1)*0.00001+L163","v":-1.0000000000000001E-5},{"$f":"IF(AND(I163=\"\",J163=\"\",K163=\"\",L163=\"\"),\"\",INDEX(AJ$162:AM$162,MATCH(MAX(AJ163:AM163),AJ163:AM163,0)))","v":""}]
[null,null,null,null,null,null,null,null,null,null,null,null,{"$f":"IF(AH164=\"\",\"\",IF(AH164=\"Parcel Ineligible; Receiving Parcel Area too small\",\"Parcel Ineligible; Receiving Parcel Area too small\",IF(G164<H164,\"1:\"&ROUND(AH164,1),ROUND(1/AH164,1)&\":1\")))","v":""},{"$f":"IFERROR(IF(AND(P164=\"\",A164<>\"\"),AG164*((I164*INTERPRNG_h(AH164,'IC Treatment Values'!$B$2:$M$3,1,1,2))+(J164*INTERPRNG_h(AH164,'IC Treatment Values'!$B$2:$M$4,1,1,3))+(K164*INTERPRNG_h(AH164,'IC Treatment Values'!$B$2:$M$5,1,1,4))+(L164*INTERPRNG_h(AH164,'IC Treatment Values'!$B$2:$M$6,1,1,5))),\"\"),\"\")","v":""},{"$f":"IFERROR(IF(AH164=\"\",\"\",IF(AND(AN164=\"A\",I164>=0.5,AH164>=30),\"X\",IF(AND(AN164=\"B\",J164>=0.5,AH164>=50),\"X\",IF(AND(AN164=\"C\",K164>=0.5,AH164>=70),\"X\",\"\")))),\"\")","v":""},{"$f":"IF(AI164=\"\",\"\",IF(OR(AI164>1,AI164<1),\"X\",\"\"))","v":""},null,null,null,null,null,null,null,null,null,null,null,null,null,null,null,null,{"$f":"IF(A164=\"\",\"\",G164/43560)","v":""},{"$f":"IFERROR(IF((G164/H164)>8,\"Parcel Ineligible; Receiving Parcel Area too small\",IF(G164 < H164,(H164/G164),IF(H164 < (((H164+G164)/2) + G164),H164/G164,\"\"))),\"\")","v":""},{"$f":"IF(AND(I164=\"\",J164=\"\",K164=\"\",L164=\"\"),\"\",SUM(I164:L164))","v":""},{"$f":"(COUNTIF(I164:$I164,I164)-1)*0.00001+I164","v":-1.0000000000000001E-5},{"$f":"(COUNTIF($I164:J164,J164)-1)*0.00001+J164","v":-1.0000000000000001E-5},{"$f":"(COUNTIF($I164:K164,K164)-1)*0.00001+K164","v":-1.0000000000000001E-5},{"$f":"(COUNTIF($I164:L164,L164)-1)*0.00001+L164","v":-1.0000000000000001E-5},{"$f":"IF(AND(I164=\"\",J164=\"\",K164=\"\",L164=\"\"),\"\",INDEX(AJ$162:AM$162,MATCH(MAX(AJ164:AM164),AJ164:AM164,0)))","v":""}]
[null,null,null,null,null,null,null,null,null,null,null,null,{"$f":"IF(AH165=\"\",\"\",IF(AH165=\"Parcel Ineligible; Receiving Parcel Area too small\",\"Parcel Ineligible; Receiving Parcel Area too small\",IF(G165<H165,\"1:\"&ROUND(AH165,1),ROUND(1/AH165,1)&\":1\")))","v":""},{"$f":"IFERROR(IF(AND(P165=\"\",A165<>\"\"),AG165*((I165*INTERPRNG_h(AH165,'IC Treatment Values'!$B$2:$M$3,1,1,2))+(J165*INTERPRNG_h(AH165,'IC Treatment Values'!$B$2:$M$4,1,1,3))+(K165*INTERPRNG_h(AH165,'IC Treatment Values'!$B$2:$M$5,1,1,4))+(L165*INTERPRNG_h(AH165,'IC Treatment Values'!$B$2:$M$6,1,1,5))),\"\"),\"\")","v":""},{"$f":"IFERROR(IF(AH165=\"\",\"\",IF(AND(AN165=\"A\",I165>=0.5,AH165>=30),\"X\",IF(AND(AN165=\"B\",J165>=0.5,AH165>=50),\"X\",IF(AND(AN165=\"C\",K165>=0.5,AH165>=70),\"X\",\"\")))),\"\")","v":""},{"$f":"IF(AI165=\"\",\"\",IF(OR(AI165>1,AI165<1),\"X\",\"\"))","v":""},null,null,null,null,null,null,null,null,null,null,null,null,null,null,null,null,{"$f":"IF(A165=\"\",\"\",G165/43560)","v":""},{"$f":"IFERROR(IF((G165/H165)>8,\"Parcel Ineligible; Receiving Parcel Area too small\",IF(G165 < H165,(H165/G165),IF(H165 < (((H165+G165)/2) + G165),H165/G165,\"\"))),\"\")","v":""},{"$f":"IF(AND(I165=\"\",J165=\"\",K165=\"\",L165=\"\"),\"\",SUM(I165:L165))","v":""},{"$f":"(COUNTIF(I165:$I165,I165)-1)*0.00001+I165","v":-1.0000000000000001E-5},{"$f":"(COUNTIF($I165:J165,J165)-1)*0.00001+J165","v":-1.0000000000000001E-5},{"$f":"(COUNTIF($I165:K165,K165)-1)*0.00001+K165","v":-1.0000000000000001E-5},{"$f":"(COUNTIF($I165:L165,L165)-1)*0.00001+L165","v":-1.0000000000000001E-5},""]
[null,null,null,null,null,null,null,null,null,null,null,null,"",{"$f":"IFERROR(IF(AND(P166=\"\",A166<>\"\"),AG166*((I166*INTERPRNG_h(AH166,'IC Treatment Values'!$B$2:$M$3,1,1,2))+(J166*INTERPRNG_h(AH166,'IC Treatment Values'!$B$2:$M$4,1,1,3))+(K166*INTERPRNG_h(AH166,'IC Treatment Values'!$B$2:$M$5,1,1,4))+(L166*INTERPRNG_h(AH166,'IC Treatment Values'!$B$2:$M$6,1,1,5))),\"\"),\"\")","v":""},"","",null,null,null,null,null,null,null,null,null,null,null,null,null,null,null,null,"","","",{"$f":"(COUNTIF(I166:$I166,I166)-1)*0.00001+I166","v":-1.0000000000000001E-5},{"$f":"(COUNTIF($I166:J166,J166)-1)*0.00001+J166","v":-1.0000000000000001E-5},{"$f":"(COUNTIF($I166:K166,K166)-1)*0.00001+K166","v":-1.0000000000000001E-5},{"$f":"(COUNTIF($I166:L166,L166)-1)*0.00001+L166","v":-1.0000000000000001E-5},""]
[null,null,null,null,null,null,null,null,null,null,null,null,"",{"$f":"IFERROR(IF(AND(P167=\"\",A167<>\"\"),AG167*((I167*INTERPRNG_h(AH167,'IC Treatment Values'!$B$2:$M$3,1,1,2))+(J167*INTERPRNG_h(AH167,'IC Treatment Values'!$B$2:$M$4,1,1,3))+(K167*INTERPRNG_h(AH167,'IC Treatment Values'!$B$2:$M$5,1,1,4))+(L167*INTERPRNG_h(AH167,'IC Treatment Values'!$B$2:$M$6,1,1,5))),\"\"),\"\")","v":""},"","",null,null,null,null,null,null,null,null,null,null,null,null,null,null,null,null,"","","",{"$f":"(COUNTIF(I167:$I167,I167)-1)*0.00001+I167","v":-1.0000000000000001E-5},{"$f":"(COUNTIF($I167:J167,J167)-1)*0.00001+J167","v":-1.0000000000000001E-5},{"$f":"(COUNTIF($I167:K167,K167)-1)*0.00001+K167","v":-1.0000000000000001E-5},{"$f":"(COUNTIF($I167:L167,L167)-1)*0.00001+L167","v":-1.0000000000000001E-5},""]
[null,null,null,null,null,null,null,null,null,null,null,null,"",{"$f":"IFERROR(IF(AND(P168=\"\",A168<>\"\"),AG168*((I168*INTERPRNG_h(AH168,'IC Treatment Values'!$B$2:$M$3,1,1,2))+(J168*INTERPRNG_h(AH168,'IC Treatment Values'!$B$2:$M$4,1,1,3))+(K168*INTERPRNG_h(AH168,'IC Treatment Values'!$B$2:$M$5,1,1,4))+(L168*INTERPRNG_h(AH168,'IC Treatment Values'!$B$2:$M$6,1,1,5))),\"\"),\"\")","v":""},"","",null,null,null,null,null,null,null,null,null,null,null,null,null,null,null,null,"","","",{"$f":"(COUNTIF(I168:$I168,I168)-1)*0.00001+I168","v":-1.0000000000000001E-5},{"$f":"(COUNTIF($I168:J168,J168)-1)*0.00001+J168","v":-1.0000000000000001E-5},{"$f":"(COUNTIF($I168:K168,K168)-1)*0.00001+K168","v":-1.0000000000000001E-5},{"$f":"(COUNTIF($I168:L168,L168)-1)*0.00001+L168","v":-1.0000000000000001E-5},""]
[null,null,null,null,null,null,null,null,null,null,null,null,"",{"$f":"IFERROR(IF(AND(P169=\"\",A169<>\"\"),AG169*((I169*INTERPRNG_h(AH169,'IC Treatment Values'!$B$2:$M$3,1,1,2))+(J169*INTERPRNG_h(AH169,'IC Treatment Values'!$B$2:$M$4,1,1,3))+(K169*INTERPRNG_h(AH169,'IC Treatment Values'!$B$2:$M$5,1,1,4))+(L169*INTERPRNG_h(AH169,'IC Treatment Values'!$B$2:$M$6,1,1,5))),\"\"),\"\")","v":""},"","",null,null,null,null,null,null,null,null,null,null,null,null,null,null,null,null,"","","",{"$f":"(COUNTIF(I169:$I169,I169)-1)*0.00001+I169","v":-1.0000000000000001E-5},{"$f":"(COUNTIF($I169:J169,J169)-1)*0.00001+J169","v":-1.0000000000000001E-5},{"$f":"(COUNTIF($I169:K169,K169)-1)*0.00001+K169","v":-1.0000000000000001E-5},{"$f":"(COUNTIF($I169:L169,L169)-1)*0.00001+L169","v":-1.0000000000000001E-5},""]
[null,null,null,null,null,null,null,null,null,null,null,null,"",{"$f":"IFERROR(IF(AND(P170=\"\",A170<>\"\"),AG170*((I170*INTERPRNG_h(AH170,'IC Treatment Values'!$B$2:$M$3,1,1,2))+(J170*INTERPRNG_h(AH170,'IC Treatment Values'!$B$2:$M$4,1,1,3))+(K170*INTERPRNG_h(AH170,'IC Treatment Values'!$B$2:$M$5,1,1,4))+(L170*INTERPRNG_h(AH170,'IC Treatment Values'!$B$2:$M$6,1,1,5))),\"\"),\"\")","v":""},"","",null,null,null,null,null,null,null,null,null,null,null,null,null,null,null,null,"","","",{"$f":"(COUNTIF(I170:$I170,I170)-1)*0.00001+I170","v":-1.0000000000000001E-5},{"$f":"(COUNTIF($I170:J170,J170)-1)*0.00001+J170","v":-1.0000000000000001E-5},{"$f":"(COUNTIF($I170:K170,K170)-1)*0.00001+K170","v":-1.0000000000000001E-5},{"$f":"(COUNTIF($I170:L170,L170)-1)*0.00001+L170","v":-1.0000000000000001E-5},""]
[null,null,null,null,null,null,null,null,null,null,null,null,"",{"$f":"IFERROR(IF(AND(P171=\"\",A171<>\"\"),AG171*((I171*INTERPRNG_h(AH171,'IC Treatment Values'!$B$2:$M$3,1,1,2))+(J171*INTERPRNG_h(AH171,'IC Treatment Values'!$B$2:$M$4,1,1,3))+(K171*INTERPRNG_h(AH171,'IC Treatment Values'!$B$2:$M$5,1,1,4))+(L171*INTERPRNG_h(AH171,'IC Treatment Values'!$B$2:$M$6,1,1,5))),\"\"),\"\")","v":""},"","",null,null,null,null,null,null,null,null,null,null,null,null,null,null,null,null,"","","",{"$f":"(COUNTIF(I171:$I171,I171)-1)*0.00001+I171","v":-1.0000000000000001E-5},{"$f":"(COUNTIF($I171:J171,J171)-1)*0.00001+J171","v":-1.0000000000000001E-5},{"$f":"(COUNTIF($I171:K171,K171)-1)*0.00001+K171","v":-1.0000000000000001E-5},{"$f":"(COUNTIF($I171:L171,L171)-1)*0.00001+L171","v":-1.0000000000000001E-5},""]
[null,null,null,null,null,null,null,null,null,null,null,null,"",{"$f":"IFERROR(IF(AND(P172=\"\",A172<>\"\"),AG172*((I172*INTERPRNG_h(AH172,'IC Treatment Values'!$B$2:$M$3,1,1,2))+(J172*INTERPRNG_h(AH172,'IC Treatment Values'!$B$2:$M$4,1,1,3))+(K172*INTERPRNG_h(AH172,'IC Treatment Values'!$B$2:$M$5,1,1,4))+(L172*INTERPRNG_h(AH172,'IC Treatment Values'!$B$2:$M$6,1,1,5))),\"\"),\"\")","v":""},"","",null,null,null,null,null,null,null,null,null,null,null,null,null,null,null,null,"","","",{"$f":"(COUNTIF(I172:$I172,I172)-1)*0.00001+I172","v":-1.0000000000000001E-5},{"$f":"(COUNTIF($I172:J172,J172)-1)*0.00001+J172","v":-1.0000000000000001E-5},{"$f":"(COUNTIF($I172:K172,K172)-1)*0.00001+K172","v":-1.0000000000000001E-5},{"$f":"(COUNTIF($I172:L172,L172)-1)*0.00001+L172","v":-1.0000000000000001E-5},""]
[null,null,null,null,null,null,null,null,null,null,null,null,"",{"$f":"IFERROR(IF(AND(P173=\"\",A173<>\"\"),AG173*((I173*INTERPRNG_h(AH173,'IC Treatment Values'!$B$2:$M$3,1,1,2))+(J173*INTERPRNG_h(AH173,'IC Treatment Values'!$B$2:$M$4,1,1,3))+(K173*INTERPRNG_h(AH173,'IC Treatment Values'!$B$2:$M$5,1,1,4))+(L173*INTERPRNG_h(AH173,'IC Treatment Values'!$B$2:$M$6,1,1,5))),\"\"),\"\")","v":""},"","",null,null,null,null,null,null,null,null,null,null,null,null,null,null,null,null,"","","",{"$f":"(COUNTIF(I173:$I173,I173)-1)*0.00001+I173","v":-1.0000000000000001E-5},{"$f":"(COUNTIF($I173:J173,J173)-1)*0.00001+J173","v":-1.0000000000000001E-5},{"$f":"(COUNTIF($I173:K173,K173)-1)*0.00001+K173","v":-1.0000000000000001E-5},{"$f":"(COUNTIF($I173:L173,L173)-1)*0.00001+L173","v":-1.0000000000000001E-5},""]
[null,null,null,null,null,null,null,null,null,null,null,null,"",{"$f":"IFERROR(IF(AND(P174=\"\",A174<>\"\"),AG174*((I174*INTERPRNG_h(AH174,'IC Treatment Values'!$B$2:$M$3,1,1,2))+(J174*INTERPRNG_h(AH174,'IC Treatment Values'!$B$2:$M$4,1,1,3))+(K174*INTERPRNG_h(AH174,'IC Treatment Values'!$B$2:$M$5,1,1,4))+(L174*INTERPRNG_h(AH174,'IC Treatment Values'!$B$2:$M$6,1,1,5))),\"\"),\"\")","v":""},"","",null,null,null,null,null,null,null,null,null,null,null,null,null,null,null,null,"","","",{"$f":"(COUNTIF(I174:$I174,I174)-1)*0.00001+I174","v":-1.0000000000000001E-5},{"$f":"(COUNTIF($I174:J174,J174)-1)*0.00001+J174","v":-1.0000000000000001E-5},{"$f":"(COUNTIF($I174:K174,K174)-1)*0.00001+K174","v":-1.0000000000000001E-5},{"$f":"(COUNTIF($I174:L174,L174)-1)*0.00001+L174","v":-1.0000000000000001E-5},""]
[null,null,null,null,null,null,null,null,null,null,null,null,"",{"$f":"IFERROR(IF(AND(P175=\"\",A175<>\"\"),AG175*((I175*INTERPRNG_h(AH175,'IC Treatment Values'!$B$2:$M$3,1,1,2))+(J175*INTERPRNG_h(AH175,'IC Treatment Values'!$B$2:$M$4,1,1,3))+(K175*INTERPRNG_h(AH175,'IC Treatment Values'!$B$2:$M$5,1,1,4))+(L175*INTERPRNG_h(AH175,'IC Treatment Values'!$B$2:$M$6,1,1,5))),\"\"),\"\")","v":""},"","",null,null,null,null,null,null,null,null,null,null,null,null,null,null,null,null,"","","",{"$f":"(COUNTIF(I175:$I175,I175)-1)*0.00001+I175","v":-1.0000000000000001E-5},{"$f":"(COUNTIF($I175:J175,J175)-1)*0.00001+J175","v":-1.0000000000000001E-5},{"$f":"(COUNTIF($I175:K175,K175)-1)*0.00001+K175","v":-1.0000000000000001E-5},{"$f":"(COUNTIF($I175:L175,L175)-1)*0.00001+L175","v":-1.0000000000000001E-5},""]
[null,null,null,null,null,null,null,null,null,null,null,null,"",{"$f":"IFERROR(IF(AND(P176=\"\",A176<>\"\"),AG176*((I176*INTERPRNG_h(AH176,'IC Treatment Values'!$B$2:$M$3,1,1,2))+(J176*INTERPRNG_h(AH176,'IC Treatment Values'!$B$2:$M$4,1,1,3))+(K176*INTERPRNG_h(AH176,'IC Treatment Values'!$B$2:$M$5,1,1,4))+(L176*INTERPRNG_h(AH176,'IC Treatment Values'!$B$2:$M$6,1,1,5))),\"\"),\"\")","v":""},"","",null,null,null,null,null,null,null,null,null,null,null,null,null,null,null,null,"","","",{"$f":"(COUNTIF(I176:$I176,I176)-1)*0.00001+I176","v":-1.0000000000000001E-5},{"$f":"(COUNTIF($I176:J176,J176)-1)*0.00001+J176","v":-1.0000000000000001E-5},{"$f":"(COUNTIF($I176:K176,K176)-1)*0.00001+K176","v":-1.0000000000000001E-5},{"$f":"(COUNTIF($I176:L176,L176)-1)*0.00001+L176","v":-1.0000000000000001E-5},""]
[null,null,null,null,null,null,null,null,null,null,null,null,"",{"$f":"IFERROR(IF(AND(P177=\"\",A177<>\"\"),AG177*((I177*INTERPRNG_h(AH177,'IC Treatment Values'!$B$2:$M$3,1,1,2))+(J177*INTERPRNG_h(AH177,'IC Treatment Values'!$B$2:$M$4,1,1,3))+(K177*INTERPRNG_h(AH177,'IC Treatment Values'!$B$2:$M$5,1,1,4))+(L177*INTERPRNG_h(AH177,'IC Treatment Values'!$B$2:$M$6,1,1,5))),\"\"),\"\")","v":""},"","",null,null,null,null,null,null,null,null,null,null,null,null,null,null,null,null,"","","",{"$f":"(COUNTIF(I177:$I177,I177)-1)*0.00001+I177","v":-1.0000000000000001E-5},{"$f":"(COUNTIF($I177:J177,J177)-1)*0.00001+J177","v":-1.0000000000000001E-5},{"$f":"(COUNTIF($I177:K177,K177)-1)*0.00001+K177","v":-1.0000000000000001E-5},{"$f":"(COUNTIF($I177:L177,L177)-1)*0.00001+L177","v":-1.0000000000000001E-5},""]
[null,null,null,null,null,null,null,null,null,null,null,null,"",{"$f":"IFERROR(IF(AND(P178=\"\",A178<>\"\"),AG178*((I178*INTERPRNG_h(AH178,'IC Treatment Values'!$B$2:$M$3,1,1,2))+(J178*INTERPRNG_h(AH178,'IC Treatment Values'!$B$2:$M$4,1,1,3))+(K178*INTERPRNG_h(AH178,'IC Treatment Values'!$B$2:$M$5,1,1,4))+(L178*INTERPRNG_h(AH178,'IC Treatment Values'!$B$2:$M$6,1,1,5))),\"\"),\"\")","v":""},"","",null,null,null,null,null,null,null,null,null,null,null,null,null,null,null,null,"","","",{"$f":"(COUNTIF(I178:$I178,I178)-1)*0.00001+I178","v":-1.0000000000000001E-5},{"$f":"(COUNTIF($I178:J178,J178)-1)*0.00001+J178","v":-1.0000000000000001E-5},{"$f":"(COUNTIF($I178:K178,K178)-1)*0.00001+K178","v":-1.0000000000000001E-5},{"$f":"(COUNTIF($I178:L178,L178)-1)*0.00001+L178","v":-1.0000000000000001E-5},""]
[null,null,null,null,null,null,null,null,null,null,null,null,"",{"$f":"IFERROR(IF(AND(P179=\"\",A179<>\"\"),AG179*((I179*INTERPRNG_h(AH179,'IC Treatment Values'!$B$2:$M$3,1,1,2))+(J179*INTERPRNG_h(AH179,'IC Treatment Values'!$B$2:$M$4,1,1,3))+(K179*INTERPRNG_h(AH179,'IC Treatment Values'!$B$2:$M$5,1,1,4))+(L179*INTERPRNG_h(AH179,'IC Treatment Values'!$B$2:$M$6,1,1,5))),\"\"),\"\")","v":""},"","",null,null,null,null,null,null,null,null,null,null,null,null,null,null,null,null,"","","",{"$f":"(COUNTIF(I179:$I179,I179)-1)*0.00001+I179","v":-1.0000000000000001E-5},{"$f":"(COUNTIF($I179:J179,J179)-1)*0.00001+J179","v":-1.0000000000000001E-5},{"$f":"(COUNTIF($I179:K179,K179)-1)*0.00001+K179","v":-1.0000000000000001E-5},{"$f":"(COUNTIF($I179:L179,L179)-1)*0.00001+L179","v":-1.0000000000000001E-5},""]
[null,null,null,null,null,null,null,null,null,null,null,null,"",{"$f":"IFERROR(IF(AND(P180=\"\",A180<>\"\"),AG180*((I180*INTERPRNG_h(AH180,'IC Treatment Values'!$B$2:$M$3,1,1,2))+(J180*INTERPRNG_h(AH180,'IC Treatment Values'!$B$2:$M$4,1,1,3))+(K180*INTERPRNG_h(AH180,'IC Treatment Values'!$B$2:$M$5,1,1,4))+(L180*INTERPRNG_h(AH180,'IC Treatment Values'!$B$2:$M$6,1,1,5))),\"\"),\"\")","v":""},"","",null,null,null,null,null,null,null,null,null,null,null,null,null,null,null,null,"","","",{"$f":"(COUNTIF(I180:$I180,I180)-1)*0.00001+I180","v":-1.0000000000000001E-5},{"$f":"(COUNTIF($I180:J180,J180)-1)*0.00001+J180","v":-1.0000000000000001E-5},{"$f":"(COUNTIF($I180:K180,K180)-1)*0.00001+K180","v":-1.0000000000000001E-5},{"$f":"(COUNTIF($I180:L180,L180)-1)*0.00001+L180","v":-1.0000000000000001E-5},""]
[null,null,null,null,null,null,null,null,null,null,null,null,"",{"$f":"IFERROR(IF(AND(P181=\"\",A181<>\"\"),AG181*((I181*INTERPRNG_h(AH181,'IC Treatment Values'!$B$2:$M$3,1,1,2))+(J181*INTERPRNG_h(AH181,'IC Treatment Values'!$B$2:$M$4,1,1,3))+(K181*INTERPRNG_h(AH181,'IC Treatment Values'!$B$2:$M$5,1,1,4))+(L181*INTERPRNG_h(AH181,'IC Treatment Values'!$B$2:$M$6,1,1,5))),\"\"),\"\")","v":""},"","",null,null,null,null,null,null,null,null,null,null,null,null,null,null,null,null,"","","",{"$f":"(COUNTIF(I181:$I181,I181)-1)*0.00001+I181","v":-1.0000000000000001E-5},{"$f":"(COUNTIF($I181:J181,J181)-1)*0.00001+J181","v":-1.0000000000000001E-5},{"$f":"(COUNTIF($I181:K181,K181)-1)*0.00001+K181","v":-1.0000000000000001E-5},{"$f":"(COUNTIF($I181:L181,L181)-1)*0.00001+L181","v":-1.0000000000000001E-5},""]
[null,null,null,null,null,null,null,null,null,null,null,null,"",{"$f":"IFERROR(IF(AND(P182=\"\",A182<>\"\"),AG182*((I182*INTERPRNG_h(AH182,'IC Treatment Values'!$B$2:$M$3,1,1,2))+(J182*INTERPRNG_h(AH182,'IC Treatment Values'!$B$2:$M$4,1,1,3))+(K182*INTERPRNG_h(AH182,'IC Treatment Values'!$B$2:$M$5,1,1,4))+(L182*INTERPRNG_h(AH182,'IC Treatment Values'!$B$2:$M$6,1,1,5))),\"\"),\"\")","v":""},"","",null,null,null,null,null,null,null,null,null,null,null,null,null,null,null,null,"","","",{"$f":"(COUNTIF(I182:$I182,I182)-1)*0.00001+I182","v":-1.0000000000000001E-5},{"$f":"(COUNTIF($I182:J182,J182)-1)*0.00001+J182","v":-1.0000000000000001E-5},{"$f":"(COUNTIF($I182:K182,K182)-1)*0.00001+K182","v":-1.0000000000000001E-5},{"$f":"(COUNTIF($I182:L182,L182)-1)*0.00001+L182","v":-1.0000000000000001E-5},""]
[null,null,null,null,null,null,null,null,null,null,null,null,"",{"$f":"IFERROR(IF(AND(P183=\"\",A183<>\"\"),AG183*((I183*INTERPRNG_h(AH183,'IC Treatment Values'!$B$2:$M$3,1,1,2))+(J183*INTERPRNG_h(AH183,'IC Treatment Values'!$B$2:$M$4,1,1,3))+(K183*INTERPRNG_h(AH183,'IC Treatment Values'!$B$2:$M$5,1,1,4))+(L183*INTERPRNG_h(AH183,'IC Treatment Values'!$B$2:$M$6,1,1,5))),\"\"),\"\")","v":""},"","",null,null,null,null,null,null,null,null,null,null,null,null,null,null,null,null,"","","",{"$f":"(COUNTIF(I183:$I183,I183)-1)*0.00001+I183","v":-1.0000000000000001E-5},{"$f":"(COUNTIF($I183:J183,J183)-1)*0.00001+J183","v":-1.0000000000000001E-5},{"$f":"(COUNTIF($I183:K183,K183)-1)*0.00001+K183","v":-1.0000000000000001E-5},{"$f":"(COUNTIF($I183:L183,L183)-1)*0.00001+L183","v":-1.0000000000000001E-5},""]
[null,null,null,null,null,null,null,null,null,null,null,null,"",{"$f":"IFERROR(IF(AND(P184=\"\",A184<>\"\"),AG184*((I184*INTERPRNG_h(AH184,'IC Treatment Values'!$B$2:$M$3,1,1,2))+(J184*INTERPRNG_h(AH184,'IC Treatment Values'!$B$2:$M$4,1,1,3))+(K184*INTERPRNG_h(AH184,'IC Treatment Values'!$B$2:$M$5,1,1,4))+(L184*INTERPRNG_h(AH184,'IC Treatment Values'!$B$2:$M$6,1,1,5))),\"\"),\"\")","v":""},"","",null,null,null,null,null,null,null,null,null,null,null,null,null,null,null,null,"","","",{"$f":"(COUNTIF(I184:$I184,I184)-1)*0.00001+I184","v":-1.0000000000000001E-5},{"$f":"(COUNTIF($I184:J184,J184)-1)*0.00001+J184","v":-1.0000000000000001E-5},{"$f":"(COUNTIF($I184:K184,K184)-1)*0.00001+K184","v":-1.0000000000000001E-5},{"$f":"(COUNTIF($I184:L184,L184)-1)*0.00001+L184","v":-1.0000000000000001E-5},""]
[null,null,null,null,null,null,null,null,null,null,null,null,"",{"$f":"IFERROR(IF(AND(P185=\"\",A185<>\"\"),AG185*((I185*INTERPRNG_h(AH185,'IC Treatment Values'!$B$2:$M$3,1,1,2))+(J185*INTERPRNG_h(AH185,'IC Treatment Values'!$B$2:$M$4,1,1,3))+(K185*INTERPRNG_h(AH185,'IC Treatment Values'!$B$2:$M$5,1,1,4))+(L185*INTERPRNG_h(AH185,'IC Treatment Values'!$B$2:$M$6,1,1,5))),\"\"),\"\")","v":""},"","",null,null,null,null,null,null,null,null,null,null,null,null,null,null,null,null,"","","",{"$f":"(COUNTIF(I185:$I185,I185)-1)*0.00001+I185","v":-1.0000000000000001E-5},{"$f":"(COUNTIF($I185:J185,J185)-1)*0.00001+J185","v":-1.0000000000000001E-5},{"$f":"(COUNTIF($I185:K185,K185)-1)*0.00001+K185","v":-1.0000000000000001E-5},{"$f":"(COUNTIF($I185:L185,L185)-1)*0.00001+L185","v":-1.0000000000000001E-5},""]
[null,null,null,null,null,null,null,null,null,null,null,null,"",{"$f":"IFERROR(IF(AND(P186=\"\",A186<>\"\"),AG186*((I186*INTERPRNG_h(AH186,'IC Treatment Values'!$B$2:$M$3,1,1,2))+(J186*INTERPRNG_h(AH186,'IC Treatment Values'!$B$2:$M$4,1,1,3))+(K186*INTERPRNG_h(AH186,'IC Treatment Values'!$B$2:$M$5,1,1,4))+(L186*INTERPRNG_h(AH186,'IC Treatment Values'!$B$2:$M$6,1,1,5))),\"\"),\"\")","v":""},"","",null,null,null,null,null,null,null,null,null,null,null,null,null,null,null,null,"","","",{"$f":"(COUNTIF(I186:$I186,I186)-1)*0.00001+I186","v":-1.0000000000000001E-5},{"$f":"(COUNTIF($I186:J186,J186)-1)*0.00001+J186","v":-1.0000000000000001E-5},{"$f":"(COUNTIF($I186:K186,K186)-1)*0.00001+K186","v":-1.0000000000000001E-5},{"$f":"(COUNTIF($I186:L186,L186)-1)*0.00001+L186","v":-1.0000000000000001E-5},""]
[null,null,null,null,null,null,null,null,null,null,null,null,"",{"$f":"IFERROR(IF(AND(P187=\"\",A187<>\"\"),AG187*((I187*INTERPRNG_h(AH187,'IC Treatment Values'!$B$2:$M$3,1,1,2))+(J187*INTERPRNG_h(AH187,'IC Treatment Values'!$B$2:$M$4,1,1,3))+(K187*INTERPRNG_h(AH187,'IC Treatment Values'!$B$2:$M$5,1,1,4))+(L187*INTERPRNG_h(AH187,'IC Treatment Values'!$B$2:$M$6,1,1,5))),\"\"),\"\")","v":""},"","",null,null,null,null,null,null,null,null,null,null,null,null,null,null,null,null,"","","",{"$f":"(COUNTIF(I187:$I187,I187)-1)*0.00001+I187","v":-1.0000000000000001E-5},{"$f":"(COUNTIF($I187:J187,J187)-1)*0.00001+J187","v":-1.0000000000000001E-5},{"$f":"(COUNTIF($I187:K187,K187)-1)*0.00001+K187","v":-1.0000000000000001E-5},{"$f":"(COUNTIF($I187:L187,L187)-1)*0.00001+L187","v":-1.0000000000000001E-5},""]
[null,null,null,null,null,null,null,null,null,null,null,null,"",{"$f":"IFERROR(IF(AND(P188=\"\",A188<>\"\"),AG188*((I188*INTERPRNG_h(AH188,'IC Treatment Values'!$B$2:$M$3,1,1,2))+(J188*INTERPRNG_h(AH188,'IC Treatment Values'!$B$2:$M$4,1,1,3))+(K188*INTERPRNG_h(AH188,'IC Treatment Values'!$B$2:$M$5,1,1,4))+(L188*INTERPRNG_h(AH188,'IC Treatment Values'!$B$2:$M$6,1,1,5))),\"\"),\"\")","v":""},"","",null,null,null,null,null,null,null,null,null,null,null,null,null,null,null,null,"","","",{"$f":"(COUNTIF(I188:$I188,I188)-1)*0.00001+I188","v":-1.0000000000000001E-5},{"$f":"(COUNTIF($I188:J188,J188)-1)*0.00001+J188","v":-1.0000000000000001E-5},{"$f":"(COUNTIF($I188:K188,K188)-1)*0.00001+K188","v":-1.0000000000000001E-5},{"$f":"(COUNTIF($I188:L188,L188)-1)*0.00001+L188","v":-1.0000000000000001E-5},""]
[null,null,null,null,null,null,null,null,null,null,null,null,"",{"$f":"IFERROR(IF(AND(P189=\"\",A189<>\"\"),AG189*((I189*INTERPRNG_h(AH189,'IC Treatment Values'!$B$2:$M$3,1,1,2))+(J189*INTERPRNG_h(AH189,'IC Treatment Values'!$B$2:$M$4,1,1,3))+(K189*INTERPRNG_h(AH189,'IC Treatment Values'!$B$2:$M$5,1,1,4))+(L189*INTERPRNG_h(AH189,'IC Treatment Values'!$B$2:$M$6,1,1,5))),\"\"),\"\")","v":""},"","",null,null,null,null,null,null,null,null,null,null,null,null,null,null,null,null,"","","",{"$f":"(COUNTIF(I189:$I189,I189)-1)*0.00001+I189","v":-1.0000000000000001E-5},{"$f":"(COUNTIF($I189:J189,J189)-1)*0.00001+J189","v":-1.0000000000000001E-5},{"$f":"(COUNTIF($I189:K189,K189)-1)*0.00001+K189","v":-1.0000000000000001E-5},{"$f":"(COUNTIF($I189:L189,L189)-1)*0.00001+L189","v":-1.0000000000000001E-5},""]
[null,null,null,null,null,null,null,null,null,null,null,null,"",{"$f":"IFERROR(IF(AND(P190=\"\",A190<>\"\"),AG190*((I190*INTERPRNG_h(AH190,'IC Treatment Values'!$B$2:$M$3,1,1,2))+(J190*INTERPRNG_h(AH190,'IC Treatment Values'!$B$2:$M$4,1,1,3))+(K190*INTERPRNG_h(AH190,'IC Treatment Values'!$B$2:$M$5,1,1,4))+(L190*INTERPRNG_h(AH190,'IC Treatment Values'!$B$2:$M$6,1,1,5))),\"\"),\"\")","v":""},"","",null,null,null,null,null,null,null,null,null,null,null,null,null,null,null,null,"","","",{"$f":"(COUNTIF(I190:$I190,I190)-1)*0.00001+I190","v":-1.0000000000000001E-5},{"$f":"(COUNTIF($I190:J190,J190)-1)*0.00001+J190","v":-1.0000000000000001E-5},{"$f":"(COUNTIF($I190:K190,K190)-1)*0.00001+K190","v":-1.0000000000000001E-5},{"$f":"(COUNTIF($I190:L190,L190)-1)*0.00001+L190","v":-1.0000000000000001E-5},""]
[null,null,null,null,null,null,null,null,null,null,null,null,"",{"$f":"IFERROR(IF(AND(P191=\"\",A191<>\"\"),AG191*((I191*INTERPRNG_h(AH191,'IC Treatment Values'!$B$2:$M$3,1,1,2))+(J191*INTERPRNG_h(AH191,'IC Treatment Values'!$B$2:$M$4,1,1,3))+(K191*INTERPRNG_h(AH191,'IC Treatment Values'!$B$2:$M$5,1,1,4))+(L191*INTERPRNG_h(AH191,'IC Treatment Values'!$B$2:$M$6,1,1,5))),\"\"),\"\")","v":""},"","",null,null,null,null,null,null,null,null,null,null,null,null,null,null,null,null,"","","",{"$f":"(COUNTIF(I191:$I191,I191)-1)*0.00001+I191","v":-1.0000000000000001E-5},{"$f":"(COUNTIF($I191:J191,J191)-1)*0.00001+J191","v":-1.0000000000000001E-5},{"$f":"(COUNTIF($I191:K191,K191)-1)*0.00001+K191","v":-1.0000000000000001E-5},{"$f":"(COUNTIF($I191:L191,L191)-1)*0.00001+L191","v":-1.0000000000000001E-5},""]
[null,null,null,null,null,null,null,null,null,null,null,null,"",{"$f":"IFERROR(IF(AND(P192=\"\",A192<>\"\"),AG192*((I192*INTERPRNG_h(AH192,'IC Treatment Values'!$B$2:$M$3,1,1,2))+(J192*INTERPRNG_h(AH192,'IC Treatment Values'!$B$2:$M$4,1,1,3))+(K192*INTERPRNG_h(AH192,'IC Treatment Values'!$B$2:$M$5,1,1,4))+(L192*INTERPRNG_h(AH192,'IC Treatment Values'!$B$2:$M$6,1,1,5))),\"\"),\"\")","v":""},{"$f":"IFERROR(IF(AH192=\"\",\"\",IF(AND(AN192=\"A\",I192>=0.5,AH192>=30),\"X\",IF(AND(AN192=\"B\",J192>=0.5,AH192>=50),\"X\",IF(AND(AN192=\"C\",K192>=0.5,AH192>=70),\"X\",\"\")))),\"\")","v":""},"",null,null,null,null,null,null,null,null,null,null,null,null,null,null,null,null,"","","",{"$f":"(COUNTIF(I192:$I192,I192)-1)*0.00001+I192","v":-1.0000000000000001E-5},{"$f":"(COUNTIF($I192:J192,J192)-1)*0.00001+J192","v":-1.0000000000000001E-5},{"$f":"(COUNTIF($I192:K192,K192)-1)*0.00001+K192","v":-1.0000000000000001E-5},{"$f":"(COUNTIF($I192:L192,L192)-1)*0.00001+L192","v":-1.0000000000000001E-5},{"$f":"IF(AND(I192=\"\",J192=\"\",K192=\"\",L192=\"\"),\"\",INDEX(AJ$162:AM$162,MATCH(MAX(AJ192:AM192),AJ192:AM192,0)))","v":""}]
[]
["Table 6: Summary of Proposed STUs (Rows H - K)",null,null,null,null,null,null,null,null,null,null,null,null,null,null,null,null,null,null,null,null,null,null,null,null,null,null,null,null,null,null,null,"Table 6-1: Proposed STU Calculations"]
[]
["Project Information",null,null,"Hydrologic Analysis Summary",null,null,null,null,null,null,null,"Water Quality Treatment Calculations",null,null,null,null,null,null,null,null,null,null,null,null,"Summary of Soils to Evaluate STUs",null,null,null,null,null,null,null,"Impervious  and Pervious Area (Hide Columns)",null,null,"Depth of Runoff Treated (Hide Columns)"]
["STU ID","WBID","DP No.","Runoff Method Applied for 1.2\" Water Quality Event:",null,null,null,null,null,null,null,"Applied to RIDEM Treatment Target?*","Within Project Limits?*","STU Type*",null,"Is this an Upgrade to an Existing STU?*","STU Tier","STU Soil Type*","Total Area Directed to STU (ft2)","Impervious Area Directed to \n(ft2)","Provided Pretreat-ment Vol. \n(ft3) ","STU Storage Volume\n(ft3)","Treatment Depth (in.)","Effective IC Reduction (acres)","Test Pit ID",null,"Depth of Boring/Test Pit\n(ft.)","Top of Filter Elev. \n(ft.)","SHGT Elev. (ft.)","Separation Distance \n(ft.)","Hydrologic Soil Group A, B, C or D","Exfiltration Rate Applied\n(in./hr.)","Impervious Area (acres)","Pervious Area Directed to STU\n(ft2)","Pervious Area \n(acres)"," % Impervious","Row Function","TSS Removal Credit (%)","P Removal Credit (%)","TSS Reduction Factor","Phosphorous Reduction Factor","Runoff Factor","Flow Factor","Pervious Cover Factor"]
[null,null,null,"1.2\" Peak Flow",null,"1-yr. Peak Flow",null,"10-yr. Peak Flow",null,"100-yr. Peak Flow"]
[null,null,null,"Pre (cfs)","Post (cfs)","Pre (cfs)","Post (cfs)","Pre (cfs)","Post (cfs)","Pre (cfs)","Post (cfs)",null,null,null,null,null,null,null,null,null,null,null,null,null,"Primary","Secondary"]
[null,null,null,null,null,null,null,null,null,null,null,null,null,null,null,null,{"$f":"IFERROR(IF(P200=\"Yes\",\"Tier 1\",VLOOKUP(N200,'STU Tiers'!$A$1:$B$29,2,FALSE)),\"\")","v":""},null,null,null,null,null,{"$f":"IFERROR((V200/T200*12),\"\")","v":""},{"$f":"IFERROR((AG200*AR200),\"\")","v":""},null,null,null,null,null,null,null,null,{"$f":"IF(A200=\"\",\"\",T200/43560)","v":""},{"$f":"IF(N200=\"\",\"\",(IF((S200-T200)<=0,0,(S200-T200))))","v":""},{"$f":"IF(A200=\"\",\"\",AH200/43560)","v":""},{"$f":"IF(A200=\"\",\"\",(AG200/(AG200+AI200)))","v":""},{"$f":"IF(ISBLANK(N200),\"\",IF(ISBLANK(R200),\"\",RowFunc(N200,R200)))","v":""},{"$f":"IFERROR(IF($AJ200>=0.5,INTERPRNG_h($W200,'STU Treatment Values'!$N$5:$W$38,0,1,AK200),INTERPRNG_h($W200,'STU Treatment Values'!$N$40:$W$73,0,1,$AK200)),\"\")","v":""},{"$f":"IFERROR(IF($AJ200>=0.5,INTERPRNG_h($W200,'STU Treatment Values'!$B$5:$K$38,0,1,$AK200),INTERPRNG_h($W200,'STU Treatment Values'!$B$40:$K$73,0,1,$AK200)),\"\")","v":""},{"$f":"IFERROR(IF(AL200/0.9>1,1,AL200/0.9),\"\")","v":""},{"$f":"IFERROR(IF(AM200/0.9>1,1,AM200/0.9),\"\")","v":""},{"$f":"IFERROR(INTERPRNG_h($W200,'STU Treatment Values'!$B$112:$K$145,0,1,$AK200),\"\")","v":""},{"$f":"IFERROR(INTERPRNG_h($W200,'STU Treatment Values'!$B$76:$K$109,0,1,$AK200),\"\")","v":""},{"$f":"IFERROR((AN200+AO200+AP200+AQ200)/4,\"\")","v":""}]
[null,null,null,null,null,null,null,null,null,null,null,null,null,null,null,null,{"$f":"IFERROR(IF(P201=\"Yes\",\"Tier 1\",VLOOKUP(N201,'STU Tiers'!$A$1:$B$29,2,FALSE)),\"\")","v":""},null,null,null,null,null,{"$f":"IFERROR((V201/T201*12),\"\")","v":""},{"$f":"IFERROR((AG201*AR201),\"\")","v":""},null,null,null,null,null,null,null,null,{"$f":"IF(A201=\"\",\"\",T201/43560)","v":""},{"$f":"IF(N201=\"\",\"\",(IF((S201-T201)<=0,0,(S201-T201))))","v":""},{"$f":"IF(A201=\"\",\"\",AH201/43560)","v":""},{"$f":"IF(A201=\"\",\"\",(AG201/(AG201+AI201)))","v":""},{"$f":"IF(ISBLANK(N201),\"\",IF(ISBLANK(R201),\"\",RowFunc(N201,R201)))","v":""},{"$f":"IFERROR(IF($AJ201>=0.5,INTERPRNG_h($W201,'STU Treatment Values'!$N$5:$W$38,0,1,AK201),INTERPRNG_h($W201,'STU Treatment Values'!$N$40:$W$73,0,1,$AK201)),\"\")","v":""},{"$f":"IFERROR(IF($AJ201>=0.5,INTERPRNG_h($W201,'STU Treatment Values'!$B$5:$K$38,0,1,$AK201),INTERPRNG_h($W201,'STU Treatment Values'!$B$40:$K$73,0,1,$AK201)),\"\")","v":""},{"$f":"IFERROR(IF(AL201/0.9>1,1,AL201/0.9),\"\")","v":""},{"$f":"IFERROR(IF(AM201/0.9>1,1,AM201/0.9),\"\")","v":""},{"$f":"IFERROR(INTERPRNG_h($W201,'STU Treatment Values'!$B$112:$K$145,0,1,$AK201),\"\")","v":""},{"$f":"IFERROR(INTERPRNG_h($W201,'STU Treatment Values'!$B$76:$K$109,0,1,$AK201),\"\")","v":""},{"$f":"IFERROR((AN201+AO201+AP201+AQ201)/4,\"\")","v":""}]
[null,null,null,null,null,null,null,null,null,null,null,null,null,null,null,null,{"$f":"IFERROR(IF(P202=\"Yes\",\"Tier 1\",VLOOKUP(N202,'STU Tiers'!$A$1:$B$29,2,FALSE)),\"\")","v":""},null,null,null,null,null,"",{"$f":"IFERROR((AG202*AR202),\"\")","v":""},null,null,null,null,null,null,null,null,{"$f":"IF(A202=\"\",\"\",T202/43560)","v":""},{"$f":"IF(N202=\"\",\"\",(IF((S202-T202)<=0,0,(S202-T202))))","v":""},{"$f":"IF(A202=\"\",\"\",AH202/43560)","v":""},{"$f":"IF(A202=\"\",\"\",(AG202/(AG202+AI202)))","v":""},{"$f":"IF(ISBLANK(N202),\"\",IF(ISBLANK(R202),\"\",RowFunc(N202,R202)))","v":""},{"$f":"IFERROR(IF($AJ202>=0.5,INTERPRNG_h($W202,'STU Treatment Values'!$N$5:$W$38,0,1,AK202),INTERPRNG_h($W202,'STU Treatment Values'!$N$40:$W$73,0,1,$AK202)),\"\")","v":""},{"$f":"IFERROR(IF($AJ202>=0.5,INTERPRNG_h($W202,'STU Treatment Values'!$B$5:$K$38,0,1,$AK202),INTERPRNG_h($W202,'STU Treatment Values'!$B$40:$K$73,0,1,$AK202)),\"\")","v":""},{"$f":"IFERROR(IF(AL202/0.9>1,1,AL202/0.9),\"\")","v":""},{"$f":"IFERROR(IF(AM202/0.9>1,1,AM202/0.9),\"\")","v":""},{"$f":"IFERROR(INTERPRNG_h($W202,'STU Treatment Values'!$B$112:$K$145,0,1,$AK202),\"\")","v":""},{"$f":"IFERROR(INTERPRNG_h($W202,'STU Treatment Values'!$B$76:$K$109,0,1,$AK202),\"\")","v":""},{"$f":"IFERROR((AN202+AO202+AP202+AQ202)/4,\"\")","v":""}]
[null,null,null,null,null,null,null,null,null,null,null,null,null,null,null,null,{"$f":"IFERROR(IF(P203=\"Yes\",\"Tier 1\",VLOOKUP(N203,'STU Tiers'!$A$1:$B$29,2,FALSE)),\"\")","v":""},null,null,null,null,null,"","",null,null,null,null,null,null,null,null,"","","","",{"$f":"IF(ISBLANK(N203),\"\",IF(ISBLANK(R203),\"\",RowFunc(N203,R203)))","v":""},{"$f":"IFERROR(IF($AJ203>=0.5,INTERPRNG_h($W203,'STU Treatment Values'!$N$5:$W$38,0,1,AK203),INTERPRNG_h($W203,'STU Treatment Values'!$N$40:$W$73,0,1,$AK203)),\"\")","v":""},{"$f":"IFERROR(IF($AJ203>=0.5,INTERPRNG_h($W203,'STU Treatment Values'!$B$5:$K$38,0,1,$AK203),INTERPRNG_h($W203,'STU Treatment Values'!$B$40:$K$73,0,1,$AK203)),\"\")","v":""},"","",{"$f":"IFERROR(INTERPRNG_h($W203,'STU Treatment Values'!$B$112:$K$145,0,1,$AK203),\"\")","v":""},{"$f":"IFERROR(INTERPRNG_h($W203,'STU Treatment Values'!$B$76:$K$109,0,1,$AK203),\"\")","v":""},""]
[null,null,null,null,null,null,null,null,null,null,null,null,null,null,null,null,{"$f":"IFERROR(IF(P204=\"Yes\",\"Tier 1\",VLOOKUP(N204,'STU Tiers'!$A$1:$B$29,2,FALSE)),\"\")","v":""},null,null,null,null,null,"","",null,null,null,null,null,null,null,null,"","","","",{"$f":"IF(ISBLANK(N204),\"\",IF(ISBLANK(R204),\"\",RowFunc(N204,R204)))","v":""},{"$f":"IFERROR(IF($AJ204>=0.5,INTERPRNG_h($W204,'STU Treatment Values'!$N$5:$W$38,0,1,AK204),INTERPRNG_h($W204,'STU Treatment Values'!$N$40:$W$73,0,1,$AK204)),\"\")","v":""},{"$f":"IFERROR(IF($AJ204>=0.5,INTERPRNG_h($W204,'STU Treatment Values'!$B$5:$K$38,0,1,$AK204),INTERPRNG_h($W204,'STU Treatment Values'!$B$40:$K$73,0,1,$AK204)),\"\")","v":""},"","",{"$f":"IFERROR(INTERPRNG_h($W204,'STU Treatment Values'!$B$112:$K$145,0,1,$AK204),\"\")","v":""},{"$f":"IFERROR(INTERPRNG_h($W204,'STU Treatment Values'!$B$76:$K$109,0,1,$AK204),\"\")","v":""},""]
[null,null,null,null,null,null,null,null,null,null,null,null,null,null,null,null,{"$f":"IFERROR(IF(P205=\"Yes\",\"Tier 1\",VLOOKUP(N205,'STU Tiers'!$A$1:$B$29,2,FALSE)),\"\")","v":""},null,null,null,null,null,"","",null,null,null,null,null,null,null,null,"","","","",{"$f":"IF(ISBLANK(N205),\"\",IF(ISBLANK(R205),\"\",RowFunc(N205,R205)))","v":""},{"$f":"IFERROR(IF($AJ205>=0.5,INTERPRNG_h($W205,'STU Treatment Values'!$N$5:$W$38,0,1,AK205),INTERPRNG_h($W205,'STU Treatment Values'!$N$40:$W$73,0,1,$AK205)),\"\")","v":""},{"$f":"IFERROR(IF($AJ205>=0.5,INTERPRNG_h($W205,'STU Treatment Values'!$B$5:$K$38,0,1,$AK205),INTERPRNG_h($W205,'STU Treatment Values'!$B$40:$K$73,0,1,$AK205)),\"\")","v":""},"","",{"$f":"IFERROR(INTERPRNG_h($W205,'STU Treatment Values'!$B$112:$K$145,0,1,$AK205),\"\")","v":""},{"$f":"IFERROR(INTERPRNG_h($W205,'STU Treatment Values'!$B$76:$K$109,0,1,$AK205),\"\")","v":""},""]
[null,null,null,null,null,null,null,null,null,null,null,null,null,null,null,null,{"$f":"IFERROR(IF(P206=\"Yes\",\"Tier 1\",VLOOKUP(N206,'STU Tiers'!$A$1:$B$29,2,FALSE)),\"\")","v":""},null,null,null,null,null,"","",null,null,null,null,null,null,null,null,"","","","",{"$f":"IF(ISBLANK(N206),\"\",IF(ISBLANK(R206),\"\",RowFunc(N206,R206)))","v":""},{"$f":"IFERROR(IF($AJ206>=0.5,INTERPRNG_h($W206,'STU Treatment Values'!$N$5:$W$38,0,1,AK206),INTERPRNG_h($W206,'STU Treatment Values'!$N$40:$W$73,0,1,$AK206)),\"\")","v":""},{"$f":"IFERROR(IF($AJ206>=0.5,INTERPRNG_h($W206,'STU Treatment Values'!$B$5:$K$38,0,1,$AK206),INTERPRNG_h($W206,'STU Treatment Values'!$B$40:$K$73,0,1,$AK206)),\"\")","v":""},"","",{"$f":"IFERROR(INTERPRNG_h($W206,'STU Treatment Values'!$B$112:$K$145,0,1,$AK206),\"\")","v":""},{"$f":"IFERROR(INTERPRNG_h($W206,'STU Treatment Values'!$B$76:$K$109,0,1,$AK206),\"\")","v":""},""]
[null,null,null,null,null,null,null,null,null,null,null,null,null,null,null,null,{"$f":"IFERROR(IF(P207=\"Yes\",\"Tier 1\",VLOOKUP(N207,'STU Tiers'!$A$1:$B$29,2,FALSE)),\"\")","v":""},null,null,null,null,null,"","",null,null,null,null,null,null,null,null,"","","","",{"$f":"IF(ISBLANK(N207),\"\",IF(ISBLANK(R207),\"\",RowFunc(N207,R207)))","v":""},{"$f":"IFERROR(IF($AJ207>=0.5,INTERPRNG_h($W207,'STU Treatment Values'!$N$5:$W$38,0,1,AK207),INTERPRNG_h($W207,'STU Treatment Values'!$N$40:$W$73,0,1,$AK207)),\"\")","v":""},{"$f":"IFERROR(IF($AJ207>=0.5,INTERPRNG_h($W207,'STU Treatment Values'!$B$5:$K$38,0,1,$AK207),INTERPRNG_h($W207,'STU Treatment Values'!$B$40:$K$73,0,1,$AK207)),\"\")","v":""},"","",{"$f":"IFERROR(INTERPRNG_h($W207,'STU Treatment Values'!$B$112:$K$145,0,1,$AK207),\"\")","v":""},{"$f":"IFERROR(INTERPRNG_h($W207,'STU Treatment Values'!$B$76:$K$109,0,1,$AK207),\"\")","v":""},""]
[null,null,null,null,null,null,null,null,null,null,null,null,null,null,null,null,{"$f":"IFERROR(IF(P208=\"Yes\",\"Tier 1\",VLOOKUP(N208,'STU Tiers'!$A$1:$B$29,2,FALSE)),\"\")","v":""},null,null,null,null,null,"","",null,null,null,null,null,null,null,null,"","","","",{"$f":"IF(ISBLANK(N208),\"\",IF(ISBLANK(R208),\"\",RowFunc(N208,R208)))","v":""},{"$f":"IFERROR(IF($AJ208>=0.5,INTERPRNG_h($W208,'STU Treatment Values'!$N$5:$W$38,0,1,AK208),INTERPRNG_h($W208,'STU Treatment Values'!$N$40:$W$73,0,1,$AK208)),\"\")","v":""},{"$f":"IFERROR(IF($AJ208>=0.5,INTERPRNG_h($W208,'STU Treatment Values'!$B$5:$K$38,0,1,$AK208),INTERPRNG_h($W208,'STU Treatment Values'!$B$40:$K$73,0,1,$AK208)),\"\")","v":""},"","",{"$f":"IFERROR(INTERPRNG_h($W208,'STU Treatment Values'!$B$112:$K$145,0,1,$AK208),\"\")","v":""},{"$f":"IFERROR(INTERPRNG_h($W208,'STU Treatment Values'!$B$76:$K$109,0,1,$AK208),\"\")","v":""},""]
[null,null,null,null,null,null,null,null,null,null,null,null,null,null,null,null,{"$f":"IFERROR(IF(P209=\"Yes\",\"Tier 1\",VLOOKUP(N209,'STU Tiers'!$A$1:$B$29,2,FALSE)),\"\")","v":""},null,null,null,null,null,"","",null,null,null,null,null,null,null,null,"","","","",{"$f":"IF(ISBLANK(N209),\"\",IF(ISBLANK(R209),\"\",RowFunc(N209,R209)))","v":""},{"$f":"IFERROR(IF($AJ209>=0.5,INTERPRNG_h($W209,'STU Treatment Values'!$N$5:$W$38,0,1,AK209),INTERPRNG_h($W209,'STU Treatment Values'!$N$40:$W$73,0,1,$AK209)),\"\")","v":""},{"$f":"IFERROR(IF($AJ209>=0.5,INTERPRNG_h($W209,'STU Treatment Values'!$B$5:$K$38,0,1,$AK209),INTERPRNG_h($W209,'STU Treatment Values'!$B$40:$K$73,0,1,$AK209)),\"\")","v":""},"","",{"$f":"IFERROR(INTERPRNG_h($W209,'STU Treatment Values'!$B$112:$K$145,0,1,$AK209),\"\")","v":""},{"$f":"IFERROR(INTERPRNG_h($W209,'STU Treatment Values'!$B$76:$K$109,0,1,$AK209),\"\")","v":""},""]
[null,null,null,null,null,null,null,null,null,null,null,null,null,null,null,null,{"$f":"IFERROR(IF(P210=\"Yes\",\"Tier 1\",VLOOKUP(N210,'STU Tiers'!$A$1:$B$29,2,FALSE)),\"\")","v":""},null,null,null,null,null,"","",null,null,null,null,null,null,null,null,"","","","",{"$f":"IF(ISBLANK(N210),\"\",IF(ISBLANK(R210),\"\",RowFunc(N210,R210)))","v":""},{"$f":"IFERROR(IF($AJ210>=0.5,INTERPRNG_h($W210,'STU Treatment Values'!$N$5:$W$38,0,1,AK210),INTERPRNG_h($W210,'STU Treatment Values'!$N$40:$W$73,0,1,$AK210)),\"\")","v":""},{"$f":"IFERROR(IF($AJ210>=0.5,INTERPRNG_h($W210,'STU Treatment Values'!$B$5:$K$38,0,1,$AK210),INTERPRNG_h($W210,'STU Treatment Values'!$B$40:$K$73,0,1,$AK210)),\"\")","v":""},"","",{"$f":"IFERROR(INTERPRNG_h($W210,'STU Treatment Values'!$B$112:$K$145,0,1,$AK210),\"\")","v":""},{"$f":"IFERROR(INTERPRNG_h($W210,'STU Treatment Values'!$B$76:$K$109,0,1,$AK210),\"\")","v":""},""]
[null,null,null,null,null,null,null,null,null,null,null,null,null,null,null,null,{"$f":"IFERROR(IF(P211=\"Yes\",\"Tier 1\",VLOOKUP(N211,'STU Tiers'!$A$1:$B$29,2,FALSE)),\"\")","v":""},null,null,null,null,null,"","",null,null,null,null,null,null,null,null,"","","","",{"$f":"IF(ISBLANK(N211),\"\",IF(ISBLANK(R211),\"\",RowFunc(N211,R211)))","v":""},{"$f":"IFERROR(IF($AJ211>=0.5,INTERPRNG_h($W211,'STU Treatment Values'!$N$5:$W$38,0,1,AK211),INTERPRNG_h($W211,'STU Treatment Values'!$N$40:$W$73,0,1,$AK211)),\"\")","v":""},{"$f":"IFERROR(IF($AJ211>=0.5,INTERPRNG_h($W211,'STU Treatment Values'!$B$5:$K$38,0,1,$AK211),INTERPRNG_h($W211,'STU Treatment Values'!$B$40:$K$73,0,1,$AK211)),\"\")","v":""},"","",{"$f":"IFERROR(INTERPRNG_h($W211,'STU Treatment Values'!$B$112:$K$145,0,1,$AK211),\"\")","v":""},{"$f":"IFERROR(INTERPRNG_h($W211,'STU Treatment Values'!$B$76:$K$109,0,1,$AK211),\"\")","v":""},""]
[null,null,null,null,null,null,null,null,null,null,null,null,null,null,null,null,{"$f":"IFERROR(IF(P212=\"Yes\",\"Tier 1\",VLOOKUP(N212,'STU Tiers'!$A$1:$B$29,2,FALSE)),\"\")","v":""},null,null,null,null,null,"","",null,null,null,null,null,null,null,null,"","","","",{"$f":"IF(ISBLANK(N212),\"\",IF(ISBLANK(R212),\"\",RowFunc(N212,R212)))","v":""},{"$f":"IFERROR(IF($AJ212>=0.5,INTERPRNG_h($W212,'STU Treatment Values'!$N$5:$W$38,0,1,AK212),INTERPRNG_h($W212,'STU Treatment Values'!$N$40:$W$73,0,1,$AK212)),\"\")","v":""},{"$f":"IFERROR(IF($AJ212>=0.5,INTERPRNG_h($W212,'STU Treatment Values'!$B$5:$K$38,0,1,$AK212),INTERPRNG_h($W212,'STU Treatment Values'!$B$40:$K$73,0,1,$AK212)),\"\")","v":""},"","",{"$f":"IFERROR(INTERPRNG_h($W212,'STU Treatment Values'!$B$112:$K$145,0,1,$AK212),\"\")","v":""},{"$f":"IFERROR(INTERPRNG_h($W212,'STU Treatment Values'!$B$76:$K$109,0,1,$AK212),\"\")","v":""},""]
[null,null,null,null,null,null,null,null,null,null,null,null,null,null,null,null,{"$f":"IFERROR(IF(P213=\"Yes\",\"Tier 1\",VLOOKUP(N213,'STU Tiers'!$A$1:$B$29,2,FALSE)),\"\")","v":""},null,null,null,null,null,"","",null,null,null,null,null,null,null,null,"","","","",{"$f":"IF(ISBLANK(N213),\"\",IF(ISBLANK(R213),\"\",RowFunc(N213,R213)))","v":""},{"$f":"IFERROR(IF($AJ213>=0.5,INTERPRNG_h($W213,'STU Treatment Values'!$N$5:$W$38,0,1,AK213),INTERPRNG_h($W213,'STU Treatment Values'!$N$40:$W$73,0,1,$AK213)),\"\")","v":""},{"$f":"IFERROR(IF($AJ213>=0.5,INTERPRNG_h($W213,'STU Treatment Values'!$B$5:$K$38,0,1,$AK213),INTERPRNG_h($W213,'STU Treatment Values'!$B$40:$K$73,0,1,$AK213)),\"\")","v":""},"","",{"$f":"IFERROR(INTERPRNG_h($W213,'STU Treatment Values'!$B$112:$K$145,0,1,$AK213),\"\")","v":""},{"$f":"IFERROR(INTERPRNG_h($W213,'STU Treatment Values'!$B$76:$K$109,0,1,$AK213),\"\")","v":""},""]
[null,null,null,null,null,null,null,null,null,null,null,null,null,null,null,null,{"$f":"IFERROR(IF(P214=\"Yes\",\"Tier 1\",VLOOKUP(N214,'STU Tiers'!$A$1:$B$29,2,FALSE)),\"\")","v":""},null,null,null,null,null,"","",null,null,null,null,null,null,null,null,"","","","",{"$f":"IF(ISBLANK(N214),\"\",IF(ISBLANK(R214),\"\",RowFunc(N214,R214)))","v":""},{"$f":"IFERROR(IF($AJ214>=0.5,INTERPRNG_h($W214,'STU Treatment Values'!$N$5:$W$38,0,1,AK214),INTERPRNG_h($W214,'STU Treatment Values'!$N$40:$W$73,0,1,$AK214)),\"\")","v":""},{"$f":"IFERROR(IF($AJ214>=0.5,INTERPRNG_h($W214,'STU Treatment Values'!$B$5:$K$38,0,1,$AK214),INTERPRNG_h($W214,'STU Treatment Values'!$B$40:$K$73,0,1,$AK214)),\"\")","v":""},"","",{"$f":"IFERROR(INTERPRNG_h($W214,'STU Treatment Values'!$B$112:$K$145,0,1,$AK214),\"\")","v":""},{"$f":"IFERROR(INTERPRNG_h($W214,'STU Treatment Values'!$B$76:$K$109,0,1,$AK214),\"\")","v":""},""]
[null,null,null,null,null,null,null,null,null,null,null,null,null,null,null,null,{"$f":"IFERROR(IF(P215=\"Yes\",\"Tier 1\",VLOOKUP(N215,'STU Tiers'!$A$1:$B$29,2,FALSE)),\"\")","v":""},null,null,null,null,null,"","",null,null,null,null,null,null,null,null,"","","","",{"$f":"IF(ISBLANK(N215),\"\",IF(ISBLANK(R215),\"\",RowFunc(N215,R215)))","v":""},{"$f":"IFERROR(IF($AJ215>=0.5,INTERPRNG_h($W215,'STU Treatment Values'!$N$5:$W$38,0,1,AK215),INTERPRNG_h($W215,'STU Treatment Values'!$N$40:$W$73,0,1,$AK215)),\"\")","v":""},{"$f":"IFERROR(IF($AJ215>=0.5,INTERPRNG_h($W215,'STU Treatment Values'!$B$5:$K$38,0,1,$AK215),INTERPRNG_h($W215,'STU Treatment Values'!$B$40:$K$73,0,1,$AK215)),\"\")","v":""},"","",{"$f":"IFERROR(INTERPRNG_h($W215,'STU Treatment Values'!$B$112:$K$145,0,1,$AK215),\"\")","v":""},{"$f":"IFERROR(INTERPRNG_h($W215,'STU Treatment Values'!$B$76:$K$109,0,1,$AK215),\"\")","v":""},""]
[null,null,null,null,null,null,null,null,null,null,null,null,null,null,null,null,{"$f":"IFERROR(IF(P216=\"Yes\",\"Tier 1\",VLOOKUP(N216,'STU Tiers'!$A$1:$B$29,2,FALSE)),\"\")","v":""},null,null,null,null,null,"","",null,null,null,null,null,null,null,null,"","","","",{"$f":"IF(ISBLANK(N216),\"\",IF(ISBLANK(R216),\"\",RowFunc(N216,R216)))","v":""},{"$f":"IFERROR(IF($AJ216>=0.5,INTERPRNG_h($W216,'STU Treatment Values'!$N$5:$W$38,0,1,AK216),INTERPRNG_h($W216,'STU Treatment Values'!$N$40:$W$73,0,1,$AK216)),\"\")","v":""},{"$f":"IFERROR(IF($AJ216>=0.5,INTERPRNG_h($W216,'STU Treatment Values'!$B$5:$K$38,0,1,$AK216),INTERPRNG_h($W216,'STU Treatment Values'!$B$40:$K$73,0,1,$AK216)),\"\")","v":""},"","",{"$f":"IFERROR(INTERPRNG_h($W216,'STU Treatment Values'!$B$112:$K$145,0,1,$AK216),\"\")","v":""},{"$f":"IFERROR(INTERPRNG_h($W216,'STU Treatment Values'!$B$76:$K$109,0,1,$AK216),\"\")","v":""},""]
[null,null,null,null,null,null,null,null,null,null,null,null,null,null,null,null,{"$f":"IFERROR(IF(P217=\"Yes\",\"Tier 1\",VLOOKUP(N217,'STU Tiers'!$A$1:$B$29,2,FALSE)),\"\")","v":""},null,null,null,null,null,"","",null,null,null,null,null,null,null,null,"","","","",{"$f":"IF(ISBLANK(N217),\"\",IF(ISBLANK(R217),\"\",RowFunc(N217,R217)))","v":""},{"$f":"IFERROR(IF($AJ217>=0.5,INTERPRNG_h($W217,'STU Treatment Values'!$N$5:$W$38,0,1,AK217),INTERPRNG_h($W217,'STU Treatment Values'!$N$40:$W$73,0,1,$AK217)),\"\")","v":""},{"$f":"IFERROR(IF($AJ217>=0.5,INTERPRNG_h($W217,'STU Treatment Values'!$B$5:$K$38,0,1,$AK217),INTERPRNG_h($W217,'STU Treatment Values'!$B$40:$K$73,0,1,$AK217)),\"\")","v":""},"","",{"$f":"IFERROR(INTERPRNG_h($W217,'STU Treatment Values'!$B$112:$K$145,0,1,$AK217),\"\")","v":""},{"$f":"IFERROR(INTERPRNG_h($W217,'STU Treatment Values'!$B$76:$K$109,0,1,$AK217),\"\")","v":""},""]
[null,null,null,null,null,null,null,null,null,null,null,null,null,null,null,null,{"$f":"IFERROR(IF(P218=\"Yes\",\"Tier 1\",VLOOKUP(N218,'STU Tiers'!$A$1:$B$29,2,FALSE)),\"\")","v":""},null,null,null,null,null,"","",null,null,null,null,null,null,null,null,"","","","",{"$f":"IF(ISBLANK(N218),\"\",IF(ISBLANK(R218),\"\",RowFunc(N218,R218)))","v":""},{"$f":"IFERROR(IF($AJ218>=0.5,INTERPRNG_h($W218,'STU Treatment Values'!$N$5:$W$38,0,1,AK218),INTERPRNG_h($W218,'STU Treatment Values'!$N$40:$W$73,0,1,$AK218)),\"\")","v":""},{"$f":"IFERROR(IF($AJ218>=0.5,INTERPRNG_h($W218,'STU Treatment Values'!$B$5:$K$38,0,1,$AK218),INTERPRNG_h($W218,'STU Treatment Values'!$B$40:$K$73,0,1,$AK218)),\"\")","v":""},"","",{"$f":"IFERROR(INTERPRNG_h($W218,'STU Treatment Values'!$B$112:$K$145,0,1,$AK218),\"\")","v":""},{"$f":"IFERROR(INTERPRNG_h($W218,'STU Treatment Values'!$B$76:$K$109,0,1,$AK218),\"\")","v":""},""]
[null,null,null,null,null,null,null,null,null,null,null,null,null,null,null,null,{"$f":"IFERROR(IF(P219=\"Yes\",\"Tier 1\",VLOOKUP(N219,'STU Tiers'!$A$1:$B$29,2,FALSE)),\"\")","v":""},null,null,null,null,null,"","",null,null,null,null,null,null,null,null,"","","","",{"$f":"IF(ISBLANK(N219),\"\",IF(ISBLANK(R219),\"\",RowFunc(N219,R219)))","v":""},{"$f":"IFERROR(IF($AJ219>=0.5,INTERPRNG_h($W219,'STU Treatment Values'!$N$5:$W$38,0,1,AK219),INTERPRNG_h($W219,'STU Treatment Values'!$N$40:$W$73,0,1,$AK219)),\"\")","v":""},{"$f":"IFERROR(IF($AJ219>=0.5,INTERPRNG_h($W219,'STU Treatment Values'!$B$5:$K$38,0,1,$AK219),INTERPRNG_h($W219,'STU Treatment Values'!$B$40:$K$73,0,1,$AK219)),\"\")","v":""},"","",{"$f":"IFERROR(INTERPRNG_h($W219,'STU Treatment Values'!$B$112:$K$145,0,1,$AK219),\"\")","v":""},{"$f":"IFERROR(INTERPRNG_h($W219,'STU Treatment Values'!$B$76:$K$109,0,1,$AK219),\"\")","v":""},""]
[null,null,null,null,null,null,null,null,null,null,null,null,null,null,null,null,{"$f":"IFERROR(IF(P220=\"Yes\",\"Tier 1\",VLOOKUP(N220,'STU Tiers'!$A$1:$B$29,2,FALSE)),\"\")","v":""},null,null,null,null,null,"","",null,null,null,null,null,null,null,null,"","","","",{"$f":"IF(ISBLANK(N220),\"\",IF(ISBLANK(R220),\"\",RowFunc(N220,R220)))","v":""},{"$f":"IFERROR(IF($AJ220>=0.5,INTERPRNG_h($W220,'STU Treatment Values'!$N$5:$W$38,0,1,AK220),INTERPRNG_h($W220,'STU Treatment Values'!$N$40:$W$73,0,1,$AK220)),\"\")","v":""},{"$f":"IFERROR(IF($AJ220>=0.5,INTERPRNG_h($W220,'STU Treatment Values'!$B$5:$K$38,0,1,$AK220),INTERPRNG_h($W220,'STU Treatment Values'!$B$40:$K$73,0,1,$AK220)),\"\")","v":""},"","",{"$f":"IFERROR(INTERPRNG_h($W220,'STU Treatment Values'!$B$112:$K$145,0,1,$AK220),\"\")","v":""},{"$f":"IFERROR(INTERPRNG_h($W220,'STU Treatment Values'!$B$76:$K$109,0,1,$AK220),\"\")","v":""},""]
[null,null,null,null,null,null,null,null,null,null,null,null,null,null,null,null,{"$f":"IFERROR(IF(P221=\"Yes\",\"Tier 1\",VLOOKUP(N221,'STU Tiers'!$A$1:$B$29,2,FALSE)),\"\")","v":""},null,null,null,null,null,"","",null,null,null,null,null,null,null,null,"","","","",{"$f":"IF(ISBLANK(N221),\"\",IF(ISBLANK(R221),\"\",RowFunc(N221,R221)))","v":""},{"$f":"IFERROR(IF($AJ221>=0.5,INTERPRNG_h($W221,'STU Treatment Values'!$N$5:$W$38,0,1,AK221),INTERPRNG_h($W221,'STU Treatment Values'!$N$40:$W$73,0,1,$AK221)),\"\")","v":""},{"$f":"IFERROR(IF($AJ221>=0.5,INTERPRNG_h($W221,'STU Treatment Values'!$B$5:$K$38,0,1,$AK221),INTERPRNG_h($W221,'STU Treatment Values'!$B$40:$K$73,0,1,$AK221)),\"\")","v":""},"","",{"$f":"IFERROR(INTERPRNG_h($W221,'STU Treatment Values'!$B$112:$K$145,0,1,$AK221),\"\")","v":""},{"$f":"IFERROR(INTERPRNG_h($W221,'STU Treatment Values'!$B$76:$K$109,0,1,$AK221),\"\")","v":""},""]
[null,null,null,null,null,null,null,null,null,null,null,null,null,null,null,null,{"$f":"IFERROR(IF(P222=\"Yes\",\"Tier 1\",VLOOKUP(N222,'STU Tiers'!$A$1:$B$29,2,FALSE)),\"\")","v":""},null,null,null,null,null,"","",null,null,null,null,null,null,null,null,"","","","",{"$f":"IF(ISBLANK(N222),\"\",IF(ISBLANK(R222),\"\",RowFunc(N222,R222)))","v":""},{"$f":"IFERROR(IF($AJ222>=0.5,INTERPRNG_h($W222,'STU Treatment Values'!$N$5:$W$38,0,1,AK222),INTERPRNG_h($W222,'STU Treatment Values'!$N$40:$W$73,0,1,$AK222)),\"\")","v":""},{"$f":"IFERROR(IF($AJ222>=0.5,INTERPRNG_h($W222,'STU Treatment Values'!$B$5:$K$38,0,1,$AK222),INTERPRNG_h($W222,'STU Treatment Values'!$B$40:$K$73,0,1,$AK222)),\"\")","v":""},"","",{"$f":"IFERROR(INTERPRNG_h($W222,'STU Treatment Values'!$B$112:$K$145,0,1,$AK222),\"\")","v":""},{"$f":"IFERROR(INTERPRNG_h($W222,'STU Treatment Values'!$B$76:$K$109,0,1,$AK222),\"\")","v":""},""]
[null,null,null,null,null,null,null,null,null,null,null,null,null,null,null,null,{"$f":"IFERROR(IF(P223=\"Yes\",\"Tier 1\",VLOOKUP(N223,'STU Tiers'!$A$1:$B$29,2,FALSE)),\"\")","v":""},null,null,null,null,null,"","",null,null,null,null,null,null,null,null,"","","","",{"$f":"IF(ISBLANK(N223),\"\",IF(ISBLANK(R223),\"\",RowFunc(N223,R223)))","v":""},{"$f":"IFERROR(IF($AJ223>=0.5,INTERPRNG_h($W223,'STU Treatment Values'!$N$5:$W$38,0,1,AK223),INTERPRNG_h($W223,'STU Treatment Values'!$N$40:$W$73,0,1,$AK223)),\"\")","v":""},{"$f":"IFERROR(IF($AJ223>=0.5,INTERPRNG_h($W223,'STU Treatment Values'!$B$5:$K$38,0,1,$AK223),INTERPRNG_h($W223,'STU Treatment Values'!$B$40:$K$73,0,1,$AK223)),\"\")","v":""},"","",{"$f":"IFERROR(INTERPRNG_h($W223,'STU Treatment Values'!$B$112:$K$145,0,1,$AK223),\"\")","v":""},{"$f":"IFERROR(INTERPRNG_h($W223,'STU Treatment Values'!$B$76:$K$109,0,1,$AK223),\"\")","v":""},""]
[null,null,null,null,null,null,null,null,null,null,null,null,null,null,null,null,{"$f":"IFERROR(IF(P224=\"Yes\",\"Tier 1\",VLOOKUP(N224,'STU Tiers'!$A$1:$B$29,2,FALSE)),\"\")","v":""},null,null,null,null,null,"","",null,null,null,null,null,null,null,null,"","","","",{"$f":"IF(ISBLANK(N224),\"\",IF(ISBLANK(R224),\"\",RowFunc(N224,R224)))","v":""},{"$f":"IFERROR(IF($AJ224>=0.5,INTERPRNG_h($W224,'STU Treatment Values'!$N$5:$W$38,0,1,AK224),INTERPRNG_h($W224,'STU Treatment Values'!$N$40:$W$73,0,1,$AK224)),\"\")","v":""},{"$f":"IFERROR(IF($AJ224>=0.5,INTERPRNG_h($W224,'STU Treatment Values'!$B$5:$K$38,0,1,$AK224),INTERPRNG_h($W224,'STU Treatment Values'!$B$40:$K$73,0,1,$AK224)),\"\")","v":""},"","",{"$f":"IFERROR(INTERPRNG_h($W224,'STU Treatment Values'!$B$112:$K$145,0,1,$AK224),\"\")","v":""},{"$f":"IFERROR(INTERPRNG_h($W224,'STU Treatment Values'!$B$76:$K$109,0,1,$AK224),\"\")","v":""},""]
[null,null,null,null,null,null,null,null,null,null,null,null,null,null,null,null,{"$f":"IFERROR(IF(P225=\"Yes\",\"Tier 1\",VLOOKUP(N225,'STU Tiers'!$A$1:$B$29,2,FALSE)),\"\")","v":""},null,null,null,null,null,"","",null,null,null,null,null,null,null,null,"","","","",{"$f":"IF(ISBLANK(N225),\"\",IF(ISBLANK(R225),\"\",RowFunc(N225,R225)))","v":""},{"$f":"IFERROR(IF($AJ225>=0.5,INTERPRNG_h($W225,'STU Treatment Values'!$N$5:$W$38,0,1,AK225),INTERPRNG_h($W225,'STU Treatment Values'!$N$40:$W$73,0,1,$AK225)),\"\")","v":""},{"$f":"IFERROR(IF($AJ225>=0.5,INTERPRNG_h($W225,'STU Treatment Values'!$B$5:$K$38,0,1,$AK225),INTERPRNG_h($W225,'STU Treatment Values'!$B$40:$K$73,0,1,$AK225)),\"\")","v":""},"","",{"$f":"IFERROR(INTERPRNG_h($W225,'STU Treatment Values'!$B$112:$K$145,0,1,$AK225),\"\")","v":""},{"$f":"IFERROR(INTERPRNG_h($W225,'STU Treatment Values'!$B$76:$K$109,0,1,$AK225),\"\")","v":""},""]
[null,null,null,null,null,null,null,null,null,null,null,null,null,null,null,null,{"$f":"IFERROR(IF(P226=\"Yes\",\"Tier 1\",VLOOKUP(N226,'STU Tiers'!$A$1:$B$29,2,FALSE)),\"\")","v":""},null,null,null,null,null,"","",null,null,null,null,null,null,null,null,"","","","",{"$f":"IF(ISBLANK(N226),\"\",IF(ISBLANK(R226),\"\",RowFunc(N226,R226)))","v":""},{"$f":"IFERROR(IF($AJ226>=0.5,INTERPRNG_h($W226,'STU Treatment Values'!$N$5:$W$38,0,1,AK226),INTERPRNG_h($W226,'STU Treatment Values'!$N$40:$W$73,0,1,$AK226)),\"\")","v":""},{"$f":"IFERROR(IF($AJ226>=0.5,INTERPRNG_h($W226,'STU Treatment Values'!$B$5:$K$38,0,1,$AK226),INTERPRNG_h($W226,'STU Treatment Values'!$B$40:$K$73,0,1,$AK226)),\"\")","v":""},"","",{"$f":"IFERROR(INTERPRNG_h($W226,'STU Treatment Values'!$B$112:$K$145,0,1,$AK226),\"\")","v":""},{"$f":"IFERROR(INTERPRNG_h($W226,'STU Treatment Values'!$B$76:$K$109,0,1,$AK226),\"\")","v":""},""]
[null,null,null,null,null,null,null,null,null,null,null,null,null,null,null,null,{"$f":"IFERROR(IF(P227=\"Yes\",\"Tier 1\",VLOOKUP(N227,'STU Tiers'!$A$1:$B$29,2,FALSE)),\"\")","v":""},null,null,null,null,null,"","",null,null,null,null,null,null,null,null,"","","","",{"$f":"IF(ISBLANK(N227),\"\",IF(ISBLANK(R227),\"\",RowFunc(N227,R227)))","v":""},{"$f":"IFERROR(IF($AJ227>=0.5,INTERPRNG_h($W227,'STU Treatment Values'!$N$5:$W$38,0,1,AK227),INTERPRNG_h($W227,'STU Treatment Values'!$N$40:$W$73,0,1,$AK227)),\"\")","v":""},{"$f":"IFERROR(IF($AJ227>=0.5,INTERPRNG_h($W227,'STU Treatment Values'!$B$5:$K$38,0,1,$AK227),INTERPRNG_h($W227,'STU Treatment Values'!$B$40:$K$73,0,1,$AK227)),\"\")","v":""},"","",{"$f":"IFERROR(INTERPRNG_h($W227,'STU Treatment Values'!$B$112:$K$145,0,1,$AK227),\"\")","v":""},{"$f":"IFERROR(INTERPRNG_h($W227,'STU Treatment Values'!$B$76:$K$109,0,1,$AK227),\"\")","v":""},""]
[null,null,null,null,null,null,null,null,null,null,null,null,null,null,null,null,{"$f":"IFERROR(IF(P228=\"Yes\",\"Tier 1\",VLOOKUP(N228,'STU Tiers'!$A$1:$B$29,2,FALSE)),\"\")","v":""},null,null,null,null,null,"","",null,null,null,null,null,null,null,null,"","","","",{"$f":"IF(ISBLANK(N228),\"\",IF(ISBLANK(R228),\"\",RowFunc(N228,R228)))","v":""},{"$f":"IFERROR(IF($AJ228>=0.5,INTERPRNG_h($W228,'STU Treatment Values'!$N$5:$W$38,0,1,AK228),INTERPRNG_h($W228,'STU Treatment Values'!$N$40:$W$73,0,1,$AK228)),\"\")","v":""},{"$f":"IFERROR(IF($AJ228>=0.5,INTERPRNG_h($W228,'STU Treatment Values'!$B$5:$K$38,0,1,$AK228),INTERPRNG_h($W228,'STU Treatment Values'!$B$40:$K$73,0,1,$AK228)),\"\")","v":""},"","",{"$f":"IFERROR(INTERPRNG_h($W228,'STU Treatment Values'!$B$112:$K$145,0,1,$AK228),\"\")","v":""},{"$f":"IFERROR(INTERPRNG_h($W228,'STU Treatment Values'!$B$76:$K$109,0,1,$AK228),\"\")","v":""},""]
[null,null,null,null,null,null,null,null,null,null,null,null,null,null,null,null,{"$f":"IFERROR(IF(P229=\"Yes\",\"Tier 1\",VLOOKUP(N229,'STU Tiers'!$A$1:$B$29,2,FALSE)),\"\")","v":""},null,null,null,null,null,{"$f":"IFERROR((V229/T229*12),\"\")","v":""},"",null,null,null,null,null,null,null,null,"","","","",{"$f":"IF(ISBLANK(N229),\"\",IF(ISBLANK(R229),\"\",RowFunc(N229,R229)))","v":""},{"$f":"IFERROR(IF($AJ229>=0.5,INTERPRNG_h($W229,'STU Treatment Values'!$N$5:$W$38,0,1,AK229),INTERPRNG_h($W229,'STU Treatment Values'!$N$40:$W$73,0,1,$AK229)),\"\")","v":""},{"$f":"IFERROR(IF($AJ229>=0.5,INTERPRNG_h($W229,'STU Treatment Values'!$B$5:$K$38,0,1,$AK229),INTERPRNG_h($W229,'STU Treatment Values'!$B$40:$K$73,0,1,$AK229)),\"\")","v":""},"","",{"$f":"IFERROR(INTERPRNG_h($W229,'STU Treatment Values'!$B$112:$K$145,0,1,$AK229),\"\")","v":""},{"$f":"IFERROR(INTERPRNG_h($W229,'STU Treatment Values'!$B$76:$K$109,0,1,$AK229),\"\")","v":""},""]

{"sheet":"Worksheet B-30%","index":7,"n_rows":21,"n_cols":8,"rows_kept":21,"cut":false,"hidden":false,"merged":[[14,3,14,4],[15,3,15,4],[4,6,4,7],[20,0,20,7],[2,0,2,2],[8,0,8,2],[8,5,8,7],[16,0,16,7],[4,1,4,2],[9,0,10,1],[11,0,13,1],[14,0,14,1],[15,0,15,1],[8,3,8,4],[9,3,9,4],[10,3,10,4],[11,3,11,4],[12,3,12,4],[13,3,13,4]]}
["Worksheet B-30%"]
[]
["Date:                                                                   ",null,null,"Prepared By: "]
[]
["Project ID:                                                                 ",{"$f":"IFERROR(IF('Cover Sheet'!G3=0,\"\",'Cover Sheet'!G3),\"\")","v":""},null,"Location:",{"$f":"IFERROR(IF('Cover Sheet'!G4=0,\"\",'Cover Sheet'!G4),\"\")","v":""},"Municipality:",{"$f":"IFERROR(IF('Cover Sheet'!G5=0,\"\",'Cover Sheet'!G5),\"\")","v":""}]
[]
["Instructions: Enter data in Non-Discharge Areas, Worksheet A-Scoping and LID & STUs tabs to populate shaded boxes."]
[]
["PART 1 ",null,null,"Project Information",null,"Stormwater Treatment Information  "]
["Information from Worksheet A. \nRows A & B are auto populated from Worksheet A-Scoping.",null,"A","Waterbody ID (WBID)",null,{"$f":"IF('Worksheet A-Scoping'!F10=\"\",\"\",'Worksheet A-Scoping'!F10)","v":""},{"$f":"IF('Worksheet A-Scoping'!G10=\"\",\"\",'Worksheet A-Scoping'!G10)","v":""},{"$f":"IF('Worksheet A-Scoping'!H10=\"\",\"\",'Worksheet A-Scoping'!H10)","v":""}]
[null,null,"B","Total Stormwater Treatment Goal (acres)                                   ",null,{"$f":"IFERROR(('Worksheet A-Scoping'!F26),\"\")","v":0},{"$f":"IFERROR(('Worksheet A-Scoping'!G26),\"\")","v":0},{"$f":"IFERROR(('Worksheet A-Scoping'!H26),\"\")","v":0}]
["Stormwater Treatment Credit (Effective Impervious Cover).\nRows C - E are auto populated from the LID & STUs tab.",null,"C","Existing STUsA (acres) ",null,{"$f":"SUMIF('LID & STUs'!$B$18:$B$47,F10,'LID & STUs'!$U$18:$U$47)","v":0},{"$f":"SUMIF('LID & STUs'!$B$18:$B$47,G10,'LID & STUs'!$U$18:$U$47)","v":0},{"$f":"SUMIF('LID & STUs'!$B$18:$B$47,H10,'LID & STUs'!$U$18:$U$47)","v":0}]
[null,null,"D","Existing IC Disconnection (acres)",null,{"$f":"SUMIF('LID & STUs'!$B$53:$B$82,F10,'LID & STUs'!$N$53:$N$82)","v":0},{"$f":"SUMIF('LID & STUs'!$B$53:$B$82,G10,'LID & STUs'!$N$53:$N$82)","v":0},{"$f":"SUMIF('LID & STUs'!$B$53:$B$82,H10,'LID & STUs'!$N$53:$N$82)","v":0}]
[null,null,"E","Pavement Removal (acres)",null,{"$f":"SUMIF('LID & STUs'!$B$88:$B$120,F10,'LID & STUs'!$E$88:$E$120)","v":0},{"$f":"SUMIF('LID & STUs'!$B$88:$B$120,G10,'LID & STUs'!$E$88:$E$120)","v":0},{"$f":"SUMIF('LID & STUs'!$B$88:$B$120,H10,'LID & STUs'!$E$88:$E$120)","v":0}]
["Calculate Total Treatment Provided.",null,"F","Total Area of Stormwater Treated (acres) \n= Sum of Items in Rows C through E",null,{"$f":"IFERROR(SUM(F12:F14),\"\")","v":0},{"$f":"IFERROR(SUM(G12:G14),\"\")","v":0},{"$f":"IFERROR(SUM(H12:H14),\"\")","v":0}]
["Calculate Treatment Surplus/Deficit.",null,"G","Total AreaB of Remaining Stormwater Requiring \nTreatment (acres) = (B) - (F)",null,{"$f":"IFERROR((F11-F15),\"\")","v":0},{"$f":"IFERROR((G11-G15),\"\")","v":0},{"$f":"IFERROR((H11-H15),\"\")","v":0}]
["ACredit is given to existing, non-functioning STUs if maintenance is proposed as part of this project.\nBNegative value indicates a surplus of treatment. "]
[]
[]
["PART 2 \n(treatment deficit only) "]
["Attach justification to this worksheet for treatment deficit. "]

{"sheet":"Worksheet B-90%","index":8,"n_rows":26,"n_cols":8,"rows_kept":26,"cut":false,"hidden":false,"merged":[[25,0,25,7],[2,0,2,2],[8,0,8,2],[8,5,8,7],[22,0,22,7],[24,0,24,7],[4,1,4,2],[9,0,10,1],[11,0,19,1],[20,0,20,1],[21,0,21,1],[9,3,9,4],[10,3,10,4],[11,3,11,4],[12,3,12,4],[8,3,8,4],[4,6,4,7],[13,3,13,4],[14,3,14,4],[21,3,21,4],[20,3,20,4],[19,3,19,4],[18,3,18,4],[17,3,17,4],[16,3,16,4],[15,3,15,4]]}
["Worksheet B-90%"]
[]
["Date:                                                                   ",null,null,"Prepared By: "]
[]
["Project ID:                                                                 ",{"$f":"IFERROR(IF('Cover Sheet'!G3=0,\"\",'Cover Sheet'!G3),\"\")","v":""},null,"Location:",{"$f":"IFERROR(IF('Cover Sheet'!G4=0,\"\",'Cover Sheet'!G4),\"\")","v":""},"Municipality:",{"$f":"IFERROR(IF('Cover Sheet'!G5=0,\"\",'Cover Sheet'!G5),\"\")","v":""}]
[]
["Instructions: Enter data in Non-Discharge Areas, Worksheet A-Scoping and LID & STUs tabs to populate shaded boxes."]
[]
["PART 1 ",null,null,"Project Information",null,"Stormwater Treatment Information  "]
["Information from Worksheet A. \nRows A & B are auto populated from Worksheet A-Scoping.",null,"A","Waterbody ID (WBID)",null,{"$f":"IF('Worksheet A-Scoping'!F10=\"\",\"\",'Worksheet A-Scoping'!F10)","v":""},{"$f":"IF('Worksheet A-Scoping'!G10=\"\",\"\",'Worksheet A-Scoping'!G10)","v":""},{"$f":"IF('Worksheet A-Scoping'!H10=\"\",\"\",'Worksheet A-Scoping'!H10)","v":""}]
[null,null,"B","Total Stormwater Treatment Goal (acres)                                   ",null,{"$f":"IFERROR(('Worksheet A-Scoping'!F26),\"\")","v":0},{"$f":"IFERROR(('Worksheet A-Scoping'!G26),\"\")","v":0},{"$f":"IFERROR(('Worksheet A-Scoping'!H26),\"\")","v":0}]
["Stormwater Treatment Credit (Effective Impervious Cover).\nRows C - K are auto populated from the STU tab.\n\nNotes: \n1) Rows C & D apply to all existing treatment. \n\n2) Rows E - G apply to all proposed non-structural treatment.\n\n3) Rows H - K apply to all proposed structural treatment.\n",null,"C","Existing STUsA (acres) ",null,{"$f":"SUMIF('LID & STUs'!$B$18:$B$47,F10,'LID & STUs'!$U$18:$U$47)","v":0},{"$f":"SUMIF('LID & STUs'!$B$18:$B$47,G10,'LID & STUs'!$U$18:$U$47)","v":0},{"$f":"SUMIF('LID & STUs'!$B$18:$B$47,H10,'LID & STUs'!$U$18:$U$47)","v":0}]
[null,null,"D","Existing IC Disconnection (acres)",null,{"$f":"SUMIF('LID & STUs'!$B$53:$B$82,F10,'LID & STUs'!$N$53:$N$82)","v":0},{"$f":"SUMIF('LID & STUs'!$B$53:$B$82,G10,'LID & STUs'!$N$53:$N$82)","v":0},{"$f":"SUMIF('LID & STUs'!$B$53:$B$82,H10,'LID & STUs'!$N$53:$N$82)","v":0}]
[null,null,"E","Pavement Removal (acres)",null,{"$f":"SUMIF('LID & STUs'!$B$88:$B$120,F10,'LID & STUs'!$E$88:$E$120)","v":0},{"$f":"SUMIF('LID & STUs'!$B$88:$B$120,G10,'LID & STUs'!$E$88:$E$120)","v":0},{"$f":"SUMIF('LID & STUs'!$B$88:$B$120,H10,'LID & STUs'!$E$88:$E$120)","v":0}]
[null,null,"F","Redirected to a Non-Discharge Area (acres) ",null,{"$f":"SUMIF('LID & STUs'!$B$128:$B$157,F10,'LID & STUs'!$O$128:$O$157)","v":0},{"$f":"SUMIF('LID & STUs'!$B$128:$B$157,G10,'LID & STUs'!$O$128:$O$157)","v":0},{"$f":"SUMIF('LID & STUs'!$B$128:$B$157,H10,'LID & STUs'!$O$128:$O$157)","v":0}]
[null,null,"G","Redirected to an IC Disconnection Area (acres) ",null,{"$f":"SUMIF('LID & STUs'!$B$163:$B$192,F10,'LID & STUs'!$N$163:$N$192)","v":0},{"$f":"SUMIF('LID & STUs'!$B$163:$B$192,G10,'LID & STUs'!$N$163:$N$192)","v":0},{"$f":"SUMIF('LID & STUs'!$B$163:$B$192,H10,'LID & STUs'!$N$163:$N$192)","v":0}]
[null,null,"H","Tier 1 Structural STUs (acres) ",null,{"$f":"SUMIFS('LID & STUs'!$X$200:$X$229,'LID & STUs'!$B$200:$B$229,F10,'LID & STUs'!$Q$200:$Q$229,\"Tier 1\",'LID & STUs'!$M$200:$M$229,\"Inside the Project Limits\")","v":0},{"$f":"SUMIFS('LID & STUs'!$X$200:$X$229,'LID & STUs'!$B$200:$B$229,G10,'LID & STUs'!$Q$200:$Q$229,\"Tier 1\",'LID & STUs'!$M$200:$M$229,\"Inside the Project Limits\")","v":0},{"$f":"SUMIFS('LID & STUs'!$X$200:$X$229,'LID & STUs'!$B$200:$B$229,H10,'LID & STUs'!$Q$200:$Q$229,\"Tier 1\",'LID & STUs'!$M$200:$M$229,\"Inside the Project Limits\")","v":0}]
[null,null,"I","Tier 2 Structural STUs (acres)",null,{"$f":"SUMIFS('LID & STUs'!$X$200:$X$229,'LID & STUs'!$B$200:$B$229,F10,'LID & STUs'!$Q$200:$Q$229,\"Tier 2\",'LID & STUs'!$M$200:$M$229,\"Inside the Project Limits\")","v":0},{"$f":"SUMIFS('LID & STUs'!$X$200:$X$229,'LID & STUs'!$B$200:$B$229,G10,'LID & STUs'!$Q$200:$Q$229,\"Tier 2\",'LID & STUs'!$M$200:$M$229,\"Inside the Project Limits\")","v":0},{"$f":"SUMIFS('LID & STUs'!$X$200:$X$229,'LID & STUs'!$B$200:$B$229,H10,'LID & STUs'!$Q$200:$Q$229,\"Tier 2\",'LID & STUs'!$M$200:$M$229,\"Inside the Project Limits\")","v":0}]
[null,null,"J","Tier 3 Structural STUs (acres)",null,{"$f":"SUMIFS('LID & STUs'!$X$200:$X$229,'LID & STUs'!$B$200:$B$229,F10,'LID & STUs'!$Q$200:$Q$229,\"Tier 3\",'LID & STUs'!$M$200:$M$229,\"Inside the Project Limits\")","v":0},{"$f":"SUMIFS('LID & STUs'!$X$200:$X$229,'LID & STUs'!$B$200:$B$229,G10,'LID & STUs'!$Q$200:$Q$229,\"Tier 3\",'LID & STUs'!$M$200:$M$229,\"Inside the Project Limits\")","v":0},{"$f":"SUMIFS('LID & STUs'!$X$200:$X$229,'LID & STUs'!$B$200:$B$229,H10,'LID & STUs'!$Q$200:$Q$229,\"Tier 3\",'LID & STUs'!$M$200:$M$229,\"Inside the Project Limits\")","v":0}]
[null,null,"K","STUs Outside the Project Limits (acres) ",null,{"$f":"SUMIFS('LID & STUs'!$X$200:$X$229,'LID & STUs'!$B$200:$B$229,F10,'LID & STUs'!$M$200:$M$229,\"Outside the Project Limits\")","v":0},{"$f":"SUMIFS('LID & STUs'!$X$200:$X$229,'LID & STUs'!$B$200:$B$229,G10,'LID & STUs'!$M$200:$M$229,\"Outside the Project Limits\")","v":0},{"$f":"SUMIFS('LID & STUs'!$X$200:$X$229,'LID & STUs'!$B$200:$B$229,H10,'LID & STUs'!$M$200:$M$229,\"Outside the Project Limits\")","v":0}]
["Calculate Total Treatment Provided.",null,"L","Total Area of Stormwater Treated (acres) \n= Sum of Items in Rows C through K",null,{"$f":"IFERROR(SUM(F12:F20),\"\")","v":0},{"$f":"IFERROR(SUM(G12:G20),\"\")","v":0},{"$f":"IFERROR(SUM(H12:H20),\"\")","v":0}]
["Calculate Treatment Surplus/Deficit.",null,"M","Total AreaB of Remaining Stormwater Requiring \nTreatment (acres) = (B) - (L)",null,{"$f":"IFERROR((F11-F21),\"\")","v":0},{"$f":"IFERROR((G11-G21),\"\")","v":0},0]
["ACredit is given to existing, non-functioning STUs if maintenance is proposed as part of this project.\nBNegative value indicates a surplus of treatment. "]
[]
["PART 2 \n(treatment deficit only) "]
["Attach justification to this worksheet for treatment deficit."]

{"sheet":"Worksheet C-As Built","index":9,"n_rows":23,"n_cols":8,"rows_kept":23,"cut":false,"hidden":false,"merged":[[2,0,2,2],[8,0,8,2],[8,5,8,7],[22,0,22,7],[4,1,4,2],[9,0,10,1],[11,0,19,1],[20,0,20,1],[21,0,21,1],[8,3,8,4],[9,3,9,4],[10,3,10,4],[11,3,11,4],[4,6,4,7],[12,3,12,4],[21,3,21,4],[20,3,20,4],[19,3,19,4],[18,3,18,4],[13,3,13,4],[14,3,14,4],[15,3,15,4],[16,3,16,4],[17,3,17,4]]}
["Worksheet C-As Built"]
[]
["Date:                                                                   ",null,null,"Prepared By: "]
[]
["Project ID:                                                                 ",{"$f":"IFERROR(IF('Cover Sheet'!G3=0,\"\",'Cover Sheet'!G3),\"\")","v":""},null,"Location:",{"$f":"IFERROR(IF('Cover Sheet'!G4=0,\"\",'Cover Sheet'!G4),\"\")","v":""},"Municipality:",{"$f":"IFERROR(IF('Cover Sheet'!G5=0,\"\",'Cover Sheet'!G5),\"\")","v":""}]
[]
["Instructions: Enter data in Non-Discharge Areas, Worksheet A-Scoping and LID & STUs tabs to populate shaded boxes."]
[]
["PART 1 ",null,null,"Project Information",null,"Stormwater Treatment Information  "]
["Information from Worksheet A. \nRows A & B are auto populated from Worksheet A-Scoping.",null,"A","Waterbody ID (WBID)",null,{"$f":"IF('Worksheet A-Scoping'!F10=\"\",\"\",'Worksheet A-Scoping'!F10)","v":""},{"$f":"IF('Worksheet A-Scoping'!G10=\"\",\"\",'Worksheet A-Scoping'!G10)","v":""},{"$f":"IF('Worksheet A-Scoping'!H10=\"\",\"\",'Worksheet A-Scoping'!H10)","v":""}]
[null,null,"B","Total Stormwater Treatment Goal (acres)                                   ",null,{"$f":"IFERROR(('Worksheet A-Scoping'!F26),\"\")","v":0},{"$f":"IFERROR(('Worksheet A-Scoping'!G26),\"\")","v":0},{"$f":"IFERROR(('Worksheet A-Scoping'!H26),\"\")","v":0}]
["Stormwater Treatment Credit (Effective Impervious Cover).\nRows C - K are auto populated from the STU tab.\n\nNotes: \n1) Rows C & D apply to all existing treatment. \n\n2) Rows E - G apply to all proposed non-structural treatment.\n\n3) Rows H - K apply to all proposed structural treatment.\n",null,"C","Existing STUsA (acres) ",null,{"$f":"SUMIF('LID & STUs'!$B$18:$B$47,F10,'LID & STUs'!$U$18:$U$47)","v":0},{"$f":"SUMIF('LID & STUs'!$B$18:$B$47,G10,'LID & STUs'!$U$18:$U$47)","v":0},{"$f":"SUMIF('LID & STUs'!$B$18:$B$47,H10,'LID & STUs'!$U$18:$U$47)","v":0}]
[null,null,"D","Existing IC Disconnection (acres)",null,{"$f":"SUMIF('LID & STUs'!$B$53:$B$82,F10,'LID & STUs'!$N$53:$N$82)","v":0},{"$f":"SUMIF('LID & STUs'!$B$53:$B$82,G10,'LID & STUs'!$N$53:$N$82)","v":0},{"$f":"SUMIF('LID & STUs'!$B$53:$B$82,H10,'LID & STUs'!$N$53:$N$82)","v":0}]
[null,null,"E","Pavement Removal (acres)",null,{"$f":"SUMIF('LID & STUs'!$B$88:$B$120,F10,'LID & STUs'!$E$88:$E$120)","v":0},{"$f":"SUMIF('LID & STUs'!$B$88:$B$120,G10,'LID & STUs'!$E$88:$E$120)","v":0},{"$f":"SUMIF('LID & STUs'!$B$88:$B$120,H10,'LID & STUs'!$E$88:$E$120)","v":0}]
[null,null,"F","Redirected to a Non-Discharge Area (acres) ",null,{"$f":"SUMIF('LID & STUs'!$B$128:$B$157,F10,'LID & STUs'!$O$128:$O$157)","v":0},{"$f":"SUMIF('LID & STUs'!$B$128:$B$157,G10,'LID & STUs'!$O$128:$O$157)","v":0},{"$f":"SUMIF('LID & STUs'!$B$128:$B$157,H10,'LID & STUs'!$O$128:$O$157)","v":0}]
[null,null,"G","Redirected to an IC Disconnection Area (acres) ",null,{"$f":"SUMIF('LID & STUs'!$B$163:$B$192,F10,'LID & STUs'!$N$163:$N$192)","v":0},{"$f":"SUMIF('LID & STUs'!$B$163:$B$192,G10,'LID & STUs'!$N$163:$N$192)","v":0},{"$f":"SUMIF('LID & STUs'!$B$163:$B$192,H10,'LID & STUs'!$N$163:$N$192)","v":0}]
[null,null,"H","Tier 1 Structural STUs (acres) ",null,{"$f":"SUMIFS('LID & STUs'!$X$200:$X$229,'LID & STUs'!$B$200:$B$229,F10,'LID & STUs'!$Q$200:$Q$229,\"Tier 1\",'LID & STUs'!$M$200:$M$229,\"Inside the Project Limits\")","v":0},{"$f":"SUMIFS('LID & STUs'!$X$200:$X$229,'LID & STUs'!$B$200:$B$229,G10,'LID & STUs'!$Q$200:$Q$229,\"Tier 1\",'LID & STUs'!$M$200:$M$229,\"Inside the Project Limits\")","v":0},{"$f":"SUMIFS('LID & STUs'!$X$200:$X$229,'LID & STUs'!$B$200:$B$229,H10,'LID & STUs'!$Q$200:$Q$229,\"Tier 1\",'LID & STUs'!$M$200:$M$229,\"Inside the Project Limits\")","v":0}]
[null,null,"I","Tier 2 Structural STUs (acres)",null,{"$f":"SUMIFS('LID & STUs'!$X$200:$X$229,'LID & STUs'!$B$200:$B$229,F10,'LID & STUs'!$Q$200:$Q$229,\"Tier 2\",'LID & STUs'!$M$200:$M$229,\"Inside the Project Limits\")","v":0},{"$f":"SUMIFS('LID & STUs'!$X$200:$X$229,'LID & STUs'!$B$200:$B$229,G10,'LID & STUs'!$Q$200:$Q$229,\"Tier 2\",'LID & STUs'!$M$200:$M$229,\"Inside the Project Limits\")","v":0},{"$f":"SUMIFS('LID & STUs'!$X$200:$X$229,'LID & STUs'!$B$200:$B$229,H10,'LID & STUs'!$Q$200:$Q$229,\"Tier 2\",'LID & STUs'!$M$200:$M$229,\"Inside the Project Limits\")","v":0}]
[null,null,"J","Tier 3 Structural STUs (acres)",null,{"$f":"SUMIFS('LID & STUs'!$X$200:$X$229,'LID & STUs'!$B$200:$B$229,F10,'LID & STUs'!$Q$200:$Q$229,\"Tier 3\",'LID & STUs'!$M$200:$M$229,\"Inside the Project Limits\")","v":0},{"$f":"SUMIFS('LID & STUs'!$X$200:$X$229,'LID & STUs'!$B$200:$B$229,G10,'LID & STUs'!$Q$200:$Q$229,\"Tier 3\",'LID & STUs'!$M$200:$M$229,\"Inside the Project Limits\")","v":0},{"$f":"SUMIFS('LID & STUs'!$X$200:$X$229,'LID & STUs'!$B$200:$B$229,H10,'LID & STUs'!$Q$200:$Q$229,\"Tier 3\",'LID & STUs'!$M$200:$M$229,\"Inside the Project Limits\")","v":0}]
[null,null,"K","STUs Outside the Project Limits (acres) ",null,{"$f":"SUMIFS('LID & STUs'!$X$200:$X$229,'LID & STUs'!$B$200:$B$229,F10,'LID & STUs'!$M$200:$M$229,\"Outside the Project Limits\")","v":0},{"$f":"SUMIFS('LID & STUs'!$X$200:$X$229,'LID & STUs'!$B$200:$B$229,G10,'LID & STUs'!$M$200:$M$229,\"Outside the Project Limits\")","v":0},{"$f":"SUMIFS('LID & STUs'!$X$200:$X$229,'LID & STUs'!$B$200:$B$229,H10,'LID & STUs'!$M$200:$M$229,\"Outside the Project Limits\")","v":0}]
["Calculate Total Treatment Provided.",null,"L","Total Area of Stormwater Treated (acres) \n= Sum of Items in Rows C through K",null,{"$f":"IFERROR(SUM(F12:F20),\"\")","v":0},{"$f":"IFERROR(SUM(G12:G20),\"\")","v":0},0]
["Calculate Treatment Surplus/Deficit.",null,"M","Total AreaB of Remaining Stormwater Requiring \nTreatment (acres) = (B) - (L)",null,{"$f":"IFERROR((F11-F21),\"\")","v":0},{"$f":"IFERROR((G11-G21),\"\")","v":0},0]
["ACredit is given to existing, non-functioning STUs if maintenance is proposed as part of this project.\nBNegative value indicates a surplus of treatment. "]

{"sheet":"STU Tiers","index":10,"n_rows":29,"n_cols":2,"rows_kept":29,"cut":false,"hidden":true,"merged":[]}
["STU Type","STU Tier "]
["Infiltration Basin","Tier 2"]
["Infiltration Gutter","Tier 2"]
["Infiltration Swale","Tier 2"]
["Infiltration Trench","Tier 2"]
["Sand Filter","Tier 2"]
["Sand Filter (Exfiltrating)","Tier 2"]
["Leaching Basin","Tier 2"]
["Bioretention Basin","Tier 3"]
["Bioretention Curb Extension Planter","Tier 3"]
["Bioretention Curb Inlet Planter","Tier 3"]
["Bioretention Parking Lane Adjacent Planter","Tier 3"]
["Bioretention Swale","Tier 3"]
["Extended Detention Basin","Tier 3"]
["Gravel Wetland (WVTS)","Tier 3"]
["Hydrodynamic Separator","Tier 3"]
["Jellyfish Filter","Tier 3"]
["MWS-Linear","Tier 3"]
["Porous Pavement","Tier 3"]
["Porous Pavement With Storage","Tier 3"]
["Porous Pavement With Underdrain","Tier 3"]
["Stormceptor","Tier 3"]
["Tree Filter","Tier 3"]
["Tree Filter With Storage","Tier 3"]
["Underground Infiltration System","Tier 3"]
["Wet Pond","Tier 3"]
["Wet Swale","Tier 3"]
["Wet Vegetated Treatment System","Tier 3"]
["Water Quality Grass Swale w/ Detention","Tier 3"]

{"sheet":"Domains","index":11,"n_rows":69,"n_cols":2,"rows_kept":69,"cut":false,"hidden":true,"merged":[]}
["List Name","List Value "]
["STU Soil Type","Sandy Clay Loam (0.17 in/hr)"]
[null,"Silt Loam (0.27 in/hr)"]
[null,"Loam (0.52 in/hr)"]
[null,"Sandy Loam (1.02 in/hr)"]
[null,"Loamy Sand (2.41 in/hr)"]
[null,"Sand (8.27 in/hr)"]
[null,"Clay (0.02 in/hr)"]
[null,"Silty Clay (0.04 in/hr)"]
[null,"Sandy Clay (0.05 in/hr)"]
[null,"Silty Clay Loam (0.06 in/hr)"]
[null,"Clay Loam (0.09 in/hr)"]
[null,"Unknown"]
[]
["HSG Soil Type","HSG-A, pervious"]
[null,"HSG-B, pervious"]
[null,"HSG-C, pervious"]
[null,"HSG-D, pervious"]
[null,"Unknown soil type, pervious"]
[null,"Impervious cover"]
[null,"Forest"]
[null,"Grass"]
[]
["BMP","Bioretention Basin"]
[null,"Bioretention Curb Extension Planter"]
[null,"Bioretention Curb Inlet Planter"]
[null,"Bioretention Parking Lane Adjacent Planter"]
[null,"Bioretention Swale"]
[null,"Extended Detention Basin"]
[null,"Gravel Wetland (WVTS)"]
[null,"Hydrodynamic Separator"]
[null,"Infiltration Basin"]
[null,"Infiltration Gutter"]
[null,"Infiltration Swale"]
[null,"Infiltration Trench"]
[null,"Jellyfish Filter"]
[null,"Leaching Basin"]
[null,"MWS-Linear"]
[null,"Porous Pavement"]
[null,"Porous Pavement With Storage"]
[null,"Porous Pavement With Underdrain"]
[null,"Sand Filter"]
[null,"Sand Filter (Exfiltrating)"]
[null,"Stormceptor"]
[null,"Tree Filter"]
[null,"Tree Filter With Storage"]
[null,"Underground Infiltration System"]
[null,"Water Quality Grass Swale w/ Detention"]
[null,"Wet Pond"]
[null,"Wet Swale"]
[null,"Wet Vegetated Treatment System"]
[null,"IC Disconnection"]
[null,"Non-Discharge"]
[null,"Pavement Removal"]
[]
["Yes_No","Yes"]
[null,"No"]
[]
["Project Limits","Inside the Project Limits"]
[null,"Outside the Project Limits"]
[]
["STU Exists","Existing "]
[null,"Proposed"]
[]
["STU Tier","Tier 1"]
[]
[]
["Non-Discharge Definition","Definition 1"]
[null,"Definition 2"]